Workbook
Name °B1: 'Talnagögn | Numerical Data'!$G$261

Sheet Upplýsingar | Information
B2: Upplýsingar um skjalið
A4: Gögn byggð á Data based on | B4: Skil Umhverfis- og orkustofnunar til ESB í júlí 2026 Environment and Energy Agency of Iceland's submission to the EU in July 2026
B5: Losunartölur byggðar á hnatthlýnunarmætti úr fimmtu matsskýrslu (AR5) milliríkjanefndar um loftslagsbreyingar (IPCC). Greenhouse gas emissions inventory based on potency from the Intergovernmental Panel on Climate Change's (IPCC) 5th Assessment Report (AR5).
A6: Athugasemd Notes | B6: Næsta gagnabirting er áætluð í janúar 2027 Next data release is scheduled for January 2027
A7: Skjalaumsjón Responsible for this file | B7: Chanee Jónsdóttir Thianthong, Umhverfis- og orkustofnun/Icelandic Environment and Energy Agency
B9: Losunartölurnar í skjalinu miða við ofangreinda dagsetningu. Losunarbókhald Íslands er í stöðugri endurskoðun og því geta losunartölurnar tekið breytingum. The numbers in this document were last updated on the above date. Iceland's greenhouse gas inventory is under constant review and, as a result, the numbers can change from time to time.

Sheet Skuldbindingar | Obligations
A1: 2025 | B1: 1990 | E1: LOSUN GRÓÐURHÚSALOFTTEGUNDA Á ÍSLANDI EFTIR SKULDBINDINGUM | U1: EMISSION OF GREENHOUSE GASES ACCORDING TO OBLIGATIONS
B2: 2005
B3: =$A$1-1 -> 2024
B4: 2030
B5: 2055 | E5: ="STAÐAN ÁRIÐ "&$A$1 -> STAÐAN ÁRIÐ 2025 | M5: FRAMTÍÐARHORFUR | N5: Áætluð breyting í losun milli 2005 og 2030 | U5: =$A$1&" EMISSIONS" -> 2025 EMISSIONS | AC5: OUTLOOKS | AD5: Estimated change in emissions between 2005 and 2030
F6: ="Losun "&$A$1 -> Losun 2025 | H6: ="Breyting frá "&$B$3 -> Breyting frá 2024 | J6: ="Breyting frá "&$B$2 -> Breyting frá 2005 | N6: ='Talnagögn | Numerical Data'!$E$14 -> Losunarspá: Sviðsmynd byggð á aðgerðum stjórnvalda | V6: ="Emissions in "&$A$1 -> Emissions in 2025 | X6: ="Change from "&$B$3 -> Change from 2024 | Z6: ="Change from "&$B$2 -> Change from 2005 | AD6: ='Talnagögn | Numerical Data'!$G$14 -> Emission Projections: Government Policy-Based Scenario
F7: Þús. tonn CO₂-íg. | G7: % | H7: =$F$7 -> Þús. tonn CO₂-íg. | I7: % | J7: =$F$7 -> Þús. tonn CO₂-íg. | K7: % | N7: =$F$7 -> Þús. tonn CO₂-íg. | O7: % | V7: Thousand tons CO₂e | W7: % | X7: =$V$7 -> Thousand tons CO₂e | Y7: % | Z7: =$V$7 -> Thousand tons CO₂e | AA7: % | AD7: =$V$7 -> Thousand tons CO₂e | AE7: %
A8: ESR Historical | B8: ESR WEM | E8: Samfélagslosun | M8: Samfélagslosun | U8: Effort Sharing Regulation | AC8: Effort Sharing Regulation
A9: JCD2005 | C9: ESR WAM | E9: Samkvæmt losunarbókhaldi | F9: {=INDEX('Talnagögn | Numerical Data'!$1:$1048576, _xlfn.XMATCH($A8,'Talnagögn | Numerical Data'!$C:$C), _xlfn.XMATCH($A$1,'Talnagögn | Numerical Data'!$1:$1))} -> 2793.7564 | G9: =F9/$F$14 -> 0.26431608 | H9: {=INDEX('Talnagögn | Numerical Data'!$1:$1048576, _xlfn.XMATCH($A8,'Talnagögn | Numerical Data'!$C:$C), _xlfn.XMATCH($A$1,'Talnagögn | Numerical Data'!$1:$1))-INDEX('Talnagögn | Numerical Data'!$1:$1048576, _xlfn.XMATCH($A8,'Talnagögn | Numerical Data'!$C:$C), _xlfn.XMATCH($B$3,'Talnagögn | Numerical Data'!$1:$1))} -> -78.839915 | I9: {=INDEX('Talnagögn | Numerical Data'!$1:$1048576, _xlfn.XMATCH($A8,'Talnagögn | Numerical Data'!$C:$C), _xlfn.XMATCH($A$1,'Talnagögn | Numerical Data'!$1:$1))/INDEX('Talnagögn | Numerical Data'!$1:$1048576, _xlfn.XMATCH($A8,'Talnagögn | Numerical Data'!$C:$C), _xlfn.XMATCH($B$3,'Talnagögn | Numerical Data'!$1:$1))-1} -> -0.027445525 | J9: {=INDEX('Talnagögn | Numerical Data'!$1:$1048576, _xlfn.XMATCH($A8,'Talnagögn | Numerical Data'!$C:$C), _xlfn.XMATCH($A$1,'Talnagögn | Numerical Data'!$1:$1))-INDEX('Talnagögn | Numerical Data'!$1:$1048576, _xlfn.XMATCH($A8,'Talnagögn | Numerical Data'!$C:$C), _xlfn.XMATCH($B$2,'Talnagögn | Numerical Data'!$1:$1))} -> -434.84016 | K9: {=INDEX('Talnagögn | Numerical Data'!$1:$1048576, _xlfn.XMATCH($A8,'Talnagögn | Numerical Data'!$C:$C), _xlfn.XMATCH($A$1,'Talnagögn | Numerical Data'!$1:$1))/INDEX('Talnagögn | Numerical Data'!$1:$1048576, _xlfn.XMATCH($A8,'Talnagögn | Numerical Data'!$C:$C), _xlfn.XMATCH($B$2,'Talnagögn | Numerical Data'!$1:$1))-1} -> -0.13468396 | M9: Samkvæmt losunarbókhaldi | N9: {=INDEX('Talnagögn | Numerical Data'!$1:$1048576, _xlfn.XMATCH($B8,'Talnagögn | Numerical Data'!$C:$C), _xlfn.XMATCH($B$4,'Talnagögn | Numerical Data'!$1:$1))-INDEX('Talnagögn | Numerical Data'!$1:$1048576, _xlfn.XMATCH($A8,'Talnagögn | Numerical Data'!$C:$C), _xlfn.XMATCH($B$2,'Talnagögn | Numerical Data'!$1:$1))} -> -766.94915 | O9: {=INDEX('Talnagögn | Numerical Data'!$1:$1048576, _xlfn.XMATCH($B8,'Talnagögn | Numerical Data'!$C:$C), _xlfn.XMATCH($B$4,'Talnagögn | Numerical Data'!$1:$1))/INDEX('Talnagögn | Numerical Data'!$1:$1048576, _xlfn.XMATCH($A8,'Talnagögn | Numerical Data'!$C:$C), _xlfn.XMATCH($B$2,'Talnagögn | Numerical Data'!$1:$1))-1} -> -0.23754877 | U9: According to national inventory | V9: {=INDEX('Talnagögn | Numerical Data'!$1:$1048576, _xlfn.XMATCH($A8,'Talnagögn | Numerical Data'!$C:$C), _xlfn.XMATCH($A$1,'Talnagögn | Numerical Data'!$1:$1))} -> 2793.7564 | W9: =V9/$F$14 -> 0.26431608 | X9: {=INDEX('Talnagögn | Numerical Data'!$1:$1048576, _xlfn.XMATCH($A8,'Talnagögn | Numerical Data'!$C:$C), _xlfn.XMATCH($A$1,'Talnagögn | Numerical Data'!$1:$1))-INDEX('Talnagögn | Numerical Data'!$1:$1048576, _xlfn.XMATCH($A8,'Talnagögn | Numerical Data'!$C:$C), _xlfn.XMATCH($B$3,'Talnagögn | Numerical Data'!$1:$1))} -> -78.839915 | Y9: {=INDEX('Talnagögn | Numerical Data'!$1:$1048576, _xlfn.XMATCH($A8,'Talnagögn | Numerical Data'!$C:$C), _xlfn.XMATCH($A$1,'Talnagögn | Numerical Data'!$1:$1))/INDEX('Talnagögn | Numerical Data'!$1:$1048576, _xlfn.XMATCH($A8,'Talnagögn | Numerical Data'!$C:$C), _xlfn.XMATCH($B$3,'Talnagögn | Numerical Data'!$1:$1))-1} -> -0.027445525 | Z9: {=INDEX('Talnagögn | Numerical Data'!$1:$1048576, _xlfn.XMATCH($A8,'Talnagögn | Numerical Data'!$C:$C), _xlfn.XMATCH($A$1,'Talnagögn | Numerical Data'!$1:$1))-INDEX('Talnagögn | Numerical Data'!$1:$1048576, _xlfn.XMATCH($A8,'Talnagögn | Numerical Data'!$C:$C), _xlfn.XMATCH($B$2,'Talnagögn | Numerical Data'!$1:$1))} -> -434.84016 | AA9: {=INDEX('Talnagögn | Numerical Data'!$1:$1048576, _xlfn.XMATCH($A8,'Talnagögn | Numerical Data'!$C:$C), _xlfn.XMATCH($A$1,'Talnagögn | Numerical Data'!$1:$1))/INDEX('Talnagögn | Numerical Data'!$1:$1048576, _xlfn.XMATCH($A8,'Talnagögn | Numerical Data'!$C:$C), _xlfn.XMATCH($B$2,'Talnagögn | Numerical Data'!$1:$1))-1} -> -0.13468396 | AC9: According to national inventory | AD9: {=INDEX('Talnagögn | Numerical Data'!$1:$1048576, _xlfn.XMATCH($B8,'Talnagögn | Numerical Data'!$C:$C), _xlfn.XMATCH($B$4,'Talnagögn | Numerical Data'!$1:$1))-INDEX('Talnagögn | Numerical Data'!$1:$1048576, _xlfn.XMATCH($A8,'Talnagögn | Numerical Data'!$C:$C), _xlfn.XMATCH($B$2,'Talnagögn | Numerical Data'!$1:$1))} -> -766.94915 | AE9: {=INDEX('Talnagögn | Numerical Data'!$1:$1048576, _xlfn.XMATCH($B8,'Talnagögn | Numerical Data'!$C:$C), _xlfn.XMATCH($B$4,'Talnagögn | Numerical Data'!$1:$1))/INDEX('Talnagögn | Numerical Data'!$1:$1048576, _xlfn.XMATCH($A8,'Talnagögn | Numerical Data'!$C:$C), _xlfn.XMATCH($B$2,'Talnagögn | Numerical Data'!$1:$1))-1} -> -0.23754877
A10: LULUCF Historical | B10: LULUCF WEM | E10: Samkvæmt JCD 29/2022* | F10: — | G10: — | H10: — | I10: — | J10: {=INDEX('Talnagögn | Numerical Data'!$1:$1048576, _xlfn.XMATCH($A8,'Talnagögn | Numerical Data'!$C:$C), _xlfn.XMATCH($A$1,'Talnagögn | Numerical Data'!$1:$1))-INDEX('Talnagögn | Numerical Data'!$1:$1048576, _xlfn.XMATCH($A9,'Talnagögn | Numerical Data'!$C:$C), _xlfn.XMATCH($B$2,'Talnagögn | Numerical Data'!$1:$1))} -> -315.57258 | K10: {=INDEX('Talnagögn | Numerical Data'!$1:$1048576, _xlfn.XMATCH($A8,'Talnagögn | Numerical Data'!$C:$C), _xlfn.XMATCH($A$1,'Talnagögn | Numerical Data'!$1:$1))/INDEX('Talnagögn | Numerical Data'!$1:$1048576, _xlfn.XMATCH($A9,'Talnagögn | Numerical Data'!$C:$C), _xlfn.XMATCH($B$2,'Talnagögn | Numerical Data'!$1:$1))-1} -> -0.10149218 | M10: Samkvæmt JCD 29/2022* | N10: {=INDEX('Talnagögn | Numerical Data'!$1:$1048576, _xlfn.XMATCH($B8,'Talnagögn | Numerical Data'!$C:$C), _xlfn.XMATCH($B$4,'Talnagögn | Numerical Data'!$1:$1))-INDEX('Talnagögn | Numerical Data'!$1:$1048576, _xlfn.XMATCH($A9,'Talnagögn | Numerical Data'!$B:$B), _xlfn.XMATCH($B$2,'Talnagögn | Numerical Data'!$1:$1))} -> -647.68157 | O10: {=INDEX('Talnagögn | Numerical Data'!$1:$1048576, _xlfn.XMATCH($B8,'Talnagögn | Numerical Data'!$C:$C), _xlfn.XMATCH($B$4,'Talnagögn | Numerical Data'!$1:$1))/INDEX('Talnagögn | Numerical Data'!$1:$1048576, _xlfn.XMATCH($A9,'Talnagögn | Numerical Data'!$C:$C), _xlfn.XMATCH($B$2,'Talnagögn | Numerical Data'!$1:$1))-1} -> -0.20830268 | U10: According to JCD 29/2022* | V10: — | W10: — | X10: — | Y10: — | Z10: {=INDEX('Talnagögn | Numerical Data'!$1:$1048576, _xlfn.XMATCH($A8,'Talnagögn | Numerical Data'!$C:$C), _xlfn.XMATCH($A$1,'Talnagögn | Numerical Data'!$1:$1))-INDEX('Talnagögn | Numerical Data'!$1:$1048576, _xlfn.XMATCH($A9,'Talnagögn | Numerical Data'!$C:$C), _xlfn.XMATCH($B$2,'Talnagögn | Numerical Data'!$1:$1))} -> -315.57258 | AA10: {=INDEX('Talnagögn | Numerical Data'!$1:$1048576, _xlfn.XMATCH($A8,'Talnagögn | Numerical Data'!$C:$C), _xlfn.XMATCH($A$1,'Talnagögn | Numerical Data'!$1:$1))/INDEX('Talnagögn | Numerical Data'!$1:$1048576, _xlfn.XMATCH($A9,'Talnagögn | Numerical Data'!$C:$C), _xlfn.XMATCH($B$2,'Talnagögn | Numerical Data'!$1:$1))-1} -> -0.10149218 | AC10: According to JCD 29/2022* | AD10: {=INDEX('Talnagögn | Numerical Data'!$1:$1048576, _xlfn.XMATCH($B8,'Talnagögn | Numerical Data'!$C:$C), _xlfn.XMATCH($B$4,'Talnagögn | Numerical Data'!$1:$1))-INDEX('Talnagögn | Numerical Data'!$1:$1048576, _xlfn.XMATCH($A9,'Talnagögn | Numerical Data'!$B:$B), _xlfn.XMATCH($B$2,'Talnagögn | Numerical Data'!$1:$1))} -> -647.68157 | AE10: {=INDEX('Talnagögn | Numerical Data'!$1:$1048576, _xlfn.XMATCH($B8,'Talnagögn | Numerical Data'!$C:$C), _xlfn.XMATCH($B$4,'Talnagögn | Numerical Data'!$1:$1))/INDEX('Talnagögn | Numerical Data'!$1:$1048576, _xlfn.XMATCH($A9,'Talnagögn | Numerical Data'!$C:$C), _xlfn.XMATCH($B$2,'Talnagögn | Numerical Data'!$1:$1))-1} -> -0.20830268
A11: ETS Historical | B11: ETS WEM | E11: Landnotkun | F11: {=INDEX('Talnagögn | Numerical Data'!$1:$1048576, _xlfn.XMATCH($A10,'Talnagögn | Numerical Data'!$C:$C), _xlfn.XMATCH($A$1,'Talnagögn | Numerical Data'!1:1))} -> 6080.341 | G11: =F11/$F$14 -> 0.57525841 | H11: {=INDEX('Talnagögn | Numerical Data'!$1:$1048576, _xlfn.XMATCH($A$10,'Talnagögn | Numerical Data'!$C:$C), _xlfn.XMATCH($A$1,'Talnagögn | Numerical Data'!$1:$1))-INDEX('Talnagögn | Numerical Data'!$1:$1048576, _xlfn.XMATCH($A$10,'Talnagögn | Numerical Data'!$C:$C), _xlfn.XMATCH($B$3,'Talnagögn | Numerical Data'!$1:$1))} -> -135.57528 | I11: {=INDEX('Talnagögn | Numerical Data'!$1:$1048576, _xlfn.XMATCH($A$10,'Talnagögn | Numerical Data'!$C:$C), _xlfn.XMATCH($A$1,'Talnagögn | Numerical Data'!$1:$1))/INDEX('Talnagögn | Numerical Data'!$1:$1048576, _xlfn.XMATCH($A$10,'Talnagögn | Numerical Data'!$C:$C), _xlfn.XMATCH($B$3,'Talnagögn | Numerical Data'!$1:$1))-1} -> -0.021810989 | J11: {=INDEX('Talnagögn | Numerical Data'!$1:$1048576, _xlfn.XMATCH($A$10,'Talnagögn | Numerical Data'!$C:$C), _xlfn.XMATCH($A$1,'Talnagögn | Numerical Data'!$1:$1))-INDEX('Talnagögn | Numerical Data'!$1:$1048576, _xlfn.XMATCH($A$10,'Talnagögn | Numerical Data'!$C:$C), _xlfn.XMATCH($B$2,'Talnagögn | Numerical Data'!$1:$1))} -> -568.72412 | K11: {=INDEX('Talnagögn | Numerical Data'!$1:$1048576, _xlfn.XMATCH($A$10,'Talnagögn | Numerical Data'!$C:$C), _xlfn.XMATCH($A$1,'Talnagögn | Numerical Data'!$1:$1))/INDEX('Talnagögn | Numerical Data'!$1:$1048576, _xlfn.XMATCH($A$10,'Talnagögn | Numerical Data'!$C:$C), _xlfn.XMATCH($B$2,'Talnagögn | Numerical Data'!$1:$1))-1} -> -0.085534449 | M11: Landnotkun | N11: {=INDEX('Talnagögn | Numerical Data'!$1:$1048576, _xlfn.XMATCH($B10,'Talnagögn | Numerical Data'!$C:$C), _xlfn.XMATCH($B$4,'Talnagögn | Numerical Data'!$1:$1))-INDEX('Talnagögn | Numerical Data'!$1:$1048576, _xlfn.XMATCH($A10,'Talnagögn | Numerical Data'!$C:$C), _xlfn.XMATCH($B$2,'Talnagögn | Numerical Data'!$1:$1))} -> -1129.7228 | O11: {=INDEX('Talnagögn | Numerical Data'!$1:$1048576, _xlfn.XMATCH($B10,'Talnagögn | Numerical Data'!$C:$C), _xlfn.XMATCH($B$4,'Talnagögn | Numerical Data'!$1:$1))/INDEX('Talnagögn | Numerical Data'!$1:$1048576, _xlfn.XMATCH($A10,'Talnagögn | Numerical Data'!$C:$C), _xlfn.XMATCH($B$2,'Talnagögn | Numerical Data'!$1:$1))-1} -> -0.16990702 | U11: LULUCF | V11: {=INDEX('Talnagögn | Numerical Data'!$1:$1048576, _xlfn.XMATCH($A10,'Talnagögn | Numerical Data'!$C:$C), _xlfn.XMATCH($A$1,'Talnagögn | Numerical Data'!1:1))} -> 6080.341 | W11: =V11/$F$14 -> 0.57525841 | X11: {=INDEX('Talnagögn | Numerical Data'!$1:$1048576, _xlfn.XMATCH($A$10,'Talnagögn | Numerical Data'!$C:$C), _xlfn.XMATCH($A$1,'Talnagögn | Numerical Data'!$1:$1))-INDEX('Talnagögn | Numerical Data'!$1:$1048576, _xlfn.XMATCH($A$10,'Talnagögn | Numerical Data'!$C:$C), _xlfn.XMATCH($B$3,'Talnagögn | Numerical Data'!$1:$1))} -> -135.57528 | Y11: {=INDEX('Talnagögn | Numerical Data'!$1:$1048576, _xlfn.XMATCH($A$10,'Talnagögn | Numerical Data'!$C:$C), _xlfn.XMATCH($A$1,'Talnagögn | Numerical Data'!$1:$1))/INDEX('Talnagögn | Numerical Data'!$1:$1048576, _xlfn.XMATCH($A$10,'Talnagögn | Numerical Data'!$C:$C), _xlfn.XMATCH($B$3,'Talnagögn | Numerical Data'!$1:$1))-1} -> -0.021810989 | Z11: {=INDEX('Talnagögn | Numerical Data'!$1:$1048576, _xlfn.XMATCH($A$10,'Talnagögn | Numerical Data'!$C:$C), _xlfn.XMATCH($A$1,'Talnagögn | Numerical Data'!$1:$1))-INDEX('Talnagögn | Numerical Data'!$1:$1048576, _xlfn.XMATCH($A$10,'Talnagögn | Numerical Data'!$C:$C), _xlfn.XMATCH($B$2,'Talnagögn | Numerical Data'!$1:$1))} -> -568.72412 | AA11: {=INDEX('Talnagögn | Numerical Data'!$1:$1048576, _xlfn.XMATCH($A$10,'Talnagögn | Numerical Data'!$C:$C), _xlfn.XMATCH($A$1,'Talnagögn | Numerical Data'!$1:$1))/INDEX('Talnagögn | Numerical Data'!$1:$1048576, _xlfn.XMATCH($A$10,'Talnagögn | Numerical Data'!$C:$C), _xlfn.XMATCH($B$2,'Talnagögn | Numerical Data'!$1:$1))-1} -> -0.085534449 | AC11: LULUCF | AD11: {=INDEX('Talnagögn | Numerical Data'!$1:$1048576, _xlfn.XMATCH($B10,'Talnagögn | Numerical Data'!$C:$C), _xlfn.XMATCH($B$4,'Talnagögn | Numerical Data'!$1:$1))-INDEX('Talnagögn | Numerical Data'!$1:$1048576, _xlfn.XMATCH($A10,'Talnagögn | Numerical Data'!$C:$C), _xlfn.XMATCH($B$2,'Talnagögn | Numerical Data'!$1:$1))} -> -1129.7228 | AE11: {=INDEX('Talnagögn | Numerical Data'!$1:$1048576, _xlfn.XMATCH($B10,'Talnagögn | Numerical Data'!$C:$C), _xlfn.XMATCH($B$4,'Talnagögn | Numerical Data'!$1:$1))/INDEX('Talnagögn | Numerical Data'!$1:$1048576, _xlfn.XMATCH($A10,'Talnagögn | Numerical Data'!$C:$C), _xlfn.XMATCH($B$2,'Talnagögn | Numerical Data'!$1:$1))-1} -> -0.16990702
A12: DomAvi Historical | B12: DomAvi WEM | E12: ETS** staðbundinn iðnaður | F12: {=INDEX('Talnagögn | Numerical Data'!$1:$1048576, _xlfn.XMATCH($A11,'Talnagögn | Numerical Data'!$C:$C), _xlfn.XMATCH($A$1,'Talnagögn | Numerical Data'!$1:$1))} -> 1676.5844 | G12: =F12/$F$14 -> 0.15862092 | H12: {=INDEX('Talnagögn | Numerical Data'!$1:$1048576, _xlfn.XMATCH($A$11,'Talnagögn | Numerical Data'!$C:$C), _xlfn.XMATCH($A$1,'Talnagögn | Numerical Data'!$1:$1))-INDEX('Talnagögn | Numerical Data'!$1:$1048576, _xlfn.XMATCH($A$11,'Talnagögn | Numerical Data'!$C:$C), _xlfn.XMATCH($B$3,'Talnagögn | Numerical Data'!$1:$1))} -> -212.56963 | I12: {=INDEX('Talnagögn | Numerical Data'!$1:$1048576, _xlfn.XMATCH($A$11,'Talnagögn | Numerical Data'!$C:$C), _xlfn.XMATCH($A$1,'Talnagögn | Numerical Data'!$1:$1))/INDEX('Talnagögn | Numerical Data'!$1:$1048576, _xlfn.XMATCH($A$11,'Talnagögn | Numerical Data'!$C:$C), _xlfn.XMATCH($B$3,'Talnagögn | Numerical Data'!$1:$1))-1} -> -0.11252107 | J12: {=INDEX('Talnagögn | Numerical Data'!$1:$1048576, _xlfn.XMATCH($A$11,'Talnagögn | Numerical Data'!$C:$C), _xlfn.XMATCH($A$1,'Talnagögn | Numerical Data'!$1:$1))-INDEX('Talnagögn | Numerical Data'!$1:$1048576, _xlfn.XMATCH($A$11,'Talnagögn | Numerical Data'!$C:$C), _xlfn.XMATCH($B$2,'Talnagögn | Numerical Data'!$1:$1))} -> 823.70144 | K12: {=INDEX('Talnagögn | Numerical Data'!$1:$1048576, _xlfn.XMATCH($A$11,'Talnagögn | Numerical Data'!$C:$C), _xlfn.XMATCH($A$1,'Talnagögn | Numerical Data'!$1:$1))/INDEX('Talnagögn | Numerical Data'!$1:$1048576, _xlfn.XMATCH($A$11,'Talnagögn | Numerical Data'!$C:$C), _xlfn.XMATCH($B$2,'Talnagögn | Numerical Data'!$1:$1))-1} -> 0.96578488 | M12: ETS** staðbundinn iðnaður | N12: {=INDEX('Talnagögn | Numerical Data'!$1:$1048576, _xlfn.XMATCH($B11,'Talnagögn | Numerical Data'!$C:$C), _xlfn.XMATCH($B$4,'Talnagögn | Numerical Data'!$1:$1))-INDEX('Talnagögn | Numerical Data'!$1:$1048576, _xlfn.XMATCH($A11,'Talnagögn | Numerical Data'!$C:$C), _xlfn.XMATCH($B$2,'Talnagögn | Numerical Data'!$1:$1))} -> 1060.8327 | O12: {=INDEX('Talnagögn | Numerical Data'!$1:$1048576, _xlfn.XMATCH($B11,'Talnagögn | Numerical Data'!$C:$C), _xlfn.XMATCH($B$4,'Talnagögn | Numerical Data'!$1:$1))/INDEX('Talnagögn | Numerical Data'!$1:$1048576, _xlfn.XMATCH($A11,'Talnagögn | Numerical Data'!$C:$C), _xlfn.XMATCH($B$2,'Talnagögn | Numerical Data'!$1:$1))-1} -> 1.2438198 | U12: ETS Stationary Industries** | V12: {=INDEX('Talnagögn | Numerical Data'!$1:$1048576, _xlfn.XMATCH($A11,'Talnagögn | Numerical Data'!$C:$C), _xlfn.XMATCH($A$1,'Talnagögn | Numerical Data'!$1:$1))} -> 1676.5844 | W12: =V12/$F$14 -> 0.15862092 | X12: {=INDEX('Talnagögn | Numerical Data'!$1:$1048576, _xlfn.XMATCH($A$11,'Talnagögn | Numerical Data'!$C:$C), _xlfn.XMATCH($A$1,'Talnagögn | Numerical Data'!$1:$1))-INDEX('Talnagögn | Numerical Data'!$1:$1048576, _xlfn.XMATCH($A$11,'Talnagögn | Numerical Data'!$C:$C), _xlfn.XMATCH($B$3,'Talnagögn | Numerical Data'!$1:$1))} -> -212.56963 | Y12: {=INDEX('Talnagögn | Numerical Data'!$1:$1048576, _xlfn.XMATCH($A$11,'Talnagögn | Numerical Data'!$C:$C), _xlfn.XMATCH($A$1,'Talnagögn | Numerical Data'!$1:$1))/INDEX('Talnagögn | Numerical Data'!$1:$1048576, _xlfn.XMATCH($A$11,'Talnagögn | Numerical Data'!$C:$C), _xlfn.XMATCH($B$3,'Talnagögn | Numerical Data'!$1:$1))-1} -> -0.11252107 | Z12: {=INDEX('Talnagögn | Numerical Data'!$1:$1048576, _xlfn.XMATCH($A$11,'Talnagögn | Numerical Data'!$C:$C), _xlfn.XMATCH($A$1,'Talnagögn | Numerical Data'!$1:$1))-INDEX('Talnagögn | Numerical Data'!$1:$1048576, _xlfn.XMATCH($A$11,'Talnagögn | Numerical Data'!$C:$C), _xlfn.XMATCH($B$2,'Talnagögn | Numerical Data'!$1:$1))} -> 823.70144 | AA12: {=INDEX('Talnagögn | Numerical Data'!$1:$1048576, _xlfn.XMATCH($A$11,'Talnagögn | Numerical Data'!$C:$C), _xlfn.XMATCH($A$1,'Talnagögn | Numerical Data'!$1:$1))/INDEX('Talnagögn | Numerical Data'!$1:$1048576, _xlfn.XMATCH($A$11,'Talnagögn | Numerical Data'!$C:$C), _xlfn.XMATCH($B$2,'Talnagögn | Numerical Data'!$1:$1))-1} -> 0.96578488 | AC12: ETS Stationary Industry** | AD12: {=INDEX('Talnagögn | Numerical Data'!$1:$1048576, _xlfn.XMATCH($B11,'Talnagögn | Numerical Data'!$C:$C), _xlfn.XMATCH($B$4,'Talnagögn | Numerical Data'!$1:$1))-INDEX('Talnagögn | Numerical Data'!$1:$1048576, _xlfn.XMATCH($A11,'Talnagögn | Numerical Data'!$C:$C), _xlfn.XMATCH($B$2,'Talnagögn | Numerical Data'!$1:$1))} -> 1060.8327 | AE12: {=INDEX('Talnagögn | Numerical Data'!$1:$1048576, _xlfn.XMATCH($B11,'Talnagögn | Numerical Data'!$C:$C), _xlfn.XMATCH($B$4,'Talnagögn | Numerical Data'!$1:$1))/INDEX('Talnagögn | Numerical Data'!$1:$1048576, _xlfn.XMATCH($A11,'Talnagögn | Numerical Data'!$C:$C), _xlfn.XMATCH($B$2,'Talnagögn | Numerical Data'!$1:$1))-1} -> 1.2438198
A13: NatTot_W_LULUCF Historical | B13: NatTot_W_LULUCF WEM | C13: DomAvi WAM | E13: Innanlandsflug (CO₂)*** | F13: {=INDEX('Talnagögn | Numerical Data'!$1:$1048576, _xlfn.XMATCH($A12,'Talnagögn | Numerical Data'!$C:$C), _xlfn.XMATCH($A$1,'Talnagögn | Numerical Data'!$1:$1))} -> 19.074137 | G13: =F13/$F$14 -> 0.0018045957 | H13: {=INDEX('Talnagögn | Numerical Data'!$1:$1048576, _xlfn.XMATCH($A12,'Talnagögn | Numerical Data'!$C:$C), _xlfn.XMATCH($A$1,'Talnagögn | Numerical Data'!$1:$1))-INDEX('Talnagögn | Numerical Data'!$1:$1048576, _xlfn.XMATCH($A12,'Talnagögn | Numerical Data'!$C:$C), _xlfn.XMATCH($B$3,'Talnagögn | Numerical Data'!$1:$1))} -> -1.27001 | I13: {=INDEX('Talnagögn | Numerical Data'!$1:$1048576, _xlfn.XMATCH($A12,'Talnagögn | Numerical Data'!$C:$C), _xlfn.XMATCH($A$1,'Talnagögn | Numerical Data'!$1:$1))/INDEX('Talnagögn | Numerical Data'!$1:$1048576, _xlfn.XMATCH($A12,'Talnagögn | Numerical Data'!$C:$C), _xlfn.XMATCH($B$3,'Talnagögn | Numerical Data'!$1:$1))-1} -> -0.062426311 | J13: {=INDEX('Talnagögn | Numerical Data'!$1:$1048576, _xlfn.XMATCH($A12,'Talnagögn | Numerical Data'!$C:$C), _xlfn.XMATCH($A$1,'Talnagögn | Numerical Data'!$1:$1))-INDEX('Talnagögn | Numerical Data'!$1:$1048576, _xlfn.XMATCH($A12,'Talnagögn | Numerical Data'!$C:$C), _xlfn.XMATCH($B$2,'Talnagögn | Numerical Data'!$1:$1))} -> -6.9330016 | K13: {=INDEX('Talnagögn | Numerical Data'!$1:$1048576, _xlfn.XMATCH($A12,'Talnagögn | Numerical Data'!$C:$C), _xlfn.XMATCH($A$1,'Talnagögn | Numerical Data'!$1:$1))/INDEX('Talnagögn | Numerical Data'!$1:$1048576, _xlfn.XMATCH($A12,'Talnagögn | Numerical Data'!$C:$C), _xlfn.XMATCH($B$2,'Talnagögn | Numerical Data'!$1:$1))-1} -> -0.26658072 | M13: Innanlandsflug (CO₂)*** | N13: {=INDEX('Talnagögn | Numerical Data'!$1:$1048576, _xlfn.XMATCH($B12,'Talnagögn | Numerical Data'!$C:$C), _xlfn.XMATCH($B$4,'Talnagögn | Numerical Data'!$1:$1))-INDEX('Talnagögn | Numerical Data'!$1:$1048576, _xlfn.XMATCH($A12,'Talnagögn | Numerical Data'!$C:$C), _xlfn.XMATCH($B$2,'Talnagögn | Numerical Data'!$1:$1))} -> -6.6087544 | O13: {=INDEX('Talnagögn | Numerical Data'!$1:$1048576, _xlfn.XMATCH($B12,'Talnagögn | Numerical Data'!$C:$C), _xlfn.XMATCH($B$4,'Talnagögn | Numerical Data'!$1:$1))/INDEX('Talnagögn | Numerical Data'!$1:$1048576, _xlfn.XMATCH($A12,'Talnagögn | Numerical Data'!$C:$C), _xlfn.XMATCH($B$2,'Talnagögn | Numerical Data'!$1:$1))-1} -> -0.2541131 | U13: Domestic aviation (CO₂)*** | V13: {=INDEX('Talnagögn | Numerical Data'!$1:$1048576, _xlfn.XMATCH($A12,'Talnagögn | Numerical Data'!$C:$C), _xlfn.XMATCH($A$1,'Talnagögn | Numerical Data'!$1:$1))} -> 19.074137 | W13: =V13/$F$14 -> 0.0018045957 | X13: {=INDEX('Talnagögn | Numerical Data'!$1:$1048576, _xlfn.XMATCH($A12,'Talnagögn | Numerical Data'!$C:$C), _xlfn.XMATCH($A$1,'Talnagögn | Numerical Data'!$1:$1))-INDEX('Talnagögn | Numerical Data'!$1:$1048576, _xlfn.XMATCH($A12,'Talnagögn | Numerical Data'!$C:$C), _xlfn.XMATCH($B$3,'Talnagögn | Numerical Data'!$1:$1))} -> -1.27001 | Y13: {=INDEX('Talnagögn | Numerical Data'!$1:$1048576, _xlfn.XMATCH($A12,'Talnagögn | Numerical Data'!$C:$C), _xlfn.XMATCH($A$1,'Talnagögn | Numerical Data'!$1:$1))/INDEX('Talnagögn | Numerical Data'!$1:$1048576, _xlfn.XMATCH($A12,'Talnagögn | Numerical Data'!$C:$C), _xlfn.XMATCH($B$3,'Talnagögn | Numerical Data'!$1:$1))-1} -> -0.062426311 | Z13: {=INDEX('Talnagögn | Numerical Data'!$1:$1048576, _xlfn.XMATCH($A12,'Talnagögn | Numerical Data'!$C:$C), _xlfn.XMATCH($A$1,'Talnagögn | Numerical Data'!$1:$1))-INDEX('Talnagögn | Numerical Data'!$1:$1048576, _xlfn.XMATCH($A12,'Talnagögn | Numerical Data'!$C:$C), _xlfn.XMATCH($B$2,'Talnagögn | Numerical Data'!$1:$1))} -> -6.9330016 | AA13: {=INDEX('Talnagögn | Numerical Data'!$1:$1048576, _xlfn.XMATCH($A12,'Talnagögn | Numerical Data'!$C:$C), _xlfn.XMATCH($A$1,'Talnagögn | Numerical Data'!$1:$1))/INDEX('Talnagögn | Numerical Data'!$1:$1048576, _xlfn.XMATCH($A12,'Talnagögn | Numerical Data'!$C:$C), _xlfn.XMATCH($B$2,'Talnagögn | Numerical Data'!$1:$1))-1} -> -0.26658072 | AC13: Domestic aviation (CO₂)*** | AD13: {=INDEX('Talnagögn | Numerical Data'!$1:$1048576, _xlfn.XMATCH($B12,'Talnagögn | Numerical Data'!$C:$C), _xlfn.XMATCH($B$4,'Talnagögn | Numerical Data'!$1:$1))-INDEX('Talnagögn | Numerical Data'!$1:$1048576, _xlfn.XMATCH($A12,'Talnagögn | Numerical Data'!$C:$C), _xlfn.XMATCH($B$2,'Talnagögn | Numerical Data'!$1:$1))} -> -6.6087544 | AE13: {=INDEX('Talnagögn | Numerical Data'!$1:$1048576, _xlfn.XMATCH($B12,'Talnagögn | Numerical Data'!$C:$C), _xlfn.XMATCH($B$4,'Talnagögn | Numerical Data'!$1:$1))/INDEX('Talnagögn | Numerical Data'!$1:$1048576, _xlfn.XMATCH($A12,'Talnagögn | Numerical Data'!$C:$C), _xlfn.XMATCH($B$2,'Talnagögn | Numerical Data'!$1:$1))-1} -> -0.2541131
C14: NatTot_W_LULUCF WAM | E14: Samtals | F14: {=INDEX('Talnagögn | Numerical Data'!$1:$1048576, _xlfn.XMATCH($A13,'Talnagögn | Numerical Data'!$C:$C), _xlfn.XMATCH($A$1,'Talnagögn | Numerical Data'!1:1))} -> 10569.756 | G14: =SUM(G8:G13) -> 1 | H14: {=INDEX('Talnagögn | Numerical Data'!$1:$1048576, _xlfn.XMATCH($A$13,'Talnagögn | Numerical Data'!$C:$C), _xlfn.XMATCH($A$1,'Talnagögn | Numerical Data'!$1:$1))-INDEX('Talnagögn | Numerical Data'!$1:$1048576, _xlfn.XMATCH($A$13,'Talnagögn | Numerical Data'!$C:$C), _xlfn.XMATCH($B$3,'Talnagögn | Numerical Data'!$1:$1))} -> -428.25484 | I14: {=INDEX('Talnagögn | Numerical Data'!$1:$1048576, _xlfn.XMATCH($A$13,'Talnagögn | Numerical Data'!$C:$C), _xlfn.XMATCH($A$1,'Talnagögn | Numerical Data'!$1:$1))/INDEX('Talnagögn | Numerical Data'!$1:$1048576, _xlfn.XMATCH($A$13,'Talnagögn | Numerical Data'!$C:$C), _xlfn.XMATCH($B$3,'Talnagögn | Numerical Data'!$1:$1))-1} -> -0.0389393 | J14: {=INDEX('Talnagögn | Numerical Data'!$1:$1048576, _xlfn.XMATCH($A$13,'Talnagögn | Numerical Data'!$C:$C), _xlfn.XMATCH($A$1,'Talnagögn | Numerical Data'!$1:$1))-INDEX('Talnagögn | Numerical Data'!$1:$1048576, _xlfn.XMATCH($A$13,'Talnagögn | Numerical Data'!$C:$C), _xlfn.XMATCH($B$2,'Talnagögn | Numerical Data'!$1:$1))} -> -186.79585 | K14: {=INDEX('Talnagögn | Numerical Data'!$1:$1048576, _xlfn.XMATCH($A$13,'Talnagögn | Numerical Data'!$C:$C), _xlfn.XMATCH($A$1,'Talnagögn | Numerical Data'!$1:$1))/INDEX('Talnagögn | Numerical Data'!$1:$1048576, _xlfn.XMATCH($A$13,'Talnagögn | Numerical Data'!$C:$C), _xlfn.XMATCH($B$2,'Talnagögn | Numerical Data'!$1:$1))-1} -> -0.017365774 | M14: Samtals | N14: {=INDEX('Talnagögn | Numerical Data'!$1:$1048576, _xlfn.XMATCH($B13,'Talnagögn | Numerical Data'!$C:$C), _xlfn.XMATCH($B$4,'Talnagögn | Numerical Data'!$1:$1))-INDEX('Talnagögn | Numerical Data'!$1:$1048576, _xlfn.XMATCH($A13,'Talnagögn | Numerical Data'!$C:$C), _xlfn.XMATCH($B$2,'Talnagögn | Numerical Data'!$1:$1))} -> -842.44804 | O14: {=INDEX('Talnagögn | Numerical Data'!$1:$1048576, _xlfn.XMATCH($B13,'Talnagögn | Numerical Data'!$C:$C), _xlfn.XMATCH($B$4,'Talnagögn | Numerical Data'!$1:$1))/INDEX('Talnagögn | Numerical Data'!$1:$1048576, _xlfn.XMATCH($A13,'Talnagögn | Numerical Data'!$C:$C), _xlfn.XMATCH($B$2,'Talnagögn | Numerical Data'!$1:$1))-1} -> -0.078319526 | U14: Total | V14: {=INDEX('Talnagögn | Numerical Data'!$1:$1048576, _xlfn.XMATCH($A13,'Talnagögn | Numerical Data'!$C:$C), _xlfn.XMATCH($A$1,'Talnagögn | Numerical Data'!1:1))} -> 10569.756 | W14: =SUM(W8:W13) -> 1 | X14: {=INDEX('Talnagögn | Numerical Data'!$1:$1048576, _xlfn.XMATCH($A$13,'Talnagögn | Numerical Data'!$C:$C), _xlfn.XMATCH($A$1,'Talnagögn | Numerical Data'!$1:$1))-INDEX('Talnagögn | Numerical Data'!$1:$1048576, _xlfn.XMATCH($A$13,'Talnagögn | Numerical Data'!$C:$C), _xlfn.XMATCH($B$3,'Talnagögn | Numerical Data'!$1:$1))} -> -428.25484 | Y14: {=INDEX('Talnagögn | Numerical Data'!$1:$1048576, _xlfn.XMATCH($A$13,'Talnagögn | Numerical Data'!$C:$C), _xlfn.XMATCH($A$1,'Talnagögn | Numerical Data'!$1:$1))/INDEX('Talnagögn | Numerical Data'!$1:$1048576, _xlfn.XMATCH($A$13,'Talnagögn | Numerical Data'!$C:$C), _xlfn.XMATCH($B$3,'Talnagögn | Numerical Data'!$1:$1))-1} -> -0.0389393 | Z14: {=INDEX('Talnagögn | Numerical Data'!$1:$1048576, _xlfn.XMATCH($A$13,'Talnagögn | Numerical Data'!$C:$C), _xlfn.XMATCH($A$1,'Talnagögn | Numerical Data'!$1:$1))-INDEX('Talnagögn | Numerical Data'!$1:$1048576, _xlfn.XMATCH($A$13,'Talnagögn | Numerical Data'!$C:$C), _xlfn.XMATCH($B$2,'Talnagögn | Numerical Data'!$1:$1))} -> -186.79585 | AA14: {=INDEX('Talnagögn | Numerical Data'!$1:$1048576, _xlfn.XMATCH($A$13,'Talnagögn | Numerical Data'!$C:$C), _xlfn.XMATCH($A$1,'Talnagögn | Numerical Data'!$1:$1))/INDEX('Talnagögn | Numerical Data'!$1:$1048576, _xlfn.XMATCH($A$13,'Talnagögn | Numerical Data'!$C:$C), _xlfn.XMATCH($B$2,'Talnagögn | Numerical Data'!$1:$1))-1} -> -0.017365774 | AC14: Total | AD14: {=INDEX('Talnagögn | Numerical Data'!$1:$1048576, _xlfn.XMATCH($B13,'Talnagögn | Numerical Data'!$C:$C), _xlfn.XMATCH($B$4,'Talnagögn | Numerical Data'!$1:$1))-INDEX('Talnagögn | Numerical Data'!$1:$1048576, _xlfn.XMATCH($A13,'Talnagögn | Numerical Data'!$C:$C), _xlfn.XMATCH($B$2,'Talnagögn | Numerical Data'!$1:$1))} -> -842.44804 | AE14: {=INDEX('Talnagögn | Numerical Data'!$1:$1048576, _xlfn.XMATCH($B13,'Talnagögn | Numerical Data'!$C:$C), _xlfn.XMATCH($B$4,'Talnagögn | Numerical Data'!$1:$1))/INDEX('Talnagögn | Numerical Data'!$1:$1048576, _xlfn.XMATCH($A13,'Talnagögn | Numerical Data'!$C:$C), _xlfn.XMATCH($B$2,'Talnagögn | Numerical Data'!$1:$1))-1} -> -0.078319526
E15: * Í ákvörðun sameiginlegu EES-nefndar nr. 29/2022 (JCD) var losun undir beina ábyrgð Íslands árið 2005 metin 3.109.329 kg CO2-íg. | U15: * In the EEA's Joint Committee Decision (JCD) n. 29/2022, Iceland's ESR emissions in 2005 were assessed to amount to 3,109,329 kg CO2-eq.
E16: ** Viðskiptakerfi ESB með losunarheimildir (ETS), kom á fót 2005. | U16: ** EU Emissions Trading System (ETS), launched in 2005
E17: *** Um er að ræða CO2 losun vegna alls innanlandsflugs á Íslandi. Losun frá innanlandsflugi er að hluta innan ETS og að hluta ekki. | U17: ** Emissions from domestic aviation are partly covered under the ETS
E42: =UPPER('Talnagögn | Numerical Data'!$E$5) -> SÖGULEG LOSUN | U42: =UPPER('Talnagögn | Numerical Data'!$G$5) -> HISTORICAL EMISSIONS
E66: =UPPER('Talnagögn | Numerical Data'!$E$14) -> LOSUNARSPÁ: SVIÐSMYND BYGGÐ Á AÐGERÐUM STJÓRNVALDA | U66: =UPPER('Talnagögn | Numerical Data'!$G$14) -> EMISSION PROJECTIONS: GOVERNMENT POLICY-BASED SCENARIO
E113: LOSUN GRÓÐURHÚSALOFTTEGUNDA INNAN SAMFÉLAGSLOSUNAR | U113: GREENHOUSE GAS EMISSIONS UNDER EFFORT SHARING REGULATION (ESR)
E114: Samfélagslosun (áður kallað losun á beinni ábyrgð Íslands) er losun sem fellur undir svokallaða beina ábyrgð ríkja samkvæmt ESB reglugerðinni 2018/842 um sameiginlega ábyrgð (e. Effort Sharing Regulation, ESR). | U114: ESR emissions (ísl. samfélagslosun) refer to the greenhouse gas emissions that fall under the scope of Regulation (EU) 2018/842 (Effort Sharing Regulation, ESR).
E116: SAMFÉLAGSLOSUN EFTIR HELSTU UPPSPRETTUM | U116: ESR EMISSIONS BY MAIN SOURCES
E117: ="STAÐAN ÁRIÐ "&$A$1 -> STAÐAN ÁRIÐ 2025 | M117: =$M$5 -> FRAMTÍÐARHORFUR | N117: =$N$5 -> Áætluð breyting í losun milli 2005 og 2030 | U117: =$A$1&" EMISSIONS" -> 2025 EMISSIONS | AC117: OUTLOOKS | AD117: =$AD$5 -> Estimated change in emissions between 2005 and 2030
F118: =$F$6 -> Losun 2025 | H118: =$H$6 -> Breyting frá 2024 | J118: =$J$6 -> Breyting frá 2005 | N118: =$N$6 -> Losunarspá: Sviðsmynd byggð á aðgerðum stjórnvalda | V118: =$V$6 -> Emissions in 2025 | X118: =$X$6 -> Change from 2024 | Z118: =$Z$6 -> Change from 2005 | AD118: =$AD$6 -> Emission Projections: Government Policy-Based Scenario
F119: =$F$7 -> Þús. tonn CO₂-íg. | G119: % | H119: =$F$7 -> Þús. tonn CO₂-íg. | I119: % | J119: =$F$7 -> Þús. tonn CO₂-íg. | K119: % | N119: =$F$7 -> Þús. tonn CO₂-íg. | O119: % | V119: =$V$7 -> Thousand tons CO₂e | W119: % | X119: =$V$7 -> Thousand tons CO₂e | Y119: % | Z119: =$V$7 -> Thousand tons CO₂e | AA119: % | AD119: =$V$7 -> Thousand tons CO₂e | AE119: %
A120: 1.A.3.b Road transportationkt CO2-eq | B120: 1.A.3.b Road transportationkt CO2-eq WEM | C120: 1.A.3.b Road transportationkt CO2-eq WAM | E120: ='Talnagögn | Numerical Data'!$E$284 -> Vegasamgöngur | F120: {=INDEX('Talnagögn | Numerical Data'!$1:$1048576, _xlfn.XMATCH($A120,'Talnagögn | Numerical Data'!$B:$B), _xlfn.XMATCH($A$1,'Talnagögn | Numerical Data'!$1:$1))} -> 917.25938 | G120: =$F120/$F$128 -> 0.32832475 | H120: {=INDEX('Talnagögn | Numerical Data'!$1:$1048576, _xlfn.XMATCH($A120,'Talnagögn | Numerical Data'!$B:$B), _xlfn.XMATCH($A$1,'Talnagögn | Numerical Data'!$1:$1))-INDEX('Talnagögn | Numerical Data'!$1:$1048576, _xlfn.XMATCH($A120,'Talnagögn | Numerical Data'!$B:$B), _xlfn.XMATCH($B$3,'Talnagögn | Numerical Data'!$1:$1))} -> 11.75196 | I120: {=INDEX('Talnagögn | Numerical Data'!$1:$1048576, _xlfn.XMATCH($A120,'Talnagögn | Numerical Data'!$B:$B), _xlfn.XMATCH($A$1,'Talnagögn | Numerical Data'!$1:$1))/INDEX('Talnagögn | Numerical Data'!$1:$1048576, _xlfn.XMATCH($A120,'Talnagögn | Numerical Data'!$B:$B), _xlfn.XMATCH($B$3,'Talnagögn | Numerical Data'!$1:$1))-1} -> 0.012978315 | J120: {=INDEX('Talnagögn | Numerical Data'!$1:$1048576, _xlfn.XMATCH($A120,'Talnagögn | Numerical Data'!$B:$B), _xlfn.XMATCH($A$1,'Talnagögn | Numerical Data'!$1:$1))-INDEX('Talnagögn | Numerical Data'!$1:$1048576, _xlfn.XMATCH($A120,'Talnagögn | Numerical Data'!$B:$B), _xlfn.XMATCH($B$2,'Talnagögn | Numerical Data'!$1:$1))} -> 144.29218 | K120: {=INDEX('Talnagögn | Numerical Data'!$1:$1048576, _xlfn.XMATCH($A120,'Talnagögn | Numerical Data'!$B:$B), _xlfn.XMATCH($A$1,'Talnagögn | Numerical Data'!$1:$1))/INDEX('Talnagögn | Numerical Data'!$1:$1048576, _xlfn.XMATCH($A120,'Talnagögn | Numerical Data'!$B:$B), _xlfn.XMATCH($B$2,'Talnagögn | Numerical Data'!$1:$1))-1} -> 0.1866731 | M120: ='Talnagögn | Numerical Data'!$E$284 -> Vegasamgöngur | N120: {=INDEX('Talnagögn | Numerical Data'!$1:$1048576, _xlfn.XMATCH($B120,'Talnagögn | Numerical Data'!$C:$C), _xlfn.XMATCH($B$4,'Talnagögn | Numerical Data'!$1:$1))-INDEX('Talnagögn | Numerical Data'!$1:$1048576, _xlfn.XMATCH($A120,'Talnagögn | Numerical Data'!$C:$C), _xlfn.XMATCH($B$2,'Talnagögn | Numerical Data'!$1:$1))} -> 13.257501 | O120: {=INDEX('Talnagögn | Numerical Data'!$1:$1048576, _xlfn.XMATCH($B120,'Talnagögn | Numerical Data'!$C:$C), _xlfn.XMATCH($B$4,'Talnagögn | Numerical Data'!$1:$1))/INDEX('Talnagögn | Numerical Data'!$1:$1048576, _xlfn.XMATCH($A120,'Talnagögn | Numerical Data'!$C:$C), _xlfn.XMATCH($B$2,'Talnagögn | Numerical Data'!$1:$1))-1} -> 0.017151441 | U120: Road Transportation | V120: {=INDEX('Talnagögn | Numerical Data'!$1:$1048576, _xlfn.XMATCH($A120,'Talnagögn | Numerical Data'!$B:$B), _xlfn.XMATCH($A$1,'Talnagögn | Numerical Data'!$1:$1))} -> 917.25938 | W120: =$F120/$F$128 -> 0.32832475 | X120: {=INDEX('Talnagögn | Numerical Data'!$1:$1048576, _xlfn.XMATCH($A120,'Talnagögn | Numerical Data'!$B:$B), _xlfn.XMATCH($A$1,'Talnagögn | Numerical Data'!$1:$1))-INDEX('Talnagögn | Numerical Data'!$1:$1048576, _xlfn.XMATCH($A120,'Talnagögn | Numerical Data'!$B:$B), _xlfn.XMATCH($B$3,'Talnagögn | Numerical Data'!$1:$1))} -> 11.75196 | Y120: {=INDEX('Talnagögn | Numerical Data'!$1:$1048576, _xlfn.XMATCH($A120,'Talnagögn | Numerical Data'!$B:$B), _xlfn.XMATCH($A$1,'Talnagögn | Numerical Data'!$1:$1))/INDEX('Talnagögn | Numerical Data'!$1:$1048576, _xlfn.XMATCH($A120,'Talnagögn | Numerical Data'!$B:$B), _xlfn.XMATCH($B$3,'Talnagögn | Numerical Data'!$1:$1))-1} -> 0.012978315 | Z120: {=INDEX('Talnagögn | Numerical Data'!$1:$1048576, _xlfn.XMATCH($A120,'Talnagögn | Numerical Data'!$B:$B), _xlfn.XMATCH($A$1,'Talnagögn | Numerical Data'!$1:$1))-INDEX('Talnagögn | Numerical Data'!$1:$1048576, _xlfn.XMATCH($A120,'Talnagögn | Numerical Data'!$B:$B), _xlfn.XMATCH($B$2,'Talnagögn | Numerical Data'!$1:$1))} -> 144.29218 | AA120: {=INDEX('Talnagögn | Numerical Data'!$1:$1048576, _xlfn.XMATCH($A120,'Talnagögn | Numerical Data'!$B:$B), _xlfn.XMATCH($A$1,'Talnagögn | Numerical Data'!$1:$1))/INDEX('Talnagögn | Numerical Data'!$1:$1048576, _xlfn.XMATCH($A120,'Talnagögn | Numerical Data'!$B:$B), _xlfn.XMATCH($B$2,'Talnagögn | Numerical Data'!$1:$1))-1} -> 0.1866731 | AC120: Road Transportation | AD120: {=INDEX('Talnagögn | Numerical Data'!$1:$1048576, _xlfn.XMATCH($B120,'Talnagögn | Numerical Data'!$C:$C), _xlfn.XMATCH($B$4,'Talnagögn | Numerical Data'!$1:$1))-INDEX('Talnagögn | Numerical Data'!$1:$1048576, _xlfn.XMATCH($A120,'Talnagögn | Numerical Data'!$C:$C), _xlfn.XMATCH($B$2,'Talnagögn | Numerical Data'!$1:$1))} -> 13.257501 | AE120: {=INDEX('Talnagögn | Numerical Data'!$1:$1048576, _xlfn.XMATCH($B120,'Talnagögn | Numerical Data'!$C:$C), _xlfn.XMATCH($B$4,'Talnagögn | Numerical Data'!$1:$1))/INDEX('Talnagögn | Numerical Data'!$1:$1048576, _xlfn.XMATCH($A120,'Talnagögn | Numerical Data'!$C:$C), _xlfn.XMATCH($B$2,'Talnagögn | Numerical Data'!$1:$1))-1} -> 0.017151441
A121: 3. Agriculturekt CO2-eq | B121: 3. Agriculturekt CO2-eq WEM | C121: 3. Agriculturekt CO2-eq WAM | E121: ='Talnagögn | Numerical Data'!$E$286 -> Landbúnaður | F121: {=INDEX('Talnagögn | Numerical Data'!$1:$1048576, _xlfn.XMATCH($A121,'Talnagögn | Numerical Data'!$B:$B), _xlfn.XMATCH($A$1,'Talnagögn | Numerical Data'!$1:$1))} -> 668.34043 | G121: =$F121/$F$128 -> 0.23922645 | H121: {=INDEX('Talnagögn | Numerical Data'!$1:$1048576, _xlfn.XMATCH($A121,'Talnagögn | Numerical Data'!$B:$B), _xlfn.XMATCH($A$1,'Talnagögn | Numerical Data'!$1:$1))-INDEX('Talnagögn | Numerical Data'!$1:$1048576, _xlfn.XMATCH($A121,'Talnagögn | Numerical Data'!$B:$B), _xlfn.XMATCH($B$3,'Talnagögn | Numerical Data'!$1:$1))} -> -0.41798729 | I121: {=INDEX('Talnagögn | Numerical Data'!$1:$1048576, _xlfn.XMATCH($A121,'Talnagögn | Numerical Data'!$B:$B), _xlfn.XMATCH($A$1,'Talnagögn | Numerical Data'!$1:$1))/INDEX('Talnagögn | Numerical Data'!$1:$1048576, _xlfn.XMATCH($A121,'Talnagögn | Numerical Data'!$B:$B), _xlfn.XMATCH($B$3,'Talnagögn | Numerical Data'!$1:$1))-1} -> -0.00062501986 | J121: {=INDEX('Talnagögn | Numerical Data'!$1:$1048576, _xlfn.XMATCH($A121,'Talnagögn | Numerical Data'!$B:$B), _xlfn.XMATCH($A$1,'Talnagögn | Numerical Data'!$1:$1))-INDEX('Talnagögn | Numerical Data'!$1:$1048576, _xlfn.XMATCH($A121,'Talnagögn | Numerical Data'!$B:$B), _xlfn.XMATCH($B$2,'Talnagögn | Numerical Data'!$1:$1))} -> -17.944766 | K121: {=INDEX('Talnagögn | Numerical Data'!$1:$1048576, _xlfn.XMATCH($A121,'Talnagögn | Numerical Data'!$B:$B), _xlfn.XMATCH($A$1,'Talnagögn | Numerical Data'!$1:$1))/INDEX('Talnagögn | Numerical Data'!$1:$1048576, _xlfn.XMATCH($A121,'Talnagögn | Numerical Data'!$B:$B), _xlfn.XMATCH($B$2,'Talnagögn | Numerical Data'!$1:$1))-1} -> -0.026147681 | M121: ='Talnagögn | Numerical Data'!$E$286 -> Landbúnaður | N121: {=INDEX('Talnagögn | Numerical Data'!$1:$1048576, _xlfn.XMATCH($B121,'Talnagögn | Numerical Data'!$C:$C), _xlfn.XMATCH($B$4,'Talnagögn | Numerical Data'!$1:$1))-INDEX('Talnagögn | Numerical Data'!$1:$1048576, _xlfn.XMATCH($A121,'Talnagögn | Numerical Data'!$C:$C), _xlfn.XMATCH($B$2,'Talnagögn | Numerical Data'!$1:$1))} -> -35.971428 | O121: {=INDEX('Talnagögn | Numerical Data'!$1:$1048576, _xlfn.XMATCH($B121,'Talnagögn | Numerical Data'!$C:$C), _xlfn.XMATCH($B$4,'Talnagögn | Numerical Data'!$1:$1))/INDEX('Talnagögn | Numerical Data'!$1:$1048576, _xlfn.XMATCH($A121,'Talnagögn | Numerical Data'!$C:$C), _xlfn.XMATCH($B$2,'Talnagögn | Numerical Data'!$1:$1))-1} -> -0.052414693 | U121: Agriculture | V121: {=INDEX('Talnagögn | Numerical Data'!$1:$1048576, _xlfn.XMATCH($A121,'Talnagögn | Numerical Data'!$B:$B), _xlfn.XMATCH($A$1,'Talnagögn | Numerical Data'!$1:$1))} -> 668.34043 | W121: =$F121/$F$128 -> 0.23922645 | X121: {=INDEX('Talnagögn | Numerical Data'!$1:$1048576, _xlfn.XMATCH($A121,'Talnagögn | Numerical Data'!$B:$B), _xlfn.XMATCH($A$1,'Talnagögn | Numerical Data'!$1:$1))-INDEX('Talnagögn | Numerical Data'!$1:$1048576, _xlfn.XMATCH($A121,'Talnagögn | Numerical Data'!$B:$B), _xlfn.XMATCH($B$3,'Talnagögn | Numerical Data'!$1:$1))} -> -0.41798729 | Y121: {=INDEX('Talnagögn | Numerical Data'!$1:$1048576, _xlfn.XMATCH($A121,'Talnagögn | Numerical Data'!$B:$B), _xlfn.XMATCH($A$1,'Talnagögn | Numerical Data'!$1:$1))/INDEX('Talnagögn | Numerical Data'!$1:$1048576, _xlfn.XMATCH($A121,'Talnagögn | Numerical Data'!$B:$B), _xlfn.XMATCH($B$3,'Talnagögn | Numerical Data'!$1:$1))-1} -> -0.00062501986 | Z121: {=INDEX('Talnagögn | Numerical Data'!$1:$1048576, _xlfn.XMATCH($A121,'Talnagögn | Numerical Data'!$B:$B), _xlfn.XMATCH($A$1,'Talnagögn | Numerical Data'!$1:$1))-INDEX('Talnagögn | Numerical Data'!$1:$1048576, _xlfn.XMATCH($A121,'Talnagögn | Numerical Data'!$B:$B), _xlfn.XMATCH($B$2,'Talnagögn | Numerical Data'!$1:$1))} -> -17.944766 | AA121: {=INDEX('Talnagögn | Numerical Data'!$1:$1048576, _xlfn.XMATCH($A121,'Talnagögn | Numerical Data'!$B:$B), _xlfn.XMATCH($A$1,'Talnagögn | Numerical Data'!$1:$1))/INDEX('Talnagögn | Numerical Data'!$1:$1048576, _xlfn.XMATCH($A121,'Talnagögn | Numerical Data'!$B:$B), _xlfn.XMATCH($B$2,'Talnagögn | Numerical Data'!$1:$1))-1} -> -0.026147681 | AC121: Agriculture | AD121: {=INDEX('Talnagögn | Numerical Data'!$1:$1048576, _xlfn.XMATCH($B121,'Talnagögn | Numerical Data'!$C:$C), _xlfn.XMATCH($B$4,'Talnagögn | Numerical Data'!$1:$1))-INDEX('Talnagögn | Numerical Data'!$1:$1048576, _xlfn.XMATCH($A121,'Talnagögn | Numerical Data'!$C:$C), _xlfn.XMATCH($B$2,'Talnagögn | Numerical Data'!$1:$1))} -> -35.971428 | AE121: {=INDEX('Talnagögn | Numerical Data'!$1:$1048576, _xlfn.XMATCH($B121,'Talnagögn | Numerical Data'!$C:$C), _xlfn.XMATCH($B$4,'Talnagögn | Numerical Data'!$1:$1))/INDEX('Talnagögn | Numerical Data'!$1:$1048576, _xlfn.XMATCH($A121,'Talnagögn | Numerical Data'!$C:$C), _xlfn.XMATCH($B$2,'Talnagögn | Numerical Data'!$1:$1))-1} -> -0.052414693
A122: 1.A.4.c.iii Agriculture/Forestry/Fishing - Fishing kt CO2-eq | B122: 1.A.4.c.iii Agriculture/Forestry/Fishing - Fishing kt CO2-eq WEM | C122: 1.A.4.c.iii Agriculture/Forestry/Fishing - Fishing kt CO2-eq WAM | E122: ='Talnagögn | Numerical Data'!$E$285 -> Fiskiskip | F122: {=INDEX('Talnagögn | Numerical Data'!$1:$1048576, _xlfn.XMATCH($A122,'Talnagögn | Numerical Data'!$B:$B), _xlfn.XMATCH($A$1,'Talnagögn | Numerical Data'!$1:$1))} -> 482.07189 | G122: =$F122/$F$128 -> 0.1725533 | H122: {=INDEX('Talnagögn | Numerical Data'!$1:$1048576, _xlfn.XMATCH($A122,'Talnagögn | Numerical Data'!$B:$B), _xlfn.XMATCH($A$1,'Talnagögn | Numerical Data'!$1:$1))-INDEX('Talnagögn | Numerical Data'!$1:$1048576, _xlfn.XMATCH($A122,'Talnagögn | Numerical Data'!$B:$B), _xlfn.XMATCH($B$3,'Talnagögn | Numerical Data'!$1:$1))} -> -37.946922 | I122: {=INDEX('Talnagögn | Numerical Data'!$1:$1048576, _xlfn.XMATCH($A122,'Talnagögn | Numerical Data'!$B:$B), _xlfn.XMATCH($A$1,'Talnagögn | Numerical Data'!$1:$1))/INDEX('Talnagögn | Numerical Data'!$1:$1048576, _xlfn.XMATCH($A122,'Talnagögn | Numerical Data'!$B:$B), _xlfn.XMATCH($B$3,'Talnagögn | Numerical Data'!$1:$1))-1} -> -0.072972209 | J122: {=INDEX('Talnagögn | Numerical Data'!$1:$1048576, _xlfn.XMATCH($A122,'Talnagögn | Numerical Data'!$B:$B), _xlfn.XMATCH($A$1,'Talnagögn | Numerical Data'!$1:$1))-INDEX('Talnagögn | Numerical Data'!$1:$1048576, _xlfn.XMATCH($A122,'Talnagögn | Numerical Data'!$B:$B), _xlfn.XMATCH($B$2,'Talnagögn | Numerical Data'!$1:$1))} -> -260.20391 | K122: {=INDEX('Talnagögn | Numerical Data'!$1:$1048576, _xlfn.XMATCH($A122,'Talnagögn | Numerical Data'!$B:$B), _xlfn.XMATCH($A$1,'Talnagögn | Numerical Data'!$1:$1))/INDEX('Talnagögn | Numerical Data'!$1:$1048576, _xlfn.XMATCH($A122,'Talnagögn | Numerical Data'!$B:$B), _xlfn.XMATCH($B$2,'Talnagögn | Numerical Data'!$1:$1))-1} -> -0.35054882 | M122: ='Talnagögn | Numerical Data'!$E$285 -> Fiskiskip | N122: {=INDEX('Talnagögn | Numerical Data'!$1:$1048576, _xlfn.XMATCH($B122,'Talnagögn | Numerical Data'!$C:$C), _xlfn.XMATCH($B$4,'Talnagögn | Numerical Data'!$1:$1))-INDEX('Talnagögn | Numerical Data'!$1:$1048576, _xlfn.XMATCH($A122,'Talnagögn | Numerical Data'!$C:$C), _xlfn.XMATCH($B$2,'Talnagögn | Numerical Data'!$1:$1))} -> -285.80894 | O122: {=INDEX('Talnagögn | Numerical Data'!$1:$1048576, _xlfn.XMATCH($B122,'Talnagögn | Numerical Data'!$C:$C), _xlfn.XMATCH($B$4,'Talnagögn | Numerical Data'!$1:$1))/INDEX('Talnagögn | Numerical Data'!$1:$1048576, _xlfn.XMATCH($A122,'Talnagögn | Numerical Data'!$C:$C), _xlfn.XMATCH($B$2,'Talnagögn | Numerical Data'!$1:$1))-1} -> -0.38504413 | U122: Fishing | V122: {=INDEX('Talnagögn | Numerical Data'!$1:$1048576, _xlfn.XMATCH($A122,'Talnagögn | Numerical Data'!$B:$B), _xlfn.XMATCH($A$1,'Talnagögn | Numerical Data'!$1:$1))} -> 482.07189 | W122: =$F122/$F$128 -> 0.1725533 | X122: {=INDEX('Talnagögn | Numerical Data'!$1:$1048576, _xlfn.XMATCH($A122,'Talnagögn | Numerical Data'!$B:$B), _xlfn.XMATCH($A$1,'Talnagögn | Numerical Data'!$1:$1))-INDEX('Talnagögn | Numerical Data'!$1:$1048576, _xlfn.XMATCH($A122,'Talnagögn | Numerical Data'!$B:$B), _xlfn.XMATCH($B$3,'Talnagögn | Numerical Data'!$1:$1))} -> -37.946922 | Y122: {=INDEX('Talnagögn | Numerical Data'!$1:$1048576, _xlfn.XMATCH($A122,'Talnagögn | Numerical Data'!$B:$B), _xlfn.XMATCH($A$1,'Talnagögn | Numerical Data'!$1:$1))/INDEX('Talnagögn | Numerical Data'!$1:$1048576, _xlfn.XMATCH($A122,'Talnagögn | Numerical Data'!$B:$B), _xlfn.XMATCH($B$3,'Talnagögn | Numerical Data'!$1:$1))-1} -> -0.072972209 | Z122: {=INDEX('Talnagögn | Numerical Data'!$1:$1048576, _xlfn.XMATCH($A122,'Talnagögn | Numerical Data'!$B:$B), _xlfn.XMATCH($A$1,'Talnagögn | Numerical Data'!$1:$1))-INDEX('Talnagögn | Numerical Data'!$1:$1048576, _xlfn.XMATCH($A122,'Talnagögn | Numerical Data'!$B:$B), _xlfn.XMATCH($B$2,'Talnagögn | Numerical Data'!$1:$1))} -> -260.20391 | AA122: {=INDEX('Talnagögn | Numerical Data'!$1:$1048576, _xlfn.XMATCH($A122,'Talnagögn | Numerical Data'!$B:$B), _xlfn.XMATCH($A$1,'Talnagögn | Numerical Data'!$1:$1))/INDEX('Talnagögn | Numerical Data'!$1:$1048576, _xlfn.XMATCH($A122,'Talnagögn | Numerical Data'!$B:$B), _xlfn.XMATCH($B$2,'Talnagögn | Numerical Data'!$1:$1))-1} -> -0.35054882 | AC122: Fishing | AD122: {=INDEX('Talnagögn | Numerical Data'!$1:$1048576, _xlfn.XMATCH($B122,'Talnagögn | Numerical Data'!$C:$C), _xlfn.XMATCH($B$4,'Talnagögn | Numerical Data'!$1:$1))-INDEX('Talnagögn | Numerical Data'!$1:$1048576, _xlfn.XMATCH($A122,'Talnagögn | Numerical Data'!$C:$C), _xlfn.XMATCH($B$2,'Talnagögn | Numerical Data'!$1:$1))} -> -285.80894 | AE122: {=INDEX('Talnagögn | Numerical Data'!$1:$1048576, _xlfn.XMATCH($B122,'Talnagögn | Numerical Data'!$C:$C), _xlfn.XMATCH($B$4,'Talnagögn | Numerical Data'!$1:$1))/INDEX('Talnagögn | Numerical Data'!$1:$1048576, _xlfn.XMATCH($A122,'Talnagögn | Numerical Data'!$C:$C), _xlfn.XMATCH($B$2,'Talnagögn | Numerical Data'!$1:$1))-1} -> -0.38504413
A123: 5.A Solid waste disposalkt CO2-eq | B123: 5.A Solid waste disposalkt CO2-eq WEM | C123: 5.A Solid waste disposalkt CO2-eq WAM | E123: ='Talnagögn | Numerical Data'!$E$287 -> Urðun úrgangs | F123: {=INDEX('Talnagögn | Numerical Data'!$1:$1048576, _xlfn.XMATCH($A123,'Talnagögn | Numerical Data'!$B:$B), _xlfn.XMATCH($A$1,'Talnagögn | Numerical Data'!$1:$1))} -> 185.03247 | G123: =$F123/$F$128 -> 0.066230711 | H123: {=INDEX('Talnagögn | Numerical Data'!$1:$1048576, _xlfn.XMATCH($A123,'Talnagögn | Numerical Data'!$B:$B), _xlfn.XMATCH($A$1,'Talnagögn | Numerical Data'!$1:$1))-INDEX('Talnagögn | Numerical Data'!$1:$1048576, _xlfn.XMATCH($A123,'Talnagögn | Numerical Data'!$B:$B), _xlfn.XMATCH($B$3,'Talnagögn | Numerical Data'!$1:$1))} -> -17.928633 | I123: {=INDEX('Talnagögn | Numerical Data'!$1:$1048576, _xlfn.XMATCH($A123,'Talnagögn | Numerical Data'!$B:$B), _xlfn.XMATCH($A$1,'Talnagögn | Numerical Data'!$1:$1))/INDEX('Talnagögn | Numerical Data'!$1:$1048576, _xlfn.XMATCH($A123,'Talnagögn | Numerical Data'!$B:$B), _xlfn.XMATCH($B$3,'Talnagögn | Numerical Data'!$1:$1))-1} -> -0.088335314 | J123: {=INDEX('Talnagögn | Numerical Data'!$1:$1048576, _xlfn.XMATCH($A123,'Talnagögn | Numerical Data'!$B:$B), _xlfn.XMATCH($A$1,'Talnagögn | Numerical Data'!$1:$1))-INDEX('Talnagögn | Numerical Data'!$1:$1048576, _xlfn.XMATCH($A123,'Talnagögn | Numerical Data'!$B:$B), _xlfn.XMATCH($B$2,'Talnagögn | Numerical Data'!$1:$1))} -> -99.715604 | K123: {=INDEX('Talnagögn | Numerical Data'!$1:$1048576, _xlfn.XMATCH($A123,'Talnagögn | Numerical Data'!$B:$B), _xlfn.XMATCH($A$1,'Talnagögn | Numerical Data'!$1:$1))/INDEX('Talnagögn | Numerical Data'!$1:$1048576, _xlfn.XMATCH($A123,'Talnagögn | Numerical Data'!$B:$B), _xlfn.XMATCH($B$2,'Talnagögn | Numerical Data'!$1:$1))-1} -> -0.35018886 | M123: ='Talnagögn | Numerical Data'!$E$287 -> Urðun úrgangs | N123: {=INDEX('Talnagögn | Numerical Data'!$1:$1048576, _xlfn.XMATCH($B123,'Talnagögn | Numerical Data'!$C:$C), _xlfn.XMATCH($B$4,'Talnagögn | Numerical Data'!$1:$1))-INDEX('Talnagögn | Numerical Data'!$1:$1048576, _xlfn.XMATCH($A123,'Talnagögn | Numerical Data'!$C:$C), _xlfn.XMATCH($B$2,'Talnagögn | Numerical Data'!$1:$1))} -> -164.97998 | O123: {=INDEX('Talnagögn | Numerical Data'!$1:$1048576, _xlfn.XMATCH($B123,'Talnagögn | Numerical Data'!$C:$C), _xlfn.XMATCH($B$4,'Talnagögn | Numerical Data'!$1:$1))/INDEX('Talnagögn | Numerical Data'!$1:$1048576, _xlfn.XMATCH($A123,'Talnagögn | Numerical Data'!$C:$C), _xlfn.XMATCH($B$2,'Talnagögn | Numerical Data'!$1:$1))-1} -> -0.57938925 | U123: Solid Waste Disposal on Land | V123: {=INDEX('Talnagögn | Numerical Data'!$1:$1048576, _xlfn.XMATCH($A123,'Talnagögn | Numerical Data'!$B:$B), _xlfn.XMATCH($A$1,'Talnagögn | Numerical Data'!$1:$1))} -> 185.03247 | W123: =$F123/$F$128 -> 0.066230711 | X123: {=INDEX('Talnagögn | Numerical Data'!$1:$1048576, _xlfn.XMATCH($A123,'Talnagögn | Numerical Data'!$B:$B), _xlfn.XMATCH($A$1,'Talnagögn | Numerical Data'!$1:$1))-INDEX('Talnagögn | Numerical Data'!$1:$1048576, _xlfn.XMATCH($A123,'Talnagögn | Numerical Data'!$B:$B), _xlfn.XMATCH($B$3,'Talnagögn | Numerical Data'!$1:$1))} -> -17.928633 | Y123: {=INDEX('Talnagögn | Numerical Data'!$1:$1048576, _xlfn.XMATCH($A123,'Talnagögn | Numerical Data'!$B:$B), _xlfn.XMATCH($A$1,'Talnagögn | Numerical Data'!$1:$1))/INDEX('Talnagögn | Numerical Data'!$1:$1048576, _xlfn.XMATCH($A123,'Talnagögn | Numerical Data'!$B:$B), _xlfn.XMATCH($B$3,'Talnagögn | Numerical Data'!$1:$1))-1} -> -0.088335314 | Z123: {=INDEX('Talnagögn | Numerical Data'!$1:$1048576, _xlfn.XMATCH($A123,'Talnagögn | Numerical Data'!$B:$B), _xlfn.XMATCH($A$1,'Talnagögn | Numerical Data'!$1:$1))-INDEX('Talnagögn | Numerical Data'!$1:$1048576, _xlfn.XMATCH($A123,'Talnagögn | Numerical Data'!$B:$B), _xlfn.XMATCH($B$2,'Talnagögn | Numerical Data'!$1:$1))} -> -99.715604 | AA123: {=INDEX('Talnagögn | Numerical Data'!$1:$1048576, _xlfn.XMATCH($A123,'Talnagögn | Numerical Data'!$B:$B), _xlfn.XMATCH($A$1,'Talnagögn | Numerical Data'!$1:$1))/INDEX('Talnagögn | Numerical Data'!$1:$1048576, _xlfn.XMATCH($A123,'Talnagögn | Numerical Data'!$B:$B), _xlfn.XMATCH($B$2,'Talnagögn | Numerical Data'!$1:$1))-1} -> -0.35018886 | AC123: Solid Waste Disposal on Land | AD123: {=INDEX('Talnagögn | Numerical Data'!$1:$1048576, _xlfn.XMATCH($B123,'Talnagögn | Numerical Data'!$C:$C), _xlfn.XMATCH($B$4,'Talnagögn | Numerical Data'!$1:$1))-INDEX('Talnagögn | Numerical Data'!$1:$1048576, _xlfn.XMATCH($A123,'Talnagögn | Numerical Data'!$C:$C), _xlfn.XMATCH($B$2,'Talnagögn | Numerical Data'!$1:$1))} -> -164.97998 | AE123: {=INDEX('Talnagögn | Numerical Data'!$1:$1048576, _xlfn.XMATCH($B123,'Talnagögn | Numerical Data'!$C:$C), _xlfn.XMATCH($B$4,'Talnagögn | Numerical Data'!$1:$1))/INDEX('Talnagögn | Numerical Data'!$1:$1048576, _xlfn.XMATCH($A123,'Talnagögn | Numerical Data'!$C:$C), _xlfn.XMATCH($B$2,'Talnagögn | Numerical Data'!$1:$1))-1} -> -0.57938925
A124: 1.B.2.d Geothermal Energykt CO2-eq | B124: 1.B.2.d Geothermal Energykt CO2-eq WEM | C124: 1.B.2.d Geothermal Energykt CO2-eq WAM | E124: ='Talnagögn | Numerical Data'!$E$289 -> Jarðvarmavirkjanir | F124: {=INDEX('Talnagögn | Numerical Data'!$1:$1048576, _xlfn.XMATCH($A124,'Talnagögn | Numerical Data'!$B:$B), _xlfn.XMATCH($A$1,'Talnagögn | Numerical Data'!$1:$1))} -> 214.07609 | G124: =$F124/$F$128 -> 0.076626614 | H124: {=INDEX('Talnagögn | Numerical Data'!$1:$1048576, _xlfn.XMATCH($A124,'Talnagögn | Numerical Data'!$B:$B), _xlfn.XMATCH($A$1,'Talnagögn | Numerical Data'!$1:$1))-INDEX('Talnagögn | Numerical Data'!$1:$1048576, _xlfn.XMATCH($A124,'Talnagögn | Numerical Data'!$B:$B), _xlfn.XMATCH($B$3,'Talnagögn | Numerical Data'!$1:$1))} -> -9.2201034 | I124: {=INDEX('Talnagögn | Numerical Data'!$1:$1048576, _xlfn.XMATCH($A124,'Talnagögn | Numerical Data'!$B:$B), _xlfn.XMATCH($A$1,'Talnagögn | Numerical Data'!$1:$1))/INDEX('Talnagögn | Numerical Data'!$1:$1048576, _xlfn.XMATCH($A124,'Talnagögn | Numerical Data'!$B:$B), _xlfn.XMATCH($B$3,'Talnagögn | Numerical Data'!$1:$1))-1} -> -0.041290911 | J124: {=INDEX('Talnagögn | Numerical Data'!$1:$1048576, _xlfn.XMATCH($A124,'Talnagögn | Numerical Data'!$B:$B), _xlfn.XMATCH($A$1,'Talnagögn | Numerical Data'!$1:$1))-INDEX('Talnagögn | Numerical Data'!$1:$1048576, _xlfn.XMATCH($A124,'Talnagögn | Numerical Data'!$B:$B), _xlfn.XMATCH($B$2,'Talnagögn | Numerical Data'!$1:$1))} -> 94.815624 | K124: {=INDEX('Talnagögn | Numerical Data'!$1:$1048576, _xlfn.XMATCH($A124,'Talnagögn | Numerical Data'!$B:$B), _xlfn.XMATCH($A$1,'Talnagögn | Numerical Data'!$1:$1))/INDEX('Talnagögn | Numerical Data'!$1:$1048576, _xlfn.XMATCH($A124,'Talnagögn | Numerical Data'!$B:$B), _xlfn.XMATCH($B$2,'Talnagögn | Numerical Data'!$1:$1))-1} -> 0.79502976 | M124: ='Talnagögn | Numerical Data'!$E$289 -> Jarðvarmavirkjanir | N124: {=INDEX('Talnagögn | Numerical Data'!$1:$1048576, _xlfn.XMATCH($B124,'Talnagögn | Numerical Data'!$C:$C), _xlfn.XMATCH($B$4,'Talnagögn | Numerical Data'!$1:$1))-INDEX('Talnagögn | Numerical Data'!$1:$1048576, _xlfn.XMATCH($A124,'Talnagögn | Numerical Data'!$C:$C), _xlfn.XMATCH($B$2,'Talnagögn | Numerical Data'!$1:$1))} -> 68.0512 | O124: {=INDEX('Talnagögn | Numerical Data'!$1:$1048576, _xlfn.XMATCH($B124,'Talnagögn | Numerical Data'!$C:$C), _xlfn.XMATCH($B$4,'Talnagögn | Numerical Data'!$1:$1))/INDEX('Talnagögn | Numerical Data'!$1:$1048576, _xlfn.XMATCH($A124,'Talnagögn | Numerical Data'!$C:$C), _xlfn.XMATCH($B$2,'Talnagögn | Numerical Data'!$1:$1))-1} -> 0.57060986 | U124: Geothermal Energy | V124: {=INDEX('Talnagögn | Numerical Data'!$1:$1048576, _xlfn.XMATCH($A124,'Talnagögn | Numerical Data'!$B:$B), _xlfn.XMATCH($A$1,'Talnagögn | Numerical Data'!$1:$1))} -> 214.07609 | W124: =$F124/$F$128 -> 0.076626614 | X124: {=INDEX('Talnagögn | Numerical Data'!$1:$1048576, _xlfn.XMATCH($A124,'Talnagögn | Numerical Data'!$B:$B), _xlfn.XMATCH($A$1,'Talnagögn | Numerical Data'!$1:$1))-INDEX('Talnagögn | Numerical Data'!$1:$1048576, _xlfn.XMATCH($A124,'Talnagögn | Numerical Data'!$B:$B), _xlfn.XMATCH($B$3,'Talnagögn | Numerical Data'!$1:$1))} -> -9.2201034 | Y124: {=INDEX('Talnagögn | Numerical Data'!$1:$1048576, _xlfn.XMATCH($A124,'Talnagögn | Numerical Data'!$B:$B), _xlfn.XMATCH($A$1,'Talnagögn | Numerical Data'!$1:$1))/INDEX('Talnagögn | Numerical Data'!$1:$1048576, _xlfn.XMATCH($A124,'Talnagögn | Numerical Data'!$B:$B), _xlfn.XMATCH($B$3,'Talnagögn | Numerical Data'!$1:$1))-1} -> -0.041290911 | Z124: {=INDEX('Talnagögn | Numerical Data'!$1:$1048576, _xlfn.XMATCH($A124,'Talnagögn | Numerical Data'!$B:$B), _xlfn.XMATCH($A$1,'Talnagögn | Numerical Data'!$1:$1))-INDEX('Talnagögn | Numerical Data'!$1:$1048576, _xlfn.XMATCH($A124,'Talnagögn | Numerical Data'!$B:$B), _xlfn.XMATCH($B$2,'Talnagögn | Numerical Data'!$1:$1))} -> 94.815624 | AA124: {=INDEX('Talnagögn | Numerical Data'!$1:$1048576, _xlfn.XMATCH($A124,'Talnagögn | Numerical Data'!$B:$B), _xlfn.XMATCH($A$1,'Talnagögn | Numerical Data'!$1:$1))/INDEX('Talnagögn | Numerical Data'!$1:$1048576, _xlfn.XMATCH($A124,'Talnagögn | Numerical Data'!$B:$B), _xlfn.XMATCH($B$2,'Talnagögn | Numerical Data'!$1:$1))-1} -> 0.79502976 | AC124: Geothermal Energy | AD124: {=INDEX('Talnagögn | Numerical Data'!$1:$1048576, _xlfn.XMATCH($B124,'Talnagögn | Numerical Data'!$C:$C), _xlfn.XMATCH($B$4,'Talnagögn | Numerical Data'!$1:$1))-INDEX('Talnagögn | Numerical Data'!$1:$1048576, _xlfn.XMATCH($A124,'Talnagögn | Numerical Data'!$C:$C), _xlfn.XMATCH($B$2,'Talnagögn | Numerical Data'!$1:$1))} -> 68.0512 | AE124: {=INDEX('Talnagögn | Numerical Data'!$1:$1048576, _xlfn.XMATCH($B124,'Talnagögn | Numerical Data'!$C:$C), _xlfn.XMATCH($B$4,'Talnagögn | Numerical Data'!$1:$1))/INDEX('Talnagögn | Numerical Data'!$1:$1048576, _xlfn.XMATCH($A124,'Talnagögn | Numerical Data'!$C:$C), _xlfn.XMATCH($B$2,'Talnagögn | Numerical Data'!$1:$1))-1} -> 0.57060986
