Workbook
Name °B1: 'Talnagögn | Numerical Data'!$G$261

Sheet Upplýsingar | Information
B2: Upplýsingar um skjalið
A4: Gögn byggð á Data based on | B4: Skil Umhverfis- og orkustofnunar til ESB í júlí 2026 Environment and Energy Agency of Iceland's submission to the EU in July 2026
B5: Losunartölur byggðar á hnatthlýnunarmætti úr fimmtu matsskýrslu (AR5) milliríkjanefndar um loftslagsbreyingar (IPCC). Greenhouse gas emissions inventory based on potency from the Intergovernmental Panel on Climate Change's (IPCC) 5th Assessment Report (AR5).
A6: Athugasemd Notes | B6: Næsta gagnabirting er áætluð í janúar 2027 Next data release is scheduled for January 2027
A7: Skjalaumsjón Responsible for this file | B7: Chanee Jónsdóttir Thianthong, Umhverfis- og orkustofnun/Icelandic Environment and Energy Agency
B9: Losunartölurnar í skjalinu miða við ofangreinda dagsetningu. Losunarbókhald Íslands er í stöðugri endurskoðun og því geta losunartölurnar tekið breytingum. The numbers in this document were last updated on the above date. Iceland's greenhouse gas inventory is under constant review and, as a result, the numbers can change from time to time.

Sheet Skuldbindingar | Obligations
A1: 2025 | B1: 1990 | E1: LOSUN GRÓÐURHÚSALOFTTEGUNDA Á ÍSLANDI EFTIR SKULDBINDINGUM | U1: EMISSION OF GREENHOUSE GASES ACCORDING TO OBLIGATIONS
B2: 2005
B3: =$A$1-1 -> 2024
B4: 2030
B5: 2055 | E5: ="STAÐAN ÁRIÐ "&$A$1 -> STAÐAN ÁRIÐ 2025 | M5: FRAMTÍÐARHORFUR | N5: Áætluð breyting í losun milli 2005 og 2030 | U5: =$A$1&" EMISSIONS" -> 2025 EMISSIONS | AC5: OUTLOOKS | AD5: Estimated change in emissions between 2005 and 2030
F6: ="Losun "&$A$1 -> Losun 2025 | H6: ="Breyting frá "&$B$3 -> Breyting frá 2024 | J6: ="Breyting frá "&$B$2 -> Breyting frá 2005 | N6: ='Talnagögn | Numerical Data'!$E$14 -> Losunarspá: Sviðsmynd byggð á aðgerðum stjórnvalda | V6: ="Emissions in "&$A$1 -> Emissions in 2025 | X6: ="Change from "&$B$3 -> Change from 2024 | Z6: ="Change from "&$B$2 -> Change from 2005 | AD6: ='Talnagögn | Numerical Data'!$G$14 -> Emission Projections: Government Policy-Based Scenario
F7: Þús. tonn CO₂-íg. | G7: % | H7: =$F$7 -> Þús. tonn CO₂-íg. | I7: % | J7: =$F$7 -> Þús. tonn CO₂-íg. | K7: % | N7: =$F$7 -> Þús. tonn CO₂-íg. | O7: % | V7: Thousand tons CO₂e | W7: % | X7: =$V$7 -> Thousand tons CO₂e | Y7: % | Z7: =$V$7 -> Thousand tons CO₂e | AA7: % | AD7: =$V$7 -> Thousand tons CO₂e | AE7: %
A8: ESR Historical | B8: ESR WEM | E8: Samfélagslosun | M8: Samfélagslosun | U8: Effort Sharing Regulation | AC8: Effort Sharing Regulation
A9: JCD2005 | C9: ESR WAM | E9: Samkvæmt losunarbókhaldi | F9: {=INDEX('Talnagögn | Numerical Data'!$1:$1048576, _xlfn.XMATCH($A8,'Talnagögn | Numerical Data'!$C:$C), _xlfn.XMATCH($A$1,'Talnagögn | Numerical Data'!$1:$1))} -> 2793.7564 | G9: =F9/$F$14 -> 0.26431608 | H9: {=INDEX('Talnagögn | Numerical Data'!$1:$1048576, _xlfn.XMATCH($A8,'Talnagögn | Numerical Data'!$C:$C), _xlfn.XMATCH($A$1,'Talnagögn | Numerical Data'!$1:$1))-INDEX('Talnagögn | Numerical Data'!$1:$1048576, _xlfn.XMATCH($A8,'Talnagögn | Numerical Data'!$C:$C), _xlfn.XMATCH($B$3,'Talnagögn | Numerical Data'!$1:$1))} -> -78.839915 | I9: {=INDEX('Talnagögn | Numerical Data'!$1:$1048576, _xlfn.XMATCH($A8,'Talnagögn | Numerical Data'!$C:$C), _xlfn.XMATCH($A$1,'Talnagögn | Numerical Data'!$1:$1))/INDEX('Talnagögn | Numerical Data'!$1:$1048576, _xlfn.XMATCH($A8,'Talnagögn | Numerical Data'!$C:$C), _xlfn.XMATCH($B$3,'Talnagögn | Numerical Data'!$1:$1))-1} -> -0.027445525 | J9: {=INDEX('Talnagögn | Numerical Data'!$1:$1048576, _xlfn.XMATCH($A8,'Talnagögn | Numerical Data'!$C:$C), _xlfn.XMATCH($A$1,'Talnagögn | Numerical Data'!$1:$1))-INDEX('Talnagögn | Numerical Data'!$1:$1048576, _xlfn.XMATCH($A8,'Talnagögn | Numerical Data'!$C:$C), _xlfn.XMATCH($B$2,'Talnagögn | Numerical Data'!$1:$1))} -> -434.84016 | K9: {=INDEX('Talnagögn | Numerical Data'!$1:$1048576, _xlfn.XMATCH($A8,'Talnagögn | Numerical Data'!$C:$C), _xlfn.XMATCH($A$1,'Talnagögn | Numerical Data'!$1:$1))/INDEX('Talnagögn | Numerical Data'!$1:$1048576, _xlfn.XMATCH($A8,'Talnagögn | Numerical Data'!$C:$C), _xlfn.XMATCH($B$2,'Talnagögn | Numerical Data'!$1:$1))-1} -> -0.13468396 | M9: Samkvæmt losunarbókhaldi | N9: {=INDEX('Talnagögn | Numerical Data'!$1:$1048576, _xlfn.XMATCH($B8,'Talnagögn | Numerical Data'!$C:$C), _xlfn.XMATCH($B$4,'Talnagögn | Numerical Data'!$1:$1))-INDEX('Talnagögn | Numerical Data'!$1:$1048576, _xlfn.XMATCH($A8,'Talnagögn | Numerical Data'!$C:$C), _xlfn.XMATCH($B$2,'Talnagögn | Numerical Data'!$1:$1))} -> -766.94915 | O9: {=INDEX('Talnagögn | Numerical Data'!$1:$1048576, _xlfn.XMATCH($B8,'Talnagögn | Numerical Data'!$C:$C), _xlfn.XMATCH($B$4,'Talnagögn | Numerical Data'!$1:$1))/INDEX('Talnagögn | Numerical Data'!$1:$1048576, _xlfn.XMATCH($A8,'Talnagögn | Numerical Data'!$C:$C), _xlfn.XMATCH($B$2,'Talnagögn | Numerical Data'!$1:$1))-1} -> -0.23754877 | U9: According to national inventory | V9: {=INDEX('Talnagögn | Numerical Data'!$1:$1048576, _xlfn.XMATCH($A8,'Talnagögn | Numerical Data'!$C:$C), _xlfn.XMATCH($A$1,'Talnagögn | Numerical Data'!$1:$1))} -> 2793.7564 | W9: =V9/$F$14 -> 0.26431608 | X9: {=INDEX('Talnagögn | Numerical Data'!$1:$1048576, _xlfn.XMATCH($A8,'Talnagögn | Numerical Data'!$C:$C), _xlfn.XMATCH($A$1,'Talnagögn | Numerical Data'!$1:$1))-INDEX('Talnagögn | Numerical Data'!$1:$1048576, _xlfn.XMATCH($A8,'Talnagögn | Numerical Data'!$C:$C), _xlfn.XMATCH($B$3,'Talnagögn | Numerical Data'!$1:$1))} -> -78.839915 | Y9: {=INDEX('Talnagögn | Numerical Data'!$1:$1048576, _xlfn.XMATCH($A8,'Talnagögn | Numerical Data'!$C:$C), _xlfn.XMATCH($A$1,'Talnagögn | Numerical Data'!$1:$1))/INDEX('Talnagögn | Numerical Data'!$1:$1048576, _xlfn.XMATCH($A8,'Talnagögn | Numerical Data'!$C:$C), _xlfn.XMATCH($B$3,'Talnagögn | Numerical Data'!$1:$1))-1} -> -0.027445525 | Z9: {=INDEX('Talnagögn | Numerical Data'!$1:$1048576, _xlfn.XMATCH($A8,'Talnagögn | Numerical Data'!$C:$C), _xlfn.XMATCH($A$1,'Talnagögn | Numerical Data'!$1:$1))-INDEX('Talnagögn | Numerical Data'!$1:$1048576, _xlfn.XMATCH($A8,'Talnagögn | Numerical Data'!$C:$C), _xlfn.XMATCH($B$2,'Talnagögn | Numerical Data'!$1:$1))} -> -434.84016 | AA9: {=INDEX('Talnagögn | Numerical Data'!$1:$1048576, _xlfn.XMATCH($A8,'Talnagögn | Numerical Data'!$C:$C), _xlfn.XMATCH($A$1,'Talnagögn | Numerical Data'!$1:$1))/INDEX('Talnagögn | Numerical Data'!$1:$1048576, _xlfn.XMATCH($A8,'Talnagögn | Numerical Data'!$C:$C), _xlfn.XMATCH($B$2,'Talnagögn | Numerical Data'!$1:$1))-1} -> -0.13468396 | AC9: According to national inventory | AD9: {=INDEX('Talnagögn | Numerical Data'!$1:$1048576, _xlfn.XMATCH($B8,'Talnagögn | Numerical Data'!$C:$C), _xlfn.XMATCH($B$4,'Talnagögn | Numerical Data'!$1:$1))-INDEX('Talnagögn | Numerical Data'!$1:$1048576, _xlfn.XMATCH($A8,'Talnagögn | Numerical Data'!$C:$C), _xlfn.XMATCH($B$2,'Talnagögn | Numerical Data'!$1:$1))} -> -766.94915 | AE9: {=INDEX('Talnagögn | Numerical Data'!$1:$1048576, _xlfn.XMATCH($B8,'Talnagögn | Numerical Data'!$C:$C), _xlfn.XMATCH($B$4,'Talnagögn | Numerical Data'!$1:$1))/INDEX('Talnagögn | Numerical Data'!$1:$1048576, _xlfn.XMATCH($A8,'Talnagögn | Numerical Data'!$C:$C), _xlfn.XMATCH($B$2,'Talnagögn | Numerical Data'!$1:$1))-1} -> -0.23754877
A10: LULUCF Historical | B10: LULUCF WEM | E10: Samkvæmt JCD 29/2022* | F10: — | G10: — | H10: — | I10: — | J10: {=INDEX('Talnagögn | Numerical Data'!$1:$1048576, _xlfn.XMATCH($A8,'Talnagögn | Numerical Data'!$C:$C), _xlfn.XMATCH($A$1,'Talnagögn | Numerical Data'!$1:$1))-INDEX('Talnagögn | Numerical Data'!$1:$1048576, _xlfn.XMATCH($A9,'Talnagögn | Numerical Data'!$C:$C), _xlfn.XMATCH($B$2,'Talnagögn | Numerical Data'!$1:$1))} -> -315.57258 | K10: {=INDEX('Talnagögn | Numerical Data'!$1:$1048576, _xlfn.XMATCH($A8,'Talnagögn | Numerical Data'!$C:$C), _xlfn.XMATCH($A$1,'Talnagögn | Numerical Data'!$1:$1))/INDEX('Talnagögn | Numerical Data'!$1:$1048576, _xlfn.XMATCH($A9,'Talnagögn | Numerical Data'!$C:$C), _xlfn.XMATCH($B$2,'Talnagögn | Numerical Data'!$1:$1))-1} -> -0.10149218 | M10: Samkvæmt JCD 29/2022* | N10: {=INDEX('Talnagögn | Numerical Data'!$1:$1048576, _xlfn.XMATCH($B8,'Talnagögn | Numerical Data'!$C:$C), _xlfn.XMATCH($B$4,'Talnagögn | Numerical Data'!$1:$1))-INDEX('Talnagögn | Numerical Data'!$1:$1048576, _xlfn.XMATCH($A9,'Talnagögn | Numerical Data'!$B:$B), _xlfn.XMATCH($B$2,'Talnagögn | Numerical Data'!$1:$1))} -> -647.68157 | O10: {=INDEX('Talnagögn | Numerical Data'!$1:$1048576, _xlfn.XMATCH($B8,'Talnagögn | Numerical Data'!$C:$C), _xlfn.XMATCH($B$4,'Talnagögn | Numerical Data'!$1:$1))/INDEX('Talnagögn | Numerical Data'!$1:$1048576, _xlfn.XMATCH($A9,'Talnagögn | Numerical Data'!$C:$C), _xlfn.XMATCH($B$2,'Talnagögn | Numerical Data'!$1:$1))-1} -> -0.20830268 | U10: According to JCD 29/2022* | V10: — | W10: — | X10: — | Y10: — | Z10: {=INDEX('Talnagögn | Numerical Data'!$1:$1048576, _xlfn.XMATCH($A8,'Talnagögn | Numerical Data'!$C:$C), _xlfn.XMATCH($A$1,'Talnagögn | Numerical Data'!$1:$1))-INDEX('Talnagögn | Numerical Data'!$1:$1048576, _xlfn.XMATCH($A9,'Talnagögn | Numerical Data'!$C:$C), _xlfn.XMATCH($B$2,'Talnagögn | Numerical Data'!$1:$1))} -> -315.57258 | AA10: {=INDEX('Talnagögn | Numerical Data'!$1:$1048576, _xlfn.XMATCH($A8,'Talnagögn | Numerical Data'!$C:$C), _xlfn.XMATCH($A$1,'Talnagögn | Numerical Data'!$1:$1))/INDEX('Talnagögn | Numerical Data'!$1:$1048576, _xlfn.XMATCH($A9,'Talnagögn | Numerical Data'!$C:$C), _xlfn.XMATCH($B$2,'Talnagögn | Numerical Data'!$1:$1))-1} -> -0.10149218 | AC10: According to JCD 29/2022* | AD10: {=INDEX('Talnagögn | Numerical Data'!$1:$1048576, _xlfn.XMATCH($B8,'Talnagögn | Numerical Data'!$C:$C), _xlfn.XMATCH($B$4,'Talnagögn | Numerical Data'!$1:$1))-INDEX('Talnagögn | Numerical Data'!$1:$1048576, _xlfn.XMATCH($A9,'Talnagögn | Numerical Data'!$B:$B), _xlfn.XMATCH($B$2,'Talnagögn | Numerical Data'!$1:$1))} -> -647.68157 | AE10: {=INDEX('Talnagögn | Numerical Data'!$1:$1048576, _xlfn.XMATCH($B8,'Talnagögn | Numerical Data'!$C:$C), _xlfn.XMATCH($B$4,'Talnagögn | Numerical Data'!$1:$1))/INDEX('Talnagögn | Numerical Data'!$1:$1048576, _xlfn.XMATCH($A9,'Talnagögn | Numerical Data'!$C:$C), _xlfn.XMATCH($B$2,'Talnagögn | Numerical Data'!$1:$1))-1} -> -0.20830268
A11: ETS Historical | B11: ETS WEM | E11: Landnotkun | F11: {=INDEX('Talnagögn | Numerical Data'!$1:$1048576, _xlfn.XMATCH($A10,'Talnagögn | Numerical Data'!$C:$C), _xlfn.XMATCH($A$1,'Talnagögn | Numerical Data'!1:1))} -> 6080.341 | G11: =F11/$F$14 -> 0.57525841 | H11: {=INDEX('Talnagögn | Numerical Data'!$1:$1048576, _xlfn.XMATCH($A$10,'Talnagögn | Numerical Data'!$C:$C), _xlfn.XMATCH($A$1,'Talnagögn | Numerical Data'!$1:$1))-INDEX('Talnagögn | Numerical Data'!$1:$1048576, _xlfn.XMATCH($A$10,'Talnagögn | Numerical Data'!$C:$C), _xlfn.XMATCH($B$3,'Talnagögn | Numerical Data'!$1:$1))} -> -135.57528 | I11: {=INDEX('Talnagögn | Numerical Data'!$1:$1048576, _xlfn.XMATCH($A$10,'Talnagögn | Numerical Data'!$C:$C), _xlfn.XMATCH($A$1,'Talnagögn | Numerical Data'!$1:$1))/INDEX('Talnagögn | Numerical Data'!$1:$1048576, _xlfn.XMATCH($A$10,'Talnagögn | Numerical Data'!$C:$C), _xlfn.XMATCH($B$3,'Talnagögn | Numerical Data'!$1:$1))-1} -> -0.021810989 | J11: {=INDEX('Talnagögn | Numerical Data'!$1:$1048576, _xlfn.XMATCH($A$10,'Talnagögn | Numerical Data'!$C:$C), _xlfn.XMATCH($A$1,'Talnagögn | Numerical Data'!$1:$1))-INDEX('Talnagögn | Numerical Data'!$1:$1048576, _xlfn.XMATCH($A$10,'Talnagögn | Numerical Data'!$C:$C), _xlfn.XMATCH($B$2,'Talnagögn | Numerical Data'!$1:$1))} -> -568.72412 | K11: {=INDEX('Talnagögn | Numerical Data'!$1:$1048576, _xlfn.XMATCH($A$10,'Talnagögn | Numerical Data'!$C:$C), _xlfn.XMATCH($A$1,'Talnagögn | Numerical Data'!$1:$1))/INDEX('Talnagögn | Numerical Data'!$1:$1048576, _xlfn.XMATCH($A$10,'Talnagögn | Numerical Data'!$C:$C), _xlfn.XMATCH($B$2,'Talnagögn | Numerical Data'!$1:$1))-1} -> -0.085534449 | M11: Landnotkun | N11: {=INDEX('Talnagögn | Numerical Data'!$1:$1048576, _xlfn.XMATCH($B10,'Talnagögn | Numerical Data'!$C:$C), _xlfn.XMATCH($B$4,'Talnagögn | Numerical Data'!$1:$1))-INDEX('Talnagögn | Numerical Data'!$1:$1048576, _xlfn.XMATCH($A10,'Talnagögn | Numerical Data'!$C:$C), _xlfn.XMATCH($B$2,'Talnagögn | Numerical Data'!$1:$1))} -> -1129.7228 | O11: {=INDEX('Talnagögn | Numerical Data'!$1:$1048576, _xlfn.XMATCH($B10,'Talnagögn | Numerical Data'!$C:$C), _xlfn.XMATCH($B$4,'Talnagögn | Numerical Data'!$1:$1))/INDEX('Talnagögn | Numerical Data'!$1:$1048576, _xlfn.XMATCH($A10,'Talnagögn | Numerical Data'!$C:$C), _xlfn.XMATCH($B$2,'Talnagögn | Numerical Data'!$1:$1))-1} -> -0.16990702 | U11: LULUCF | V11: {=INDEX('Talnagögn | Numerical Data'!$1:$1048576, _xlfn.XMATCH($A10,'Talnagögn | Numerical Data'!$C:$C), _xlfn.XMATCH($A$1,'Talnagögn | Numerical Data'!1:1))} -> 6080.341 | W11: =V11/$F$14 -> 0.57525841 | X11: {=INDEX('Talnagögn | Numerical Data'!$1:$1048576, _xlfn.XMATCH($A$10,'Talnagögn | Numerical Data'!$C:$C), _xlfn.XMATCH($A$1,'Talnagögn | Numerical Data'!$1:$1))-INDEX('Talnagögn | Numerical Data'!$1:$1048576, _xlfn.XMATCH($A$10,'Talnagögn | Numerical Data'!$C:$C), _xlfn.XMATCH($B$3,'Talnagögn | Numerical Data'!$1:$1))} -> -135.57528 | Y11: {=INDEX('Talnagögn | Numerical Data'!$1:$1048576, _xlfn.XMATCH($A$10,'Talnagögn | Numerical Data'!$C:$C), _xlfn.XMATCH($A$1,'Talnagögn | Numerical Data'!$1:$1))/INDEX('Talnagögn | Numerical Data'!$1:$1048576, _xlfn.XMATCH($A$10,'Talnagögn | Numerical Data'!$C:$C), _xlfn.XMATCH($B$3,'Talnagögn | Numerical Data'!$1:$1))-1} -> -0.021810989 | Z11: {=INDEX('Talnagögn | Numerical Data'!$1:$1048576, _xlfn.XMATCH($A$10,'Talnagögn | Numerical Data'!$C:$C), _xlfn.XMATCH($A$1,'Talnagögn | Numerical Data'!$1:$1))-INDEX('Talnagögn | Numerical Data'!$1:$1048576, _xlfn.XMATCH($A$10,'Talnagögn | Numerical Data'!$C:$C), _xlfn.XMATCH($B$2,'Talnagögn | Numerical Data'!$1:$1))} -> -568.72412 | AA11: {=INDEX('Talnagögn | Numerical Data'!$1:$1048576, _xlfn.XMATCH($A$10,'Talnagögn | Numerical Data'!$C:$C), _xlfn.XMATCH($A$1,'Talnagögn | Numerical Data'!$1:$1))/INDEX('Talnagögn | Numerical Data'!$1:$1048576, _xlfn.XMATCH($A$10,'Talnagögn | Numerical Data'!$C:$C), _xlfn.XMATCH($B$2,'Talnagögn | Numerical Data'!$1:$1))-1} -> -0.085534449 | AC11: LULUCF | AD11: {=INDEX('Talnagögn | Numerical Data'!$1:$1048576, _xlfn.XMATCH($B10,'Talnagögn | Numerical Data'!$C:$C), _xlfn.XMATCH($B$4,'Talnagögn | Numerical Data'!$1:$1))-INDEX('Talnagögn | Numerical Data'!$1:$1048576, _xlfn.XMATCH($A10,'Talnagögn | Numerical Data'!$C:$C), _xlfn.XMATCH($B$2,'Talnagögn | Numerical Data'!$1:$1))} -> -1129.7228 | AE11: {=INDEX('Talnagögn | Numerical Data'!$1:$1048576, _xlfn.XMATCH($B10,'Talnagögn | Numerical Data'!$C:$C), _xlfn.XMATCH($B$4,'Talnagögn | Numerical Data'!$1:$1))/INDEX('Talnagögn | Numerical Data'!$1:$1048576, _xlfn.XMATCH($A10,'Talnagögn | Numerical Data'!$C:$C), _xlfn.XMATCH($B$2,'Talnagögn | Numerical Data'!$1:$1))-1} -> -0.16990702
A12: DomAvi Historical | B12: DomAvi WEM | E12: ETS** staðbundinn iðnaður | F12: {=INDEX('Talnagögn | Numerical Data'!$1:$1048576, _xlfn.XMATCH($A11,'Talnagögn | Numerical Data'!$C:$C), _xlfn.XMATCH($A$1,'Talnagögn | Numerical Data'!$1:$1))} -> 1676.5844 | G12: =F12/$F$14 -> 0.15862092 | H12: {=INDEX('Talnagögn | Numerical Data'!$1:$1048576, _xlfn.XMATCH($A$11,'Talnagögn | Numerical Data'!$C:$C), _xlfn.XMATCH($A$1,'Talnagögn | Numerical Data'!$1:$1))-INDEX('Talnagögn | Numerical Data'!$1:$1048576, _xlfn.XMATCH($A$11,'Talnagögn | Numerical Data'!$C:$C), _xlfn.XMATCH($B$3,'Talnagögn | Numerical Data'!$1:$1))} -> -212.56963 | I12: {=INDEX('Talnagögn | Numerical Data'!$1:$1048576, _xlfn.XMATCH($A$11,'Talnagögn | Numerical Data'!$C:$C), _xlfn.XMATCH($A$1,'Talnagögn | Numerical Data'!$1:$1))/INDEX('Talnagögn | Numerical Data'!$1:$1048576, _xlfn.XMATCH($A$11,'Talnagögn | Numerical Data'!$C:$C), _xlfn.XMATCH($B$3,'Talnagögn | Numerical Data'!$1:$1))-1} -> -0.11252107 | J12: {=INDEX('Talnagögn | Numerical Data'!$1:$1048576, _xlfn.XMATCH($A$11,'Talnagögn | Numerical Data'!$C:$C), _xlfn.XMATCH($A$1,'Talnagögn | Numerical Data'!$1:$1))-INDEX('Talnagögn | Numerical Data'!$1:$1048576, _xlfn.XMATCH($A$11,'Talnagögn | Numerical Data'!$C:$C), _xlfn.XMATCH($B$2,'Talnagögn | Numerical Data'!$1:$1))} -> 823.70144 | K12: {=INDEX('Talnagögn | Numerical Data'!$1:$1048576, _xlfn.XMATCH($A$11,'Talnagögn | Numerical Data'!$C:$C), _xlfn.XMATCH($A$1,'Talnagögn | Numerical Data'!$1:$1))/INDEX('Talnagögn | Numerical Data'!$1:$1048576, _xlfn.XMATCH($A$11,'Talnagögn | Numerical Data'!$C:$C), _xlfn.XMATCH($B$2,'Talnagögn | Numerical Data'!$1:$1))-1} -> 0.96578488 | M12: ETS** staðbundinn iðnaður | N12: {=INDEX('Talnagögn | Numerical Data'!$1:$1048576, _xlfn.XMATCH($B11,'Talnagögn | Numerical Data'!$C:$C), _xlfn.XMATCH($B$4,'Talnagögn | Numerical Data'!$1:$1))-INDEX('Talnagögn | Numerical Data'!$1:$1048576, _xlfn.XMATCH($A11,'Talnagögn | Numerical Data'!$C:$C), _xlfn.XMATCH($B$2,'Talnagögn | Numerical Data'!$1:$1))} -> 1060.8327 | O12: {=INDEX('Talnagögn | Numerical Data'!$1:$1048576, _xlfn.XMATCH($B11,'Talnagögn | Numerical Data'!$C:$C), _xlfn.XMATCH($B$4,'Talnagögn | Numerical Data'!$1:$1))/INDEX('Talnagögn | Numerical Data'!$1:$1048576, _xlfn.XMATCH($A11,'Talnagögn | Numerical Data'!$C:$C), _xlfn.XMATCH($B$2,'Talnagögn | Numerical Data'!$1:$1))-1} -> 1.2438198 | U12: ETS Stationary Industries** | V12: {=INDEX('Talnagögn | Numerical Data'!$1:$1048576, _xlfn.XMATCH($A11,'Talnagögn | Numerical Data'!$C:$C), _xlfn.XMATCH($A$1,'Talnagögn | Numerical Data'!$1:$1))} -> 1676.5844 | W12: =V12/$F$14 -> 0.15862092 | X12: {=INDEX('Talnagögn | Numerical Data'!$1:$1048576, _xlfn.XMATCH($A$11,'Talnagögn | Numerical Data'!$C:$C), _xlfn.XMATCH($A$1,'Talnagögn | Numerical Data'!$1:$1))-INDEX('Talnagögn | Numerical Data'!$1:$1048576, _xlfn.XMATCH($A$11,'Talnagögn | Numerical Data'!$C:$C), _xlfn.XMATCH($B$3,'Talnagögn | Numerical Data'!$1:$1))} -> -212.56963 | Y12: {=INDEX('Talnagögn | Numerical Data'!$1:$1048576, _xlfn.XMATCH($A$11,'Talnagögn | Numerical Data'!$C:$C), _xlfn.XMATCH($A$1,'Talnagögn | Numerical Data'!$1:$1))/INDEX('Talnagögn | Numerical Data'!$1:$1048576, _xlfn.XMATCH($A$11,'Talnagögn | Numerical Data'!$C:$C), _xlfn.XMATCH($B$3,'Talnagögn | Numerical Data'!$1:$1))-1} -> -0.11252107 | Z12: {=INDEX('Talnagögn | Numerical Data'!$1:$1048576, _xlfn.XMATCH($A$11,'Talnagögn | Numerical Data'!$C:$C), _xlfn.XMATCH($A$1,'Talnagögn | Numerical Data'!$1:$1))-INDEX('Talnagögn | Numerical Data'!$1:$1048576, _xlfn.XMATCH($A$11,'Talnagögn | Numerical Data'!$C:$C), _xlfn.XMATCH($B$2,'Talnagögn | Numerical Data'!$1:$1))} -> 823.70144 | AA12: {=INDEX('Talnagögn | Numerical Data'!$1:$1048576, _xlfn.XMATCH($A$11,'Talnagögn | Numerical Data'!$C:$C), _xlfn.XMATCH($A$1,'Talnagögn | Numerical Data'!$1:$1))/INDEX('Talnagögn | Numerical Data'!$1:$1048576, _xlfn.XMATCH($A$11,'Talnagögn | Numerical Data'!$C:$C), _xlfn.XMATCH($B$2,'Talnagögn | Numerical Data'!$1:$1))-1} -> 0.96578488 | AC12: ETS Stationary Industry** | AD12: {=INDEX('Talnagögn | Numerical Data'!$1:$1048576, _xlfn.XMATCH($B11,'Talnagögn | Numerical Data'!$C:$C), _xlfn.XMATCH($B$4,'Talnagögn | Numerical Data'!$1:$1))-INDEX('Talnagögn | Numerical Data'!$1:$1048576, _xlfn.XMATCH($A11,'Talnagögn | Numerical Data'!$C:$C), _xlfn.XMATCH($B$2,'Talnagögn | Numerical Data'!$1:$1))} -> 1060.8327 | AE12: {=INDEX('Talnagögn | Numerical Data'!$1:$1048576, _xlfn.XMATCH($B11,'Talnagögn | Numerical Data'!$C:$C), _xlfn.XMATCH($B$4,'Talnagögn | Numerical Data'!$1:$1))/INDEX('Talnagögn | Numerical Data'!$1:$1048576, _xlfn.XMATCH($A11,'Talnagögn | Numerical Data'!$C:$C), _xlfn.XMATCH($B$2,'Talnagögn | Numerical Data'!$1:$1))-1} -> 1.2438198
A13: NatTot_W_LULUCF Historical | B13: NatTot_W_LULUCF WEM | C13: DomAvi WAM | E13: Innanlandsflug (CO₂)*** | F13: {=INDEX('Talnagögn | Numerical Data'!$1:$1048576, _xlfn.XMATCH($A12,'Talnagögn | Numerical Data'!$C:$C), _xlfn.XMATCH($A$1,'Talnagögn | Numerical Data'!$1:$1))} -> 19.074137 | G13: =F13/$F$14 -> 0.0018045957 | H13: {=INDEX('Talnagögn | Numerical Data'!$1:$1048576, _xlfn.XMATCH($A12,'Talnagögn | Numerical Data'!$C:$C), _xlfn.XMATCH($A$1,'Talnagögn | Numerical Data'!$1:$1))-INDEX('Talnagögn | Numerical Data'!$1:$1048576, _xlfn.XMATCH($A12,'Talnagögn | Numerical Data'!$C:$C), _xlfn.XMATCH($B$3,'Talnagögn | Numerical Data'!$1:$1))} -> -1.27001 | I13: {=INDEX('Talnagögn | Numerical Data'!$1:$1048576, _xlfn.XMATCH($A12,'Talnagögn | Numerical Data'!$C:$C), _xlfn.XMATCH($A$1,'Talnagögn | Numerical Data'!$1:$1))/INDEX('Talnagögn | Numerical Data'!$1:$1048576, _xlfn.XMATCH($A12,'Talnagögn | Numerical Data'!$C:$C), _xlfn.XMATCH($B$3,'Talnagögn | Numerical Data'!$1:$1))-1} -> -0.062426311 | J13: {=INDEX('Talnagögn | Numerical Data'!$1:$1048576, _xlfn.XMATCH($A12,'Talnagögn | Numerical Data'!$C:$C), _xlfn.XMATCH($A$1,'Talnagögn | Numerical Data'!$1:$1))-INDEX('Talnagögn | Numerical Data'!$1:$1048576, _xlfn.XMATCH($A12,'Talnagögn | Numerical Data'!$C:$C), _xlfn.XMATCH($B$2,'Talnagögn | Numerical Data'!$1:$1))} -> -6.9330016 | K13: {=INDEX('Talnagögn | Numerical Data'!$1:$1048576, _xlfn.XMATCH($A12,'Talnagögn | Numerical Data'!$C:$C), _xlfn.XMATCH($A$1,'Talnagögn | Numerical Data'!$1:$1))/INDEX('Talnagögn | Numerical Data'!$1:$1048576, _xlfn.XMATCH($A12,'Talnagögn | Numerical Data'!$C:$C), _xlfn.XMATCH($B$2,'Talnagögn | Numerical Data'!$1:$1))-1} -> -0.26658072 | M13: Innanlandsflug (CO₂)*** | N13: {=INDEX('Talnagögn | Numerical Data'!$1:$1048576, _xlfn.XMATCH($B12,'Talnagögn | Numerical Data'!$C:$C), _xlfn.XMATCH($B$4,'Talnagögn | Numerical Data'!$1:$1))-INDEX('Talnagögn | Numerical Data'!$1:$1048576, _xlfn.XMATCH($A12,'Talnagögn | Numerical Data'!$C:$C), _xlfn.XMATCH($B$2,'Talnagögn | Numerical Data'!$1:$1))} -> -6.6087544 | O13: {=INDEX('Talnagögn | Numerical Data'!$1:$1048576, _xlfn.XMATCH($B12,'Talnagögn | Numerical Data'!$C:$C), _xlfn.XMATCH($B$4,'Talnagögn | Numerical Data'!$1:$1))/INDEX('Talnagögn | Numerical Data'!$1:$1048576, _xlfn.XMATCH($A12,'Talnagögn | Numerical Data'!$C:$C), _xlfn.XMATCH($B$2,'Talnagögn | Numerical Data'!$1:$1))-1} -> -0.2541131 | U13: Domestic aviation (CO₂)*** | V13: {=INDEX('Talnagögn | Numerical Data'!$1:$1048576, _xlfn.XMATCH($A12,'Talnagögn | Numerical Data'!$C:$C), _xlfn.XMATCH($A$1,'Talnagögn | Numerical Data'!$1:$1))} -> 19.074137 | W13: =V13/$F$14 -> 0.0018045957 | X13: {=INDEX('Talnagögn | Numerical Data'!$1:$1048576, _xlfn.XMATCH($A12,'Talnagögn | Numerical Data'!$C:$C), _xlfn.XMATCH($A$1,'Talnagögn | Numerical Data'!$1:$1))-INDEX('Talnagögn | Numerical Data'!$1:$1048576, _xlfn.XMATCH($A12,'Talnagögn | Numerical Data'!$C:$C), _xlfn.XMATCH($B$3,'Talnagögn | Numerical Data'!$1:$1))} -> -1.27001 | Y13: {=INDEX('Talnagögn | Numerical Data'!$1:$1048576, _xlfn.XMATCH($A12,'Talnagögn | Numerical Data'!$C:$C), _xlfn.XMATCH($A$1,'Talnagögn | Numerical Data'!$1:$1))/INDEX('Talnagögn | Numerical Data'!$1:$1048576, _xlfn.XMATCH($A12,'Talnagögn | Numerical Data'!$C:$C), _xlfn.XMATCH($B$3,'Talnagögn | Numerical Data'!$1:$1))-1} -> -0.062426311 | Z13: {=INDEX('Talnagögn | Numerical Data'!$1:$1048576, _xlfn.XMATCH($A12,'Talnagögn | Numerical Data'!$C:$C), _xlfn.XMATCH($A$1,'Talnagögn | Numerical Data'!$1:$1))-INDEX('Talnagögn | Numerical Data'!$1:$1048576, _xlfn.XMATCH($A12,'Talnagögn | Numerical Data'!$C:$C), _xlfn.XMATCH($B$2,'Talnagögn | Numerical Data'!$1:$1))} -> -6.9330016 | AA13: {=INDEX('Talnagögn | Numerical Data'!$1:$1048576, _xlfn.XMATCH($A12,'Talnagögn | Numerical Data'!$C:$C), _xlfn.XMATCH($A$1,'Talnagögn | Numerical Data'!$1:$1))/INDEX('Talnagögn | Numerical Data'!$1:$1048576, _xlfn.XMATCH($A12,'Talnagögn | Numerical Data'!$C:$C), _xlfn.XMATCH($B$2,'Talnagögn | Numerical Data'!$1:$1))-1} -> -0.26658072 | AC13: Domestic aviation (CO₂)*** | AD13: {=INDEX('Talnagögn | Numerical Data'!$1:$1048576, _xlfn.XMATCH($B12,'Talnagögn | Numerical Data'!$C:$C), _xlfn.XMATCH($B$4,'Talnagögn | Numerical Data'!$1:$1))-INDEX('Talnagögn | Numerical Data'!$1:$1048576, _xlfn.XMATCH($A12,'Talnagögn | Numerical Data'!$C:$C), _xlfn.XMATCH($B$2,'Talnagögn | Numerical Data'!$1:$1))} -> -6.6087544 | AE13: {=INDEX('Talnagögn | Numerical Data'!$1:$1048576, _xlfn.XMATCH($B12,'Talnagögn | Numerical Data'!$C:$C), _xlfn.XMATCH($B$4,'Talnagögn | Numerical Data'!$1:$1))/INDEX('Talnagögn | Numerical Data'!$1:$1048576, _xlfn.XMATCH($A12,'Talnagögn | Numerical Data'!$C:$C), _xlfn.XMATCH($B$2,'Talnagögn | Numerical Data'!$1:$1))-1} -> -0.2541131
C14: NatTot_W_LULUCF WAM | E14: Samtals | F14: {=INDEX('Talnagögn | Numerical Data'!$1:$1048576, _xlfn.XMATCH($A13,'Talnagögn | Numerical Data'!$C:$C), _xlfn.XMATCH($A$1,'Talnagögn | Numerical Data'!1:1))} -> 10569.756 | G14: =SUM(G8:G13) -> 1 | H14: {=INDEX('Talnagögn | Numerical Data'!$1:$1048576, _xlfn.XMATCH($A$13,'Talnagögn | Numerical Data'!$C:$C), _xlfn.XMATCH($A$1,'Talnagögn | Numerical Data'!$1:$1))-INDEX('Talnagögn | Numerical Data'!$1:$1048576, _xlfn.XMATCH($A$13,'Talnagögn | Numerical Data'!$C:$C), _xlfn.XMATCH($B$3,'Talnagögn | Numerical Data'!$1:$1))} -> -428.25484 | I14: {=INDEX('Talnagögn | Numerical Data'!$1:$1048576, _xlfn.XMATCH($A$13,'Talnagögn | Numerical Data'!$C:$C), _xlfn.XMATCH($A$1,'Talnagögn | Numerical Data'!$1:$1))/INDEX('Talnagögn | Numerical Data'!$1:$1048576, _xlfn.XMATCH($A$13,'Talnagögn | Numerical Data'!$C:$C), _xlfn.XMATCH($B$3,'Talnagögn | Numerical Data'!$1:$1))-1} -> -0.0389393 | J14: {=INDEX('Talnagögn | Numerical Data'!$1:$1048576, _xlfn.XMATCH($A$13,'Talnagögn | Numerical Data'!$C:$C), _xlfn.XMATCH($A$1,'Talnagögn | Numerical Data'!$1:$1))-INDEX('Talnagögn | Numerical Data'!$1:$1048576, _xlfn.XMATCH($A$13,'Talnagögn | Numerical Data'!$C:$C), _xlfn.XMATCH($B$2,'Talnagögn | Numerical Data'!$1:$1))} -> -186.79585 | K14: {=INDEX('Talnagögn | Numerical Data'!$1:$1048576, _xlfn.XMATCH($A$13,'Talnagögn | Numerical Data'!$C:$C), _xlfn.XMATCH($A$1,'Talnagögn | Numerical Data'!$1:$1))/INDEX('Talnagögn | Numerical Data'!$1:$1048576, _xlfn.XMATCH($A$13,'Talnagögn | Numerical Data'!$C:$C), _xlfn.XMATCH($B$2,'Talnagögn | Numerical Data'!$1:$1))-1} -> -0.017365774 | M14: Samtals | N14: {=INDEX('Talnagögn | Numerical Data'!$1:$1048576, _xlfn.XMATCH($B13,'Talnagögn | Numerical Data'!$C:$C), _xlfn.XMATCH($B$4,'Talnagögn | Numerical Data'!$1:$1))-INDEX('Talnagögn | Numerical Data'!$1:$1048576, _xlfn.XMATCH($A13,'Talnagögn | Numerical Data'!$C:$C), _xlfn.XMATCH($B$2,'Talnagögn | Numerical Data'!$1:$1))} -> -842.44804 | O14: {=INDEX('Talnagögn | Numerical Data'!$1:$1048576, _xlfn.XMATCH($B13,'Talnagögn | Numerical Data'!$C:$C), _xlfn.XMATCH($B$4,'Talnagögn | Numerical Data'!$1:$1))/INDEX('Talnagögn | Numerical Data'!$1:$1048576, _xlfn.XMATCH($A13,'Talnagögn | Numerical Data'!$C:$C), _xlfn.XMATCH($B$2,'Talnagögn | Numerical Data'!$1:$1))-1} -> -0.078319526 | U14: Total | V14: {=INDEX('Talnagögn | Numerical Data'!$1:$1048576, _xlfn.XMATCH($A13,'Talnagögn | Numerical Data'!$C:$C), _xlfn.XMATCH($A$1,'Talnagögn | Numerical Data'!1:1))} -> 10569.756 | W14: =SUM(W8:W13) -> 1 | X14: {=INDEX('Talnagögn | Numerical Data'!$1:$1048576, _xlfn.XMATCH($A$13,'Talnagögn | Numerical Data'!$C:$C), _xlfn.XMATCH($A$1,'Talnagögn | Numerical Data'!$1:$1))-INDEX('Talnagögn | Numerical Data'!$1:$1048576, _xlfn.XMATCH($A$13,'Talnagögn | Numerical Data'!$C:$C), _xlfn.XMATCH($B$3,'Talnagögn | Numerical Data'!$1:$1))} -> -428.25484 | Y14: {=INDEX('Talnagögn | Numerical Data'!$1:$1048576, _xlfn.XMATCH($A$13,'Talnagögn | Numerical Data'!$C:$C), _xlfn.XMATCH($A$1,'Talnagögn | Numerical Data'!$1:$1))/INDEX('Talnagögn | Numerical Data'!$1:$1048576, _xlfn.XMATCH($A$13,'Talnagögn | Numerical Data'!$C:$C), _xlfn.XMATCH($B$3,'Talnagögn | Numerical Data'!$1:$1))-1} -> -0.0389393 | Z14: {=INDEX('Talnagögn | Numerical Data'!$1:$1048576, _xlfn.XMATCH($A$13,'Talnagögn | Numerical Data'!$C:$C), _xlfn.XMATCH($A$1,'Talnagögn | Numerical Data'!$1:$1))-INDEX('Talnagögn | Numerical Data'!$1:$1048576, _xlfn.XMATCH($A$13,'Talnagögn | Numerical Data'!$C:$C), _xlfn.XMATCH($B$2,'Talnagögn | Numerical Data'!$1:$1))} -> -186.79585 | AA14: {=INDEX('Talnagögn | Numerical Data'!$1:$1048576, _xlfn.XMATCH($A$13,'Talnagögn | Numerical Data'!$C:$C), _xlfn.XMATCH($A$1,'Talnagögn | Numerical Data'!$1:$1))/INDEX('Talnagögn | Numerical Data'!$1:$1048576, _xlfn.XMATCH($A$13,'Talnagögn | Numerical Data'!$C:$C), _xlfn.XMATCH($B$2,'Talnagögn | Numerical Data'!$1:$1))-1} -> -0.017365774 | AC14: Total | AD14: {=INDEX('Talnagögn | Numerical Data'!$1:$1048576, _xlfn.XMATCH($B13,'Talnagögn | Numerical Data'!$C:$C), _xlfn.XMATCH($B$4,'Talnagögn | Numerical Data'!$1:$1))-INDEX('Talnagögn | Numerical Data'!$1:$1048576, _xlfn.XMATCH($A13,'Talnagögn | Numerical Data'!$C:$C), _xlfn.XMATCH($B$2,'Talnagögn | Numerical Data'!$1:$1))} -> -842.44804 | AE14: {=INDEX('Talnagögn | Numerical Data'!$1:$1048576, _xlfn.XMATCH($B13,'Talnagögn | Numerical Data'!$C:$C), _xlfn.XMATCH($B$4,'Talnagögn | Numerical Data'!$1:$1))/INDEX('Talnagögn | Numerical Data'!$1:$1048576, _xlfn.XMATCH($A13,'Talnagögn | Numerical Data'!$C:$C), _xlfn.XMATCH($B$2,'Talnagögn | Numerical Data'!$1:$1))-1} -> -0.078319526
E15: * Í ákvörðun sameiginlegu EES-nefndar nr. 29/2022 (JCD) var losun undir beina ábyrgð Íslands árið 2005 metin 3.109.329 kg CO2-íg. | U15: * In the EEA's Joint Committee Decision (JCD) n. 29/2022, Iceland's ESR emissions in 2005 were assessed to amount to 3,109,329 kg CO2-eq.
E16: ** Viðskiptakerfi ESB með losunarheimildir (ETS), kom á fót 2005. | U16: ** EU Emissions Trading System (ETS), launched in 2005
E17: *** Um er að ræða CO2 losun vegna alls innanlandsflugs á Íslandi. Losun frá innanlandsflugi er að hluta innan ETS og að hluta ekki. | U17: ** Emissions from domestic aviation are partly covered under the ETS
E42: =UPPER('Talnagögn | Numerical Data'!$E$5) -> SÖGULEG LOSUN | U42: =UPPER('Talnagögn | Numerical Data'!$G$5) -> HISTORICAL EMISSIONS
E66: =UPPER('Talnagögn | Numerical Data'!$E$14) -> LOSUNARSPÁ: SVIÐSMYND BYGGÐ Á AÐGERÐUM STJÓRNVALDA | U66: =UPPER('Talnagögn | Numerical Data'!$G$14) -> EMISSION PROJECTIONS: GOVERNMENT POLICY-BASED SCENARIO
E113: LOSUN GRÓÐURHÚSALOFTTEGUNDA INNAN SAMFÉLAGSLOSUNAR | U113: GREENHOUSE GAS EMISSIONS UNDER EFFORT SHARING REGULATION (ESR)
E114: Samfélagslosun (áður kallað losun á beinni ábyrgð Íslands) er losun sem fellur undir svokallaða beina ábyrgð ríkja samkvæmt ESB reglugerðinni 2018/842 um sameiginlega ábyrgð (e. Effort Sharing Regulation, ESR). | U114: ESR emissions (ísl. samfélagslosun) refer to the greenhouse gas emissions that fall under the scope of Regulation (EU) 2018/842 (Effort Sharing Regulation, ESR).
E116: SAMFÉLAGSLOSUN EFTIR HELSTU UPPSPRETTUM | U116: ESR EMISSIONS BY MAIN SOURCES
E117: ="STAÐAN ÁRIÐ "&$A$1 -> STAÐAN ÁRIÐ 2025 | M117: =$M$5 -> FRAMTÍÐARHORFUR | N117: =$N$5 -> Áætluð breyting í losun milli 2005 og 2030 | U117: =$A$1&" EMISSIONS" -> 2025 EMISSIONS | AC117: OUTLOOKS | AD117: =$AD$5 -> Estimated change in emissions between 2005 and 2030
F118: =$F$6 -> Losun 2025 | H118: =$H$6 -> Breyting frá 2024 | J118: =$J$6 -> Breyting frá 2005 | N118: =$N$6 -> Losunarspá: Sviðsmynd byggð á aðgerðum stjórnvalda | V118: =$V$6 -> Emissions in 2025 | X118: =$X$6 -> Change from 2024 | Z118: =$Z$6 -> Change from 2005 | AD118: =$AD$6 -> Emission Projections: Government Policy-Based Scenario
F119: =$F$7 -> Þús. tonn CO₂-íg. | G119: % | H119: =$F$7 -> Þús. tonn CO₂-íg. | I119: % | J119: =$F$7 -> Þús. tonn CO₂-íg. | K119: % | N119: =$F$7 -> Þús. tonn CO₂-íg. | O119: % | V119: =$V$7 -> Thousand tons CO₂e | W119: % | X119: =$V$7 -> Thousand tons CO₂e | Y119: % | Z119: =$V$7 -> Thousand tons CO₂e | AA119: % | AD119: =$V$7 -> Thousand tons CO₂e | AE119: %
A120: 1.A.3.b Road transportationkt CO2-eq | B120: 1.A.3.b Road transportationkt CO2-eq WEM | C120: 1.A.3.b Road transportationkt CO2-eq WAM | E120: ='Talnagögn | Numerical Data'!$E$284 -> Vegasamgöngur | F120: {=INDEX('Talnagögn | Numerical Data'!$1:$1048576, _xlfn.XMATCH($A120,'Talnagögn | Numerical Data'!$B:$B), _xlfn.XMATCH($A$1,'Talnagögn | Numerical Data'!$1:$1))} -> 917.25938 | G120: =$F120/$F$128 -> 0.32832475 | H120: {=INDEX('Talnagögn | Numerical Data'!$1:$1048576, _xlfn.XMATCH($A120,'Talnagögn | Numerical Data'!$B:$B), _xlfn.XMATCH($A$1,'Talnagögn | Numerical Data'!$1:$1))-INDEX('Talnagögn | Numerical Data'!$1:$1048576, _xlfn.XMATCH($A120,'Talnagögn | Numerical Data'!$B:$B), _xlfn.XMATCH($B$3,'Talnagögn | Numerical Data'!$1:$1))} -> 11.75196 | I120: {=INDEX('Talnagögn | Numerical Data'!$1:$1048576, _xlfn.XMATCH($A120,'Talnagögn | Numerical Data'!$B:$B), _xlfn.XMATCH($A$1,'Talnagögn | Numerical Data'!$1:$1))/INDEX('Talnagögn | Numerical Data'!$1:$1048576, _xlfn.XMATCH($A120,'Talnagögn | Numerical Data'!$B:$B), _xlfn.XMATCH($B$3,'Talnagögn | Numerical Data'!$1:$1))-1} -> 0.012978315 | J120: {=INDEX('Talnagögn | Numerical Data'!$1:$1048576, _xlfn.XMATCH($A120,'Talnagögn | Numerical Data'!$B:$B), _xlfn.XMATCH($A$1,'Talnagögn | Numerical Data'!$1:$1))-INDEX('Talnagögn | Numerical Data'!$1:$1048576, _xlfn.XMATCH($A120,'Talnagögn | Numerical Data'!$B:$B), _xlfn.XMATCH($B$2,'Talnagögn | Numerical Data'!$1:$1))} -> 144.29218 | K120: {=INDEX('Talnagögn | Numerical Data'!$1:$1048576, _xlfn.XMATCH($A120,'Talnagögn | Numerical Data'!$B:$B), _xlfn.XMATCH($A$1,'Talnagögn | Numerical Data'!$1:$1))/INDEX('Talnagögn | Numerical Data'!$1:$1048576, _xlfn.XMATCH($A120,'Talnagögn | Numerical Data'!$B:$B), _xlfn.XMATCH($B$2,'Talnagögn | Numerical Data'!$1:$1))-1} -> 0.1866731 | M120: ='Talnagögn | Numerical Data'!$E$284 -> Vegasamgöngur | N120: {=INDEX('Talnagögn | Numerical Data'!$1:$1048576, _xlfn.XMATCH($B120,'Talnagögn | Numerical Data'!$C:$C), _xlfn.XMATCH($B$4,'Talnagögn | Numerical Data'!$1:$1))-INDEX('Talnagögn | Numerical Data'!$1:$1048576, _xlfn.XMATCH($A120,'Talnagögn | Numerical Data'!$C:$C), _xlfn.XMATCH($B$2,'Talnagögn | Numerical Data'!$1:$1))} -> 13.257501 | O120: {=INDEX('Talnagögn | Numerical Data'!$1:$1048576, _xlfn.XMATCH($B120,'Talnagögn | Numerical Data'!$C:$C), _xlfn.XMATCH($B$4,'Talnagögn | Numerical Data'!$1:$1))/INDEX('Talnagögn | Numerical Data'!$1:$1048576, _xlfn.XMATCH($A120,'Talnagögn | Numerical Data'!$C:$C), _xlfn.XMATCH($B$2,'Talnagögn | Numerical Data'!$1:$1))-1} -> 0.017151441 | U120: Road Transportation | V120: {=INDEX('Talnagögn | Numerical Data'!$1:$1048576, _xlfn.XMATCH($A120,'Talnagögn | Numerical Data'!$B:$B), _xlfn.XMATCH($A$1,'Talnagögn | Numerical Data'!$1:$1))} -> 917.25938 | W120: =$F120/$F$128 -> 0.32832475 | X120: {=INDEX('Talnagögn | Numerical Data'!$1:$1048576, _xlfn.XMATCH($A120,'Talnagögn | Numerical Data'!$B:$B), _xlfn.XMATCH($A$1,'Talnagögn | Numerical Data'!$1:$1))-INDEX('Talnagögn | Numerical Data'!$1:$1048576, _xlfn.XMATCH($A120,'Talnagögn | Numerical Data'!$B:$B), _xlfn.XMATCH($B$3,'Talnagögn | Numerical Data'!$1:$1))} -> 11.75196 | Y120: {=INDEX('Talnagögn | Numerical Data'!$1:$1048576, _xlfn.XMATCH($A120,'Talnagögn | Numerical Data'!$B:$B), _xlfn.XMATCH($A$1,'Talnagögn | Numerical Data'!$1:$1))/INDEX('Talnagögn | Numerical Data'!$1:$1048576, _xlfn.XMATCH($A120,'Talnagögn | Numerical Data'!$B:$B), _xlfn.XMATCH($B$3,'Talnagögn | Numerical Data'!$1:$1))-1} -> 0.012978315 | Z120: {=INDEX('Talnagögn | Numerical Data'!$1:$1048576, _xlfn.XMATCH($A120,'Talnagögn | Numerical Data'!$B:$B), _xlfn.XMATCH($A$1,'Talnagögn | Numerical Data'!$1:$1))-INDEX('Talnagögn | Numerical Data'!$1:$1048576, _xlfn.XMATCH($A120,'Talnagögn | Numerical Data'!$B:$B), _xlfn.XMATCH($B$2,'Talnagögn | Numerical Data'!$1:$1))} -> 144.29218 | AA120: {=INDEX('Talnagögn | Numerical Data'!$1:$1048576, _xlfn.XMATCH($A120,'Talnagögn | Numerical Data'!$B:$B), _xlfn.XMATCH($A$1,'Talnagögn | Numerical Data'!$1:$1))/INDEX('Talnagögn | Numerical Data'!$1:$1048576, _xlfn.XMATCH($A120,'Talnagögn | Numerical Data'!$B:$B), _xlfn.XMATCH($B$2,'Talnagögn | Numerical Data'!$1:$1))-1} -> 0.1866731 | AC120: Road Transportation | AD120: {=INDEX('Talnagögn | Numerical Data'!$1:$1048576, _xlfn.XMATCH($B120,'Talnagögn | Numerical Data'!$C:$C), _xlfn.XMATCH($B$4,'Talnagögn | Numerical Data'!$1:$1))-INDEX('Talnagögn | Numerical Data'!$1:$1048576, _xlfn.XMATCH($A120,'Talnagögn | Numerical Data'!$C:$C), _xlfn.XMATCH($B$2,'Talnagögn | Numerical Data'!$1:$1))} -> 13.257501 | AE120: {=INDEX('Talnagögn | Numerical Data'!$1:$1048576, _xlfn.XMATCH($B120,'Talnagögn | Numerical Data'!$C:$C), _xlfn.XMATCH($B$4,'Talnagögn | Numerical Data'!$1:$1))/INDEX('Talnagögn | Numerical Data'!$1:$1048576, _xlfn.XMATCH($A120,'Talnagögn | Numerical Data'!$C:$C), _xlfn.XMATCH($B$2,'Talnagögn | Numerical Data'!$1:$1))-1} -> 0.017151441
A121: 3. Agriculturekt CO2-eq | B121: 3. Agriculturekt CO2-eq WEM | C121: 3. Agriculturekt CO2-eq WAM | E121: ='Talnagögn | Numerical Data'!$E$286 -> Landbúnaður | F121: {=INDEX('Talnagögn | Numerical Data'!$1:$1048576, _xlfn.XMATCH($A121,'Talnagögn | Numerical Data'!$B:$B), _xlfn.XMATCH($A$1,'Talnagögn | Numerical Data'!$1:$1))} -> 668.34043 | G121: =$F121/$F$128 -> 0.23922645 | H121: {=INDEX('Talnagögn | Numerical Data'!$1:$1048576, _xlfn.XMATCH($A121,'Talnagögn | Numerical Data'!$B:$B), _xlfn.XMATCH($A$1,'Talnagögn | Numerical Data'!$1:$1))-INDEX('Talnagögn | Numerical Data'!$1:$1048576, _xlfn.XMATCH($A121,'Talnagögn | Numerical Data'!$B:$B), _xlfn.XMATCH($B$3,'Talnagögn | Numerical Data'!$1:$1))} -> -0.41798729 | I121: {=INDEX('Talnagögn | Numerical Data'!$1:$1048576, _xlfn.XMATCH($A121,'Talnagögn | Numerical Data'!$B:$B), _xlfn.XMATCH($A$1,'Talnagögn | Numerical Data'!$1:$1))/INDEX('Talnagögn | Numerical Data'!$1:$1048576, _xlfn.XMATCH($A121,'Talnagögn | Numerical Data'!$B:$B), _xlfn.XMATCH($B$3,'Talnagögn | Numerical Data'!$1:$1))-1} -> -0.00062501986 | J121: {=INDEX('Talnagögn | Numerical Data'!$1:$1048576, _xlfn.XMATCH($A121,'Talnagögn | Numerical Data'!$B:$B), _xlfn.XMATCH($A$1,'Talnagögn | Numerical Data'!$1:$1))-INDEX('Talnagögn | Numerical Data'!$1:$1048576, _xlfn.XMATCH($A121,'Talnagögn | Numerical Data'!$B:$B), _xlfn.XMATCH($B$2,'Talnagögn | Numerical Data'!$1:$1))} -> -17.944766 | K121: {=INDEX('Talnagögn | Numerical Data'!$1:$1048576, _xlfn.XMATCH($A121,'Talnagögn | Numerical Data'!$B:$B), _xlfn.XMATCH($A$1,'Talnagögn | Numerical Data'!$1:$1))/INDEX('Talnagögn | Numerical Data'!$1:$1048576, _xlfn.XMATCH($A121,'Talnagögn | Numerical Data'!$B:$B), _xlfn.XMATCH($B$2,'Talnagögn | Numerical Data'!$1:$1))-1} -> -0.026147681 | M121: ='Talnagögn | Numerical Data'!$E$286 -> Landbúnaður | N121: {=INDEX('Talnagögn | Numerical Data'!$1:$1048576, _xlfn.XMATCH($B121,'Talnagögn | Numerical Data'!$C:$C), _xlfn.XMATCH($B$4,'Talnagögn | Numerical Data'!$1:$1))-INDEX('Talnagögn | Numerical Data'!$1:$1048576, _xlfn.XMATCH($A121,'Talnagögn | Numerical Data'!$C:$C), _xlfn.XMATCH($B$2,'Talnagögn | Numerical Data'!$1:$1))} -> -35.971428 | O121: {=INDEX('Talnagögn | Numerical Data'!$1:$1048576, _xlfn.XMATCH($B121,'Talnagögn | Numerical Data'!$C:$C), _xlfn.XMATCH($B$4,'Talnagögn | Numerical Data'!$1:$1))/INDEX('Talnagögn | Numerical Data'!$1:$1048576, _xlfn.XMATCH($A121,'Talnagögn | Numerical Data'!$C:$C), _xlfn.XMATCH($B$2,'Talnagögn | Numerical Data'!$1:$1))-1} -> -0.052414693 | U121: Agriculture | V121: {=INDEX('Talnagögn | Numerical Data'!$1:$1048576, _xlfn.XMATCH($A121,'Talnagögn | Numerical Data'!$B:$B), _xlfn.XMATCH($A$1,'Talnagögn | Numerical Data'!$1:$1))} -> 668.34043 | W121: =$F121/$F$128 -> 0.23922645 | X121: {=INDEX('Talnagögn | Numerical Data'!$1:$1048576, _xlfn.XMATCH($A121,'Talnagögn | Numerical Data'!$B:$B), _xlfn.XMATCH($A$1,'Talnagögn | Numerical Data'!$1:$1))-INDEX('Talnagögn | Numerical Data'!$1:$1048576, _xlfn.XMATCH($A121,'Talnagögn | Numerical Data'!$B:$B), _xlfn.XMATCH($B$3,'Talnagögn | Numerical Data'!$1:$1))} -> -0.41798729 | Y121: {=INDEX('Talnagögn | Numerical Data'!$1:$1048576, _xlfn.XMATCH($A121,'Talnagögn | Numerical Data'!$B:$B), _xlfn.XMATCH($A$1,'Talnagögn | Numerical Data'!$1:$1))/INDEX('Talnagögn | Numerical Data'!$1:$1048576, _xlfn.XMATCH($A121,'Talnagögn | Numerical Data'!$B:$B), _xlfn.XMATCH($B$3,'Talnagögn | Numerical Data'!$1:$1))-1} -> -0.00062501986 | Z121: {=INDEX('Talnagögn | Numerical Data'!$1:$1048576, _xlfn.XMATCH($A121,'Talnagögn | Numerical Data'!$B:$B), _xlfn.XMATCH($A$1,'Talnagögn | Numerical Data'!$1:$1))-INDEX('Talnagögn | Numerical Data'!$1:$1048576, _xlfn.XMATCH($A121,'Talnagögn | Numerical Data'!$B:$B), _xlfn.XMATCH($B$2,'Talnagögn | Numerical Data'!$1:$1))} -> -17.944766 | AA121: {=INDEX('Talnagögn | Numerical Data'!$1:$1048576, _xlfn.XMATCH($A121,'Talnagögn | Numerical Data'!$B:$B), _xlfn.XMATCH($A$1,'Talnagögn | Numerical Data'!$1:$1))/INDEX('Talnagögn | Numerical Data'!$1:$1048576, _xlfn.XMATCH($A121,'Talnagögn | Numerical Data'!$B:$B), _xlfn.XMATCH($B$2,'Talnagögn | Numerical Data'!$1:$1))-1} -> -0.026147681 | AC121: Agriculture | AD121: {=INDEX('Talnagögn | Numerical Data'!$1:$1048576, _xlfn.XMATCH($B121,'Talnagögn | Numerical Data'!$C:$C), _xlfn.XMATCH($B$4,'Talnagögn | Numerical Data'!$1:$1))-INDEX('Talnagögn | Numerical Data'!$1:$1048576, _xlfn.XMATCH($A121,'Talnagögn | Numerical Data'!$C:$C), _xlfn.XMATCH($B$2,'Talnagögn | Numerical Data'!$1:$1))} -> -35.971428 | AE121: {=INDEX('Talnagögn | Numerical Data'!$1:$1048576, _xlfn.XMATCH($B121,'Talnagögn | Numerical Data'!$C:$C), _xlfn.XMATCH($B$4,'Talnagögn | Numerical Data'!$1:$1))/INDEX('Talnagögn | Numerical Data'!$1:$1048576, _xlfn.XMATCH($A121,'Talnagögn | Numerical Data'!$C:$C), _xlfn.XMATCH($B$2,'Talnagögn | Numerical Data'!$1:$1))-1} -> -0.052414693
A122: 1.A.4.c.iii Agriculture/Forestry/Fishing - Fishing kt CO2-eq | B122: 1.A.4.c.iii Agriculture/Forestry/Fishing - Fishing kt CO2-eq WEM | C122: 1.A.4.c.iii Agriculture/Forestry/Fishing - Fishing kt CO2-eq WAM | E122: ='Talnagögn | Numerical Data'!$E$285 -> Fiskiskip | F122: {=INDEX('Talnagögn | Numerical Data'!$1:$1048576, _xlfn.XMATCH($A122,'Talnagögn | Numerical Data'!$B:$B), _xlfn.XMATCH($A$1,'Talnagögn | Numerical Data'!$1:$1))} -> 482.07189 | G122: =$F122/$F$128 -> 0.1725533 | H122: {=INDEX('Talnagögn | Numerical Data'!$1:$1048576, _xlfn.XMATCH($A122,'Talnagögn | Numerical Data'!$B:$B), _xlfn.XMATCH($A$1,'Talnagögn | Numerical Data'!$1:$1))-INDEX('Talnagögn | Numerical Data'!$1:$1048576, _xlfn.XMATCH($A122,'Talnagögn | Numerical Data'!$B:$B), _xlfn.XMATCH($B$3,'Talnagögn | Numerical Data'!$1:$1))} -> -37.946922 | I122: {=INDEX('Talnagögn | Numerical Data'!$1:$1048576, _xlfn.XMATCH($A122,'Talnagögn | Numerical Data'!$B:$B), _xlfn.XMATCH($A$1,'Talnagögn | Numerical Data'!$1:$1))/INDEX('Talnagögn | Numerical Data'!$1:$1048576, _xlfn.XMATCH($A122,'Talnagögn | Numerical Data'!$B:$B), _xlfn.XMATCH($B$3,'Talnagögn | Numerical Data'!$1:$1))-1} -> -0.072972209 | J122: {=INDEX('Talnagögn | Numerical Data'!$1:$1048576, _xlfn.XMATCH($A122,'Talnagögn | Numerical Data'!$B:$B), _xlfn.XMATCH($A$1,'Talnagögn | Numerical Data'!$1:$1))-INDEX('Talnagögn | Numerical Data'!$1:$1048576, _xlfn.XMATCH($A122,'Talnagögn | Numerical Data'!$B:$B), _xlfn.XMATCH($B$2,'Talnagögn | Numerical Data'!$1:$1))} -> -260.20391 | K122: {=INDEX('Talnagögn | Numerical Data'!$1:$1048576, _xlfn.XMATCH($A122,'Talnagögn | Numerical Data'!$B:$B), _xlfn.XMATCH($A$1,'Talnagögn | Numerical Data'!$1:$1))/INDEX('Talnagögn | Numerical Data'!$1:$1048576, _xlfn.XMATCH($A122,'Talnagögn | Numerical Data'!$B:$B), _xlfn.XMATCH($B$2,'Talnagögn | Numerical Data'!$1:$1))-1} -> -0.35054882 | M122: ='Talnagögn | Numerical Data'!$E$285 -> Fiskiskip | N122: {=INDEX('Talnagögn | Numerical Data'!$1:$1048576, _xlfn.XMATCH($B122,'Talnagögn | Numerical Data'!$C:$C), _xlfn.XMATCH($B$4,'Talnagögn | Numerical Data'!$1:$1))-INDEX('Talnagögn | Numerical Data'!$1:$1048576, _xlfn.XMATCH($A122,'Talnagögn | Numerical Data'!$C:$C), _xlfn.XMATCH($B$2,'Talnagögn | Numerical Data'!$1:$1))} -> -285.80894 | O122: {=INDEX('Talnagögn | Numerical Data'!$1:$1048576, _xlfn.XMATCH($B122,'Talnagögn | Numerical Data'!$C:$C), _xlfn.XMATCH($B$4,'Talnagögn | Numerical Data'!$1:$1))/INDEX('Talnagögn | Numerical Data'!$1:$1048576, _xlfn.XMATCH($A122,'Talnagögn | Numerical Data'!$C:$C), _xlfn.XMATCH($B$2,'Talnagögn | Numerical Data'!$1:$1))-1} -> -0.38504413 | U122: Fishing | V122: {=INDEX('Talnagögn | Numerical Data'!$1:$1048576, _xlfn.XMATCH($A122,'Talnagögn | Numerical Data'!$B:$B), _xlfn.XMATCH($A$1,'Talnagögn | Numerical Data'!$1:$1))} -> 482.07189 | W122: =$F122/$F$128 -> 0.1725533 | X122: {=INDEX('Talnagögn | Numerical Data'!$1:$1048576, _xlfn.XMATCH($A122,'Talnagögn | Numerical Data'!$B:$B), _xlfn.XMATCH($A$1,'Talnagögn | Numerical Data'!$1:$1))-INDEX('Talnagögn | Numerical Data'!$1:$1048576, _xlfn.XMATCH($A122,'Talnagögn | Numerical Data'!$B:$B), _xlfn.XMATCH($B$3,'Talnagögn | Numerical Data'!$1:$1))} -> -37.946922 | Y122: {=INDEX('Talnagögn | Numerical Data'!$1:$1048576, _xlfn.XMATCH($A122,'Talnagögn | Numerical Data'!$B:$B), _xlfn.XMATCH($A$1,'Talnagögn | Numerical Data'!$1:$1))/INDEX('Talnagögn | Numerical Data'!$1:$1048576, _xlfn.XMATCH($A122,'Talnagögn | Numerical Data'!$B:$B), _xlfn.XMATCH($B$3,'Talnagögn | Numerical Data'!$1:$1))-1} -> -0.072972209 | Z122: {=INDEX('Talnagögn | Numerical Data'!$1:$1048576, _xlfn.XMATCH($A122,'Talnagögn | Numerical Data'!$B:$B), _xlfn.XMATCH($A$1,'Talnagögn | Numerical Data'!$1:$1))-INDEX('Talnagögn | Numerical Data'!$1:$1048576, _xlfn.XMATCH($A122,'Talnagögn | Numerical Data'!$B:$B), _xlfn.XMATCH($B$2,'Talnagögn | Numerical Data'!$1:$1))} -> -260.20391 | AA122: {=INDEX('Talnagögn | Numerical Data'!$1:$1048576, _xlfn.XMATCH($A122,'Talnagögn | Numerical Data'!$B:$B), _xlfn.XMATCH($A$1,'Talnagögn | Numerical Data'!$1:$1))/INDEX('Talnagögn | Numerical Data'!$1:$1048576, _xlfn.XMATCH($A122,'Talnagögn | Numerical Data'!$B:$B), _xlfn.XMATCH($B$2,'Talnagögn | Numerical Data'!$1:$1))-1} -> -0.35054882 | AC122: Fishing | AD122: {=INDEX('Talnagögn | Numerical Data'!$1:$1048576, _xlfn.XMATCH($B122,'Talnagögn | Numerical Data'!$C:$C), _xlfn.XMATCH($B$4,'Talnagögn | Numerical Data'!$1:$1))-INDEX('Talnagögn | Numerical Data'!$1:$1048576, _xlfn.XMATCH($A122,'Talnagögn | Numerical Data'!$C:$C), _xlfn.XMATCH($B$2,'Talnagögn | Numerical Data'!$1:$1))} -> -285.80894 | AE122: {=INDEX('Talnagögn | Numerical Data'!$1:$1048576, _xlfn.XMATCH($B122,'Talnagögn | Numerical Data'!$C:$C), _xlfn.XMATCH($B$4,'Talnagögn | Numerical Data'!$1:$1))/INDEX('Talnagögn | Numerical Data'!$1:$1048576, _xlfn.XMATCH($A122,'Talnagögn | Numerical Data'!$C:$C), _xlfn.XMATCH($B$2,'Talnagögn | Numerical Data'!$1:$1))-1} -> -0.38504413
A123: 5.A Solid waste disposalkt CO2-eq | B123: 5.A Solid waste disposalkt CO2-eq WEM | C123: 5.A Solid waste disposalkt CO2-eq WAM | E123: ='Talnagögn | Numerical Data'!$E$287 -> Urðun úrgangs | F123: {=INDEX('Talnagögn | Numerical Data'!$1:$1048576, _xlfn.XMATCH($A123,'Talnagögn | Numerical Data'!$B:$B), _xlfn.XMATCH($A$1,'Talnagögn | Numerical Data'!$1:$1))} -> 185.03247 | G123: =$F123/$F$128 -> 0.066230711 | H123: {=INDEX('Talnagögn | Numerical Data'!$1:$1048576, _xlfn.XMATCH($A123,'Talnagögn | Numerical Data'!$B:$B), _xlfn.XMATCH($A$1,'Talnagögn | Numerical Data'!$1:$1))-INDEX('Talnagögn | Numerical Data'!$1:$1048576, _xlfn.XMATCH($A123,'Talnagögn | Numerical Data'!$B:$B), _xlfn.XMATCH($B$3,'Talnagögn | Numerical Data'!$1:$1))} -> -17.928633 | I123: {=INDEX('Talnagögn | Numerical Data'!$1:$1048576, _xlfn.XMATCH($A123,'Talnagögn | Numerical Data'!$B:$B), _xlfn.XMATCH($A$1,'Talnagögn | Numerical Data'!$1:$1))/INDEX('Talnagögn | Numerical Data'!$1:$1048576, _xlfn.XMATCH($A123,'Talnagögn | Numerical Data'!$B:$B), _xlfn.XMATCH($B$3,'Talnagögn | Numerical Data'!$1:$1))-1} -> -0.088335314 | J123: {=INDEX('Talnagögn | Numerical Data'!$1:$1048576, _xlfn.XMATCH($A123,'Talnagögn | Numerical Data'!$B:$B), _xlfn.XMATCH($A$1,'Talnagögn | Numerical Data'!$1:$1))-INDEX('Talnagögn | Numerical Data'!$1:$1048576, _xlfn.XMATCH($A123,'Talnagögn | Numerical Data'!$B:$B), _xlfn.XMATCH($B$2,'Talnagögn | Numerical Data'!$1:$1))} -> -99.715604 | K123: {=INDEX('Talnagögn | Numerical Data'!$1:$1048576, _xlfn.XMATCH($A123,'Talnagögn | Numerical Data'!$B:$B), _xlfn.XMATCH($A$1,'Talnagögn | Numerical Data'!$1:$1))/INDEX('Talnagögn | Numerical Data'!$1:$1048576, _xlfn.XMATCH($A123,'Talnagögn | Numerical Data'!$B:$B), _xlfn.XMATCH($B$2,'Talnagögn | Numerical Data'!$1:$1))-1} -> -0.35018886 | M123: ='Talnagögn | Numerical Data'!$E$287 -> Urðun úrgangs | N123: {=INDEX('Talnagögn | Numerical Data'!$1:$1048576, _xlfn.XMATCH($B123,'Talnagögn | Numerical Data'!$C:$C), _xlfn.XMATCH($B$4,'Talnagögn | Numerical Data'!$1:$1))-INDEX('Talnagögn | Numerical Data'!$1:$1048576, _xlfn.XMATCH($A123,'Talnagögn | Numerical Data'!$C:$C), _xlfn.XMATCH($B$2,'Talnagögn | Numerical Data'!$1:$1))} -> -164.97998 | O123: {=INDEX('Talnagögn | Numerical Data'!$1:$1048576, _xlfn.XMATCH($B123,'Talnagögn | Numerical Data'!$C:$C), _xlfn.XMATCH($B$4,'Talnagögn | Numerical Data'!$1:$1))/INDEX('Talnagögn | Numerical Data'!$1:$1048576, _xlfn.XMATCH($A123,'Talnagögn | Numerical Data'!$C:$C), _xlfn.XMATCH($B$2,'Talnagögn | Numerical Data'!$1:$1))-1} -> -0.57938925 | U123: Solid Waste Disposal on Land | V123: {=INDEX('Talnagögn | Numerical Data'!$1:$1048576, _xlfn.XMATCH($A123,'Talnagögn | Numerical Data'!$B:$B), _xlfn.XMATCH($A$1,'Talnagögn | Numerical Data'!$1:$1))} -> 185.03247 | W123: =$F123/$F$128 -> 0.066230711 | X123: {=INDEX('Talnagögn | Numerical Data'!$1:$1048576, _xlfn.XMATCH($A123,'Talnagögn | Numerical Data'!$B:$B), _xlfn.XMATCH($A$1,'Talnagögn | Numerical Data'!$1:$1))-INDEX('Talnagögn | Numerical Data'!$1:$1048576, _xlfn.XMATCH($A123,'Talnagögn | Numerical Data'!$B:$B), _xlfn.XMATCH($B$3,'Talnagögn | Numerical Data'!$1:$1))} -> -17.928633 | Y123: {=INDEX('Talnagögn | Numerical Data'!$1:$1048576, _xlfn.XMATCH($A123,'Talnagögn | Numerical Data'!$B:$B), _xlfn.XMATCH($A$1,'Talnagögn | Numerical Data'!$1:$1))/INDEX('Talnagögn | Numerical Data'!$1:$1048576, _xlfn.XMATCH($A123,'Talnagögn | Numerical Data'!$B:$B), _xlfn.XMATCH($B$3,'Talnagögn | Numerical Data'!$1:$1))-1} -> -0.088335314 | Z123: {=INDEX('Talnagögn | Numerical Data'!$1:$1048576, _xlfn.XMATCH($A123,'Talnagögn | Numerical Data'!$B:$B), _xlfn.XMATCH($A$1,'Talnagögn | Numerical Data'!$1:$1))-INDEX('Talnagögn | Numerical Data'!$1:$1048576, _xlfn.XMATCH($A123,'Talnagögn | Numerical Data'!$B:$B), _xlfn.XMATCH($B$2,'Talnagögn | Numerical Data'!$1:$1))} -> -99.715604 | AA123: {=INDEX('Talnagögn | Numerical Data'!$1:$1048576, _xlfn.XMATCH($A123,'Talnagögn | Numerical Data'!$B:$B), _xlfn.XMATCH($A$1,'Talnagögn | Numerical Data'!$1:$1))/INDEX('Talnagögn | Numerical Data'!$1:$1048576, _xlfn.XMATCH($A123,'Talnagögn | Numerical Data'!$B:$B), _xlfn.XMATCH($B$2,'Talnagögn | Numerical Data'!$1:$1))-1} -> -0.35018886 | AC123: Solid Waste Disposal on Land | AD123: {=INDEX('Talnagögn | Numerical Data'!$1:$1048576, _xlfn.XMATCH($B123,'Talnagögn | Numerical Data'!$C:$C), _xlfn.XMATCH($B$4,'Talnagögn | Numerical Data'!$1:$1))-INDEX('Talnagögn | Numerical Data'!$1:$1048576, _xlfn.XMATCH($A123,'Talnagögn | Numerical Data'!$C:$C), _xlfn.XMATCH($B$2,'Talnagögn | Numerical Data'!$1:$1))} -> -164.97998 | AE123: {=INDEX('Talnagögn | Numerical Data'!$1:$1048576, _xlfn.XMATCH($B123,'Talnagögn | Numerical Data'!$C:$C), _xlfn.XMATCH($B$4,'Talnagögn | Numerical Data'!$1:$1))/INDEX('Talnagögn | Numerical Data'!$1:$1048576, _xlfn.XMATCH($A123,'Talnagögn | Numerical Data'!$C:$C), _xlfn.XMATCH($B$2,'Talnagögn | Numerical Data'!$1:$1))-1} -> -0.57938925
A124: 1.B.2.d Geothermal Energykt CO2-eq | B124: 1.B.2.d Geothermal Energykt CO2-eq WEM | C124: 1.B.2.d Geothermal Energykt CO2-eq WAM | E124: ='Talnagögn | Numerical Data'!$E$289 -> Jarðvarmavirkjanir | F124: {=INDEX('Talnagögn | Numerical Data'!$1:$1048576, _xlfn.XMATCH($A124,'Talnagögn | Numerical Data'!$B:$B), _xlfn.XMATCH($A$1,'Talnagögn | Numerical Data'!$1:$1))} -> 214.07609 | G124: =$F124/$F$128 -> 0.076626614 | H124: {=INDEX('Talnagögn | Numerical Data'!$1:$1048576, _xlfn.XMATCH($A124,'Talnagögn | Numerical Data'!$B:$B), _xlfn.XMATCH($A$1,'Talnagögn | Numerical Data'!$1:$1))-INDEX('Talnagögn | Numerical Data'!$1:$1048576, _xlfn.XMATCH($A124,'Talnagögn | Numerical Data'!$B:$B), _xlfn.XMATCH($B$3,'Talnagögn | Numerical Data'!$1:$1))} -> -9.2201034 | I124: {=INDEX('Talnagögn | Numerical Data'!$1:$1048576, _xlfn.XMATCH($A124,'Talnagögn | Numerical Data'!$B:$B), _xlfn.XMATCH($A$1,'Talnagögn | Numerical Data'!$1:$1))/INDEX('Talnagögn | Numerical Data'!$1:$1048576, _xlfn.XMATCH($A124,'Talnagögn | Numerical Data'!$B:$B), _xlfn.XMATCH($B$3,'Talnagögn | Numerical Data'!$1:$1))-1} -> -0.041290911 | J124: {=INDEX('Talnagögn | Numerical Data'!$1:$1048576, _xlfn.XMATCH($A124,'Talnagögn | Numerical Data'!$B:$B), _xlfn.XMATCH($A$1,'Talnagögn | Numerical Data'!$1:$1))-INDEX('Talnagögn | Numerical Data'!$1:$1048576, _xlfn.XMATCH($A124,'Talnagögn | Numerical Data'!$B:$B), _xlfn.XMATCH($B$2,'Talnagögn | Numerical Data'!$1:$1))} -> 94.815624 | K124: {=INDEX('Talnagögn | Numerical Data'!$1:$1048576, _xlfn.XMATCH($A124,'Talnagögn | Numerical Data'!$B:$B), _xlfn.XMATCH($A$1,'Talnagögn | Numerical Data'!$1:$1))/INDEX('Talnagögn | Numerical Data'!$1:$1048576, _xlfn.XMATCH($A124,'Talnagögn | Numerical Data'!$B:$B), _xlfn.XMATCH($B$2,'Talnagögn | Numerical Data'!$1:$1))-1} -> 0.79502976 | M124: ='Talnagögn | Numerical Data'!$E$289 -> Jarðvarmavirkjanir | N124: {=INDEX('Talnagögn | Numerical Data'!$1:$1048576, _xlfn.XMATCH($B124,'Talnagögn | Numerical Data'!$C:$C), _xlfn.XMATCH($B$4,'Talnagögn | Numerical Data'!$1:$1))-INDEX('Talnagögn | Numerical Data'!$1:$1048576, _xlfn.XMATCH($A124,'Talnagögn | Numerical Data'!$C:$C), _xlfn.XMATCH($B$2,'Talnagögn | Numerical Data'!$1:$1))} -> 68.0512 | O124: {=INDEX('Talnagögn | Numerical Data'!$1:$1048576, _xlfn.XMATCH($B124,'Talnagögn | Numerical Data'!$C:$C), _xlfn.XMATCH($B$4,'Talnagögn | Numerical Data'!$1:$1))/INDEX('Talnagögn | Numerical Data'!$1:$1048576, _xlfn.XMATCH($A124,'Talnagögn | Numerical Data'!$C:$C), _xlfn.XMATCH($B$2,'Talnagögn | Numerical Data'!$1:$1))-1} -> 0.57060986 | U124: Geothermal Energy | V124: {=INDEX('Talnagögn | Numerical Data'!$1:$1048576, _xlfn.XMATCH($A124,'Talnagögn | Numerical Data'!$B:$B), _xlfn.XMATCH($A$1,'Talnagögn | Numerical Data'!$1:$1))} -> 214.07609 | W124: =$F124/$F$128 -> 0.076626614 | X124: {=INDEX('Talnagögn | Numerical Data'!$1:$1048576, _xlfn.XMATCH($A124,'Talnagögn | Numerical Data'!$B:$B), _xlfn.XMATCH($A$1,'Talnagögn | Numerical Data'!$1:$1))-INDEX('Talnagögn | Numerical Data'!$1:$1048576, _xlfn.XMATCH($A124,'Talnagögn | Numerical Data'!$B:$B), _xlfn.XMATCH($B$3,'Talnagögn | Numerical Data'!$1:$1))} -> -9.2201034 | Y124: {=INDEX('Talnagögn | Numerical Data'!$1:$1048576, _xlfn.XMATCH($A124,'Talnagögn | Numerical Data'!$B:$B), _xlfn.XMATCH($A$1,'Talnagögn | Numerical Data'!$1:$1))/INDEX('Talnagögn | Numerical Data'!$1:$1048576, _xlfn.XMATCH($A124,'Talnagögn | Numerical Data'!$B:$B), _xlfn.XMATCH($B$3,'Talnagögn | Numerical Data'!$1:$1))-1} -> -0.041290911 | Z124: {=INDEX('Talnagögn | Numerical Data'!$1:$1048576, _xlfn.XMATCH($A124,'Talnagögn | Numerical Data'!$B:$B), _xlfn.XMATCH($A$1,'Talnagögn | Numerical Data'!$1:$1))-INDEX('Talnagögn | Numerical Data'!$1:$1048576, _xlfn.XMATCH($A124,'Talnagögn | Numerical Data'!$B:$B), _xlfn.XMATCH($B$2,'Talnagögn | Numerical Data'!$1:$1))} -> 94.815624 | AA124: {=INDEX('Talnagögn | Numerical Data'!$1:$1048576, _xlfn.XMATCH($A124,'Talnagögn | Numerical Data'!$B:$B), _xlfn.XMATCH($A$1,'Talnagögn | Numerical Data'!$1:$1))/INDEX('Talnagögn | Numerical Data'!$1:$1048576, _xlfn.XMATCH($A124,'Talnagögn | Numerical Data'!$B:$B), _xlfn.XMATCH($B$2,'Talnagögn | Numerical Data'!$1:$1))-1} -> 0.79502976 | AC124: Geothermal Energy | AD124: {=INDEX('Talnagögn | Numerical Data'!$1:$1048576, _xlfn.XMATCH($B124,'Talnagögn | Numerical Data'!$C:$C), _xlfn.XMATCH($B$4,'Talnagögn | Numerical Data'!$1:$1))-INDEX('Talnagögn | Numerical Data'!$1:$1048576, _xlfn.XMATCH($A124,'Talnagögn | Numerical Data'!$C:$C), _xlfn.XMATCH($B$2,'Talnagögn | Numerical Data'!$1:$1))} -> 68.0512 | AE124: {=INDEX('Talnagögn | Numerical Data'!$1:$1048576, _xlfn.XMATCH($B124,'Talnagögn | Numerical Data'!$C:$C), _xlfn.XMATCH($B$4,'Talnagögn | Numerical Data'!$1:$1))/INDEX('Talnagögn | Numerical Data'!$1:$1048576, _xlfn.XMATCH($A124,'Talnagögn | Numerical Data'!$C:$C), _xlfn.XMATCH($B$2,'Talnagögn | Numerical Data'!$1:$1))-1} -> 0.57060986
A125: 2.F Product uses as substitutes for ODSkt CO2-eq | B125: 2.F Product uses as substitutes for ODSkt CO2-eq WEM | C125: 2.F Product uses as substitutes for ODSkt CO2-eq WAM | E125: ='Talnagögn | Numerical Data'!$E$288 -> Kælibúnaður (F-gös) | F125: {=INDEX('Talnagögn | Numerical Data'!$1:$1048576, _xlfn.XMATCH($A125,'Talnagögn | Numerical Data'!$B:$B), _xlfn.XMATCH($A$1,'Talnagögn | Numerical Data'!$1:$1))} -> 105.65811 | G125: =$F125/$F$128 -> 0.037819371 | H125: {=INDEX('Talnagögn | Numerical Data'!$1:$1048576, _xlfn.XMATCH($A125,'Talnagögn | Numerical Data'!$B:$B), _xlfn.XMATCH($A$1,'Talnagögn | Numerical Data'!$1:$1))-INDEX('Talnagögn | Numerical Data'!$1:$1048576, _xlfn.XMATCH($A125,'Talnagögn | Numerical Data'!$B:$B), _xlfn.XMATCH($B$3,'Talnagögn | Numerical Data'!$1:$1))} -> -2.1265092 | I125: {=INDEX('Talnagögn | Numerical Data'!$1:$1048576, _xlfn.XMATCH($A125,'Talnagögn | Numerical Data'!$B:$B), _xlfn.XMATCH($A$1,'Talnagögn | Numerical Data'!$1:$1))/INDEX('Talnagögn | Numerical Data'!$1:$1048576, _xlfn.XMATCH($A125,'Talnagögn | Numerical Data'!$B:$B), _xlfn.XMATCH($B$3,'Talnagögn | Numerical Data'!$1:$1))-1} -> -0.019729245 | J125: {=INDEX('Talnagögn | Numerical Data'!$1:$1048576, _xlfn.XMATCH($A125,'Talnagögn | Numerical Data'!$B:$B), _xlfn.XMATCH($A$1,'Talnagögn | Numerical Data'!$1:$1))-INDEX('Talnagögn | Numerical Data'!$1:$1048576, _xlfn.XMATCH($A125,'Talnagögn | Numerical Data'!$B:$B), _xlfn.XMATCH($B$2,'Talnagögn | Numerical Data'!$1:$1))} -> 48.483463 | K125: {=INDEX('Talnagögn | Numerical Data'!$1:$1048576, _xlfn.XMATCH($A125,'Talnagögn | Numerical Data'!$B:$B), _xlfn.XMATCH($A$1,'Talnagögn | Numerical Data'!$1:$1))/INDEX('Talnagögn | Numerical Data'!$1:$1048576, _xlfn.XMATCH($A125,'Talnagögn | Numerical Data'!$B:$B), _xlfn.XMATCH($B$2,'Talnagögn | Numerical Data'!$1:$1))-1} -> 0.84798881 | M125: ='Talnagögn | Numerical Data'!$E$288 -> Kælibúnaður (F-gös) | N125: {=INDEX('Talnagögn | Numerical Data'!$1:$1048576, _xlfn.XMATCH($B125,'Talnagögn | Numerical Data'!$C:$C), _xlfn.XMATCH($B$4,'Talnagögn | Numerical Data'!$1:$1))-INDEX('Talnagögn | Numerical Data'!$1:$1048576, _xlfn.XMATCH($A125,'Talnagögn | Numerical Data'!$C:$C), _xlfn.XMATCH($B$2,'Talnagögn | Numerical Data'!$1:$1))} -> -22.151159 | O125: {=INDEX('Talnagögn | Numerical Data'!$1:$1048576, _xlfn.XMATCH($B125,'Talnagögn | Numerical Data'!$C:$C), _xlfn.XMATCH($B$4,'Talnagögn | Numerical Data'!$1:$1))/INDEX('Talnagögn | Numerical Data'!$1:$1048576, _xlfn.XMATCH($A125,'Talnagögn | Numerical Data'!$C:$C), _xlfn.XMATCH($B$2,'Talnagögn | Numerical Data'!$1:$1))-1} -> -0.38742973 | U125: F-Gases | V125: {=INDEX('Talnagögn | Numerical Data'!$1:$1048576, _xlfn.XMATCH($A125,'Talnagögn | Numerical Data'!$B:$B), _xlfn.XMATCH($A$1,'Talnagögn | Numerical Data'!$1:$1))} -> 105.65811 | W125: =$F125/$F$128 -> 0.037819371 | X125: {=INDEX('Talnagögn | Numerical Data'!$1:$1048576, _xlfn.XMATCH($A125,'Talnagögn | Numerical Data'!$B:$B), _xlfn.XMATCH($A$1,'Talnagögn | Numerical Data'!$1:$1))-INDEX('Talnagögn | Numerical Data'!$1:$1048576, _xlfn.XMATCH($A125,'Talnagögn | Numerical Data'!$B:$B), _xlfn.XMATCH($B$3,'Talnagögn | Numerical Data'!$1:$1))} -> -2.1265092 | Y125: {=INDEX('Talnagögn | Numerical Data'!$1:$1048576, _xlfn.XMATCH($A125,'Talnagögn | Numerical Data'!$B:$B), _xlfn.XMATCH($A$1,'Talnagögn | Numerical Data'!$1:$1))/INDEX('Talnagögn | Numerical Data'!$1:$1048576, _xlfn.XMATCH($A125,'Talnagögn | Numerical Data'!$B:$B), _xlfn.XMATCH($B$3,'Talnagögn | Numerical Data'!$1:$1))-1} -> -0.019729245 | Z125: {=INDEX('Talnagögn | Numerical Data'!$1:$1048576, _xlfn.XMATCH($A125,'Talnagögn | Numerical Data'!$B:$B), _xlfn.XMATCH($A$1,'Talnagögn | Numerical Data'!$1:$1))-INDEX('Talnagögn | Numerical Data'!$1:$1048576, _xlfn.XMATCH($A125,'Talnagögn | Numerical Data'!$B:$B), _xlfn.XMATCH($B$2,'Talnagögn | Numerical Data'!$1:$1))} -> 48.483463 | AA125: {=INDEX('Talnagögn | Numerical Data'!$1:$1048576, _xlfn.XMATCH($A125,'Talnagögn | Numerical Data'!$B:$B), _xlfn.XMATCH($A$1,'Talnagögn | Numerical Data'!$1:$1))/INDEX('Talnagögn | Numerical Data'!$1:$1048576, _xlfn.XMATCH($A125,'Talnagögn | Numerical Data'!$B:$B), _xlfn.XMATCH($B$2,'Talnagögn | Numerical Data'!$1:$1))-1} -> 0.84798881 | AC125: F-Gases | AD125: {=INDEX('Talnagögn | Numerical Data'!$1:$1048576, _xlfn.XMATCH($B125,'Talnagögn | Numerical Data'!$C:$C), _xlfn.XMATCH($B$4,'Talnagögn | Numerical Data'!$1:$1))-INDEX('Talnagögn | Numerical Data'!$1:$1048576, _xlfn.XMATCH($A125,'Talnagögn | Numerical Data'!$C:$C), _xlfn.XMATCH($B$2,'Talnagögn | Numerical Data'!$1:$1))} -> -22.151159 | AE125: {=INDEX('Talnagögn | Numerical Data'!$1:$1048576, _xlfn.XMATCH($B125,'Talnagögn | Numerical Data'!$C:$C), _xlfn.XMATCH($B$4,'Talnagögn | Numerical Data'!$1:$1))/INDEX('Talnagögn | Numerical Data'!$1:$1048576, _xlfn.XMATCH($A125,'Talnagögn | Numerical Data'!$C:$C), _xlfn.XMATCH($B$2,'Talnagögn | Numerical Data'!$1:$1))-1} -> -0.38742973
A126: Mobile Machinery | B126: Mobile Machinery WEM | C126: Mobile Machinery WAM | E126: ='Talnagögn | Numerical Data'!$E$290 -> Vélar og tæki | F126: {=INDEX('Talnagögn | Numerical Data'!$1:$1048576, _xlfn.XMATCH($A126,'Talnagögn | Numerical Data'!$B:$B), _xlfn.XMATCH($A$1,'Talnagögn | Numerical Data'!$1:$1))} -> 77.003201 | G126: =$F126/$F$128 -> 0.027562604 | H126: {=INDEX('Talnagögn | Numerical Data'!$1:$1048576, _xlfn.XMATCH($A126,'Talnagögn | Numerical Data'!$B:$B), _xlfn.XMATCH($A$1,'Talnagögn | Numerical Data'!$1:$1))-INDEX('Talnagögn | Numerical Data'!$1:$1048576, _xlfn.XMATCH($A126,'Talnagögn | Numerical Data'!$B:$B), _xlfn.XMATCH($B$3,'Talnagögn | Numerical Data'!$1:$1))} -> 0.35018079 | I126: {=INDEX('Talnagögn | Numerical Data'!$1:$1048576, _xlfn.XMATCH($A126,'Talnagögn | Numerical Data'!$B:$B), _xlfn.XMATCH($A$1,'Talnagögn | Numerical Data'!$1:$1))/INDEX('Talnagögn | Numerical Data'!$1:$1048576, _xlfn.XMATCH($A126,'Talnagögn | Numerical Data'!$B:$B), _xlfn.XMATCH($B$3,'Talnagögn | Numerical Data'!$1:$1))-1} -> 0.0045683887 | J126: {=INDEX('Talnagögn | Numerical Data'!$1:$1048576, _xlfn.XMATCH($A126,'Talnagögn | Numerical Data'!$B:$B), _xlfn.XMATCH($A$1,'Talnagögn | Numerical Data'!$1:$1))-INDEX('Talnagögn | Numerical Data'!$1:$1048576, _xlfn.XMATCH($A126,'Talnagögn | Numerical Data'!$B:$B), _xlfn.XMATCH($B$2,'Talnagögn | Numerical Data'!$1:$1))} -> -159.88934 | K126: {=INDEX('Talnagögn | Numerical Data'!$1:$1048576, _xlfn.XMATCH($A126,'Talnagögn | Numerical Data'!$B:$B), _xlfn.XMATCH($A$1,'Talnagögn | Numerical Data'!$1:$1))/INDEX('Talnagögn | Numerical Data'!$1:$1048576, _xlfn.XMATCH($A126,'Talnagögn | Numerical Data'!$B:$B), _xlfn.XMATCH($B$2,'Talnagögn | Numerical Data'!$1:$1))-1} -> -0.6749446 | M126: ='Talnagögn | Numerical Data'!$E$290 -> Vélar og tæki | N126: {=INDEX('Talnagögn | Numerical Data'!$1:$1048576, _xlfn.XMATCH($B126,'Talnagögn | Numerical Data'!$C:$C), _xlfn.XMATCH($B$4,'Talnagögn | Numerical Data'!$1:$1))-INDEX('Talnagögn | Numerical Data'!$1:$1048576, _xlfn.XMATCH($A126,'Talnagögn | Numerical Data'!$C:$C), _xlfn.XMATCH($B$2,'Talnagögn | Numerical Data'!$1:$1))} -> -152.26839 | O126: {=INDEX('Talnagögn | Numerical Data'!$1:$1048576, _xlfn.XMATCH($B126,'Talnagögn | Numerical Data'!$C:$C), _xlfn.XMATCH($B$4,'Talnagögn | Numerical Data'!$1:$1))/INDEX('Talnagögn | Numerical Data'!$1:$1048576, _xlfn.XMATCH($A126,'Talnagögn | Numerical Data'!$C:$C), _xlfn.XMATCH($B$2,'Talnagögn | Numerical Data'!$1:$1))-1} -> -0.6427741 | U126: Off-Road Vehicles and Other Machinery | V126: {=INDEX('Talnagögn | Numerical Data'!$1:$1048576, _xlfn.XMATCH($A126,'Talnagögn | Numerical Data'!$B:$B), _xlfn.XMATCH($A$1,'Talnagögn | Numerical Data'!$1:$1))} -> 77.003201 | W126: =$F126/$F$128 -> 0.027562604 | X126: {=INDEX('Talnagögn | Numerical Data'!$1:$1048576, _xlfn.XMATCH($A126,'Talnagögn | Numerical Data'!$B:$B), _xlfn.XMATCH($A$1,'Talnagögn | Numerical Data'!$1:$1))-INDEX('Talnagögn | Numerical Data'!$1:$1048576, _xlfn.XMATCH($A126,'Talnagögn | Numerical Data'!$B:$B), _xlfn.XMATCH($B$3,'Talnagögn | Numerical Data'!$1:$1))} -> 0.35018079 | Y126: {=INDEX('Talnagögn | Numerical Data'!$1:$1048576, _xlfn.XMATCH($A126,'Talnagögn | Numerical Data'!$B:$B), _xlfn.XMATCH($A$1,'Talnagögn | Numerical Data'!$1:$1))/INDEX('Talnagögn | Numerical Data'!$1:$1048576, _xlfn.XMATCH($A126,'Talnagögn | Numerical Data'!$B:$B), _xlfn.XMATCH($B$3,'Talnagögn | Numerical Data'!$1:$1))-1} -> 0.0045683887 | Z126: {=INDEX('Talnagögn | Numerical Data'!$1:$1048576, _xlfn.XMATCH($A126,'Talnagögn | Numerical Data'!$B:$B), _xlfn.XMATCH($A$1,'Talnagögn | Numerical Data'!$1:$1))-INDEX('Talnagögn | Numerical Data'!$1:$1048576, _xlfn.XMATCH($A126,'Talnagögn | Numerical Data'!$B:$B), _xlfn.XMATCH($B$2,'Talnagögn | Numerical Data'!$1:$1))} -> -159.88934 | AA126: {=INDEX('Talnagögn | Numerical Data'!$1:$1048576, _xlfn.XMATCH($A126,'Talnagögn | Numerical Data'!$B:$B), _xlfn.XMATCH($A$1,'Talnagögn | Numerical Data'!$1:$1))/INDEX('Talnagögn | Numerical Data'!$1:$1048576, _xlfn.XMATCH($A126,'Talnagögn | Numerical Data'!$B:$B), _xlfn.XMATCH($B$2,'Talnagögn | Numerical Data'!$1:$1))-1} -> -0.6749446 | AC126: Off-Road Vehicles and Other Machinery | AD126: {=INDEX('Talnagögn | Numerical Data'!$1:$1048576, _xlfn.XMATCH($B126,'Talnagögn | Numerical Data'!$C:$C), _xlfn.XMATCH($B$4,'Talnagögn | Numerical Data'!$1:$1))-INDEX('Talnagögn | Numerical Data'!$1:$1048576, _xlfn.XMATCH($A126,'Talnagögn | Numerical Data'!$C:$C), _xlfn.XMATCH($B$2,'Talnagögn | Numerical Data'!$1:$1))} -> -152.26839 | AE126: {=INDEX('Talnagögn | Numerical Data'!$1:$1048576, _xlfn.XMATCH($B126,'Talnagögn | Numerical Data'!$C:$C), _xlfn.XMATCH($B$4,'Talnagögn | Numerical Data'!$1:$1))/INDEX('Talnagögn | Numerical Data'!$1:$1048576, _xlfn.XMATCH($A126,'Talnagögn | Numerical Data'!$C:$C), _xlfn.XMATCH($B$2,'Talnagögn | Numerical Data'!$1:$1))-1} -> -0.6427741
A127: ESD Other | B127: ESD Other WEM | C127: ESD Other WAM | E127: ='Talnagögn | Numerical Data'!$E$294 -> Önnur losun | F127: {=INDEX('Talnagögn | Numerical Data'!$1:$1048576, _xlfn.XMATCH($A127,'Talnagögn | Numerical Data'!$B:$B), _xlfn.XMATCH($A$1,'Talnagögn | Numerical Data'!$1:$1))} -> 144.31484 | G127: =$F127/$F$128 -> 0.0516562 | H127: {=INDEX('Talnagögn | Numerical Data'!$1:$1048576, _xlfn.XMATCH($A127,'Talnagögn | Numerical Data'!$B:$B), _xlfn.XMATCH($A$1,'Talnagögn | Numerical Data'!$1:$1))-INDEX('Talnagögn | Numerical Data'!$1:$1048576, _xlfn.XMATCH($A127,'Talnagögn | Numerical Data'!$B:$B), _xlfn.XMATCH($B$3,'Talnagögn | Numerical Data'!$1:$1))} -> -23.303407 | I127: {=INDEX('Talnagögn | Numerical Data'!$1:$1048576, _xlfn.XMATCH($A127,'Talnagögn | Numerical Data'!$B:$B), _xlfn.XMATCH($A$1,'Talnagögn | Numerical Data'!$1:$1))/INDEX('Talnagögn | Numerical Data'!$1:$1048576, _xlfn.XMATCH($A127,'Talnagögn | Numerical Data'!$B:$B), _xlfn.XMATCH($B$3,'Talnagögn | Numerical Data'!$1:$1))-1} -> -0.13902667 | J127: {=INDEX('Talnagögn | Numerical Data'!$1:$1048576, _xlfn.XMATCH($A127,'Talnagögn | Numerical Data'!$B:$B), _xlfn.XMATCH($A$1,'Talnagögn | Numerical Data'!$1:$1))-INDEX('Talnagögn | Numerical Data'!$1:$1048576, _xlfn.XMATCH($A127,'Talnagögn | Numerical Data'!$B:$B), _xlfn.XMATCH($B$2,'Talnagögn | Numerical Data'!$1:$1))} -> -184.67781 | K127: {=INDEX('Talnagögn | Numerical Data'!$1:$1048576, _xlfn.XMATCH($A127,'Talnagögn | Numerical Data'!$B:$B), _xlfn.XMATCH($A$1,'Talnagögn | Numerical Data'!$1:$1))/INDEX('Talnagögn | Numerical Data'!$1:$1048576, _xlfn.XMATCH($A127,'Talnagögn | Numerical Data'!$B:$B), _xlfn.XMATCH($B$2,'Talnagögn | Numerical Data'!$1:$1))-1} -> -0.56134327 | M127: ='Talnagögn | Numerical Data'!$E$294 -> Önnur losun | N127: {=INDEX('Talnagögn | Numerical Data'!$1:$1048576, _xlfn.XMATCH($B127,'Talnagögn | Numerical Data'!$C:$C), _xlfn.XMATCH($B$4,'Talnagögn | Numerical Data'!$1:$1))-INDEX('Talnagögn | Numerical Data'!$1:$1048576, _xlfn.XMATCH($A127,'Talnagögn | Numerical Data'!$C:$C), _xlfn.XMATCH($B$2,'Talnagögn | Numerical Data'!$1:$1))} -> -187.07796 | O127: {=INDEX('Talnagögn | Numerical Data'!$1:$1048576, _xlfn.XMATCH($B127,'Talnagögn | Numerical Data'!$C:$C), _xlfn.XMATCH($B$4,'Talnagögn | Numerical Data'!$1:$1))/INDEX('Talnagögn | Numerical Data'!$1:$1048576, _xlfn.XMATCH($A127,'Talnagögn | Numerical Data'!$C:$C), _xlfn.XMATCH($B$2,'Talnagögn | Numerical Data'!$1:$1))-1} -> -0.56863873 | U127: Other Emissions | V127: {=INDEX('Talnagögn | Numerical Data'!$1:$1048576, _xlfn.XMATCH($A127,'Talnagögn | Numerical Data'!$B:$B), _xlfn.XMATCH($A$1,'Talnagögn | Numerical Data'!$1:$1))} -> 144.31484 | W127: =$F127/$F$128 -> 0.0516562 | X127: {=INDEX('Talnagögn | Numerical Data'!$1:$1048576, _xlfn.XMATCH($A127,'Talnagögn | Numerical Data'!$B:$B), _xlfn.XMATCH($A$1,'Talnagögn | Numerical Data'!$1:$1))-INDEX('Talnagögn | Numerical Data'!$1:$1048576, _xlfn.XMATCH($A127,'Talnagögn | Numerical Data'!$B:$B), _xlfn.XMATCH($B$3,'Talnagögn | Numerical Data'!$1:$1))} -> -23.303407 | Y127: {=INDEX('Talnagögn | Numerical Data'!$1:$1048576, _xlfn.XMATCH($A127,'Talnagögn | Numerical Data'!$B:$B), _xlfn.XMATCH($A$1,'Talnagögn | Numerical Data'!$1:$1))/INDEX('Talnagögn | Numerical Data'!$1:$1048576, _xlfn.XMATCH($A127,'Talnagögn | Numerical Data'!$B:$B), _xlfn.XMATCH($B$3,'Talnagögn | Numerical Data'!$1:$1))-1} -> -0.13902667 | Z127: {=INDEX('Talnagögn | Numerical Data'!$1:$1048576, _xlfn.XMATCH($A127,'Talnagögn | Numerical Data'!$B:$B), _xlfn.XMATCH($A$1,'Talnagögn | Numerical Data'!$1:$1))-INDEX('Talnagögn | Numerical Data'!$1:$1048576, _xlfn.XMATCH($A127,'Talnagögn | Numerical Data'!$B:$B), _xlfn.XMATCH($B$2,'Talnagögn | Numerical Data'!$1:$1))} -> -184.67781 | AA127: {=INDEX('Talnagögn | Numerical Data'!$1:$1048576, _xlfn.XMATCH($A127,'Talnagögn | Numerical Data'!$B:$B), _xlfn.XMATCH($A$1,'Talnagögn | Numerical Data'!$1:$1))/INDEX('Talnagögn | Numerical Data'!$1:$1048576, _xlfn.XMATCH($A127,'Talnagögn | Numerical Data'!$B:$B), _xlfn.XMATCH($B$2,'Talnagögn | Numerical Data'!$1:$1))-1} -> -0.56134327 | AC127: Other Emissions | AD127: {=INDEX('Talnagögn | Numerical Data'!$1:$1048576, _xlfn.XMATCH($B127,'Talnagögn | Numerical Data'!$C:$C), _xlfn.XMATCH($B$4,'Talnagögn | Numerical Data'!$1:$1))-INDEX('Talnagögn | Numerical Data'!$1:$1048576, _xlfn.XMATCH($A127,'Talnagögn | Numerical Data'!$C:$C), _xlfn.XMATCH($B$2,'Talnagögn | Numerical Data'!$1:$1))} -> -187.07796 | AE127: {=INDEX('Talnagögn | Numerical Data'!$1:$1048576, _xlfn.XMATCH($B127,'Talnagögn | Numerical Data'!$C:$C), _xlfn.XMATCH($B$4,'Talnagögn | Numerical Data'!$1:$1))/INDEX('Talnagögn | Numerical Data'!$1:$1048576, _xlfn.XMATCH($A127,'Talnagögn | Numerical Data'!$C:$C), _xlfn.XMATCH($B$2,'Talnagögn | Numerical Data'!$1:$1))-1} -> -0.56863873
A128: ESR Emissionskt CO2eq | B128: ESR WEM | C128: ESR WAM kt CO2-eq | E128: Samtals - Miðað við losunarbókhald | F128: {=INDEX('Talnagögn | Numerical Data'!$1:$1048576, _xlfn.XMATCH($A128,'Talnagögn | Numerical Data'!$B:$B), _xlfn.XMATCH($A$1,'Talnagögn | Numerical Data'!$1:$1))} -> 2793.7564 | G128: =SUM(G120:G127) -> 1 | H128: {=INDEX('Talnagögn | Numerical Data'!$1:$1048576, _xlfn.XMATCH($A128,'Talnagögn | Numerical Data'!$B:$B), _xlfn.XMATCH($A$1,'Talnagögn | Numerical Data'!$1:$1))-INDEX('Talnagögn | Numerical Data'!$1:$1048576, _xlfn.XMATCH($A128,'Talnagögn | Numerical Data'!$B:$B), _xlfn.XMATCH($B$3,'Talnagögn | Numerical Data'!$1:$1))} -> -78.841421 | I128: {=INDEX('Talnagögn | Numerical Data'!$1:$1048576, _xlfn.XMATCH($A128,'Talnagögn | Numerical Data'!$B:$B), _xlfn.XMATCH($A$1,'Talnagögn | Numerical Data'!$1:$1))/INDEX('Talnagögn | Numerical Data'!$1:$1048576, _xlfn.XMATCH($A128,'Talnagögn | Numerical Data'!$B:$B), _xlfn.XMATCH($B$3,'Talnagögn | Numerical Data'!$1:$1))-1} -> -0.027446035 | J128: {=INDEX('Talnagögn | Numerical Data'!$1:$1048576, _xlfn.XMATCH($A128,'Talnagögn | Numerical Data'!$B:$B), _xlfn.XMATCH($A$1,'Talnagögn | Numerical Data'!$1:$1))-INDEX('Talnagögn | Numerical Data'!$1:$1048576, _xlfn.XMATCH($A128,'Talnagögn | Numerical Data'!$B:$B), _xlfn.XMATCH($B$2,'Talnagögn | Numerical Data'!$1:$1))} -> -434.84016 | K128: {=INDEX('Talnagögn | Numerical Data'!$1:$1048576, _xlfn.XMATCH($A128,'Talnagögn | Numerical Data'!$B:$B), _xlfn.XMATCH($A$1,'Talnagögn | Numerical Data'!$1:$1))/INDEX('Talnagögn | Numerical Data'!$1:$1048576, _xlfn.XMATCH($A128,'Talnagögn | Numerical Data'!$B:$B), _xlfn.XMATCH($B$2,'Talnagögn | Numerical Data'!$1:$1))-1} -> -0.13468396 | M128: Samtals - Miðað við losunarbókhald | N128: {=INDEX('Talnagögn | Numerical Data'!$1:$1048576, _xlfn.XMATCH($B128,'Talnagögn | Numerical Data'!$C:$C), _xlfn.XMATCH($B$4,'Talnagögn | Numerical Data'!$1:$1))-INDEX('Talnagögn | Numerical Data'!$1:$1048576, _xlfn.XMATCH($A128,'Talnagögn | Numerical Data'!$C:$C), _xlfn.XMATCH($B$2,'Talnagögn | Numerical Data'!$1:$1))} -> -766.94915 | O128: {=INDEX('Talnagögn | Numerical Data'!$1:$1048576, _xlfn.XMATCH($B128,'Talnagögn | Numerical Data'!$C:$C), _xlfn.XMATCH($B$4,'Talnagögn | Numerical Data'!$1:$1))/INDEX('Talnagögn | Numerical Data'!$1:$1048576, _xlfn.XMATCH($A128,'Talnagögn | Numerical Data'!$C:$C), _xlfn.XMATCH($B$2,'Talnagögn | Numerical Data'!$1:$1))-1} -> -0.23754877 | U128: Total - According to national inventory | V128: {=INDEX('Talnagögn | Numerical Data'!$1:$1048576, _xlfn.XMATCH($A128,'Talnagögn | Numerical Data'!$B:$B), _xlfn.XMATCH($A$1,'Talnagögn | Numerical Data'!$1:$1))} -> 2793.7564 | W128: =SUM(W120:W127) -> 1 | X128: {=INDEX('Talnagögn | Numerical Data'!$1:$1048576, _xlfn.XMATCH($A128,'Talnagögn | Numerical Data'!$B:$B), _xlfn.XMATCH($A$1,'Talnagögn | Numerical Data'!$1:$1))-INDEX('Talnagögn | Numerical Data'!$1:$1048576, _xlfn.XMATCH($A128,'Talnagögn | Numerical Data'!$B:$B), _xlfn.XMATCH($B$3,'Talnagögn | Numerical Data'!$1:$1))} -> -78.841421 | Y128: {=INDEX('Talnagögn | Numerical Data'!$1:$1048576, _xlfn.XMATCH($A128,'Talnagögn | Numerical Data'!$B:$B), _xlfn.XMATCH($A$1,'Talnagögn | Numerical Data'!$1:$1))/INDEX('Talnagögn | Numerical Data'!$1:$1048576, _xlfn.XMATCH($A128,'Talnagögn | Numerical Data'!$B:$B), _xlfn.XMATCH($B$3,'Talnagögn | Numerical Data'!$1:$1))-1} -> -0.027446035 | Z128: {=INDEX('Talnagögn | Numerical Data'!$1:$1048576, _xlfn.XMATCH($A128,'Talnagögn | Numerical Data'!$B:$B), _xlfn.XMATCH($A$1,'Talnagögn | Numerical Data'!$1:$1))-INDEX('Talnagögn | Numerical Data'!$1:$1048576, _xlfn.XMATCH($A128,'Talnagögn | Numerical Data'!$B:$B), _xlfn.XMATCH($B$2,'Talnagögn | Numerical Data'!$1:$1))} -> -434.84016 | AA128: {=INDEX('Talnagögn | Numerical Data'!$1:$1048576, _xlfn.XMATCH($A128,'Talnagögn | Numerical Data'!$B:$B), _xlfn.XMATCH($A$1,'Talnagögn | Numerical Data'!$1:$1))/INDEX('Talnagögn | Numerical Data'!$1:$1048576, _xlfn.XMATCH($A128,'Talnagögn | Numerical Data'!$B:$B), _xlfn.XMATCH($B$2,'Talnagögn | Numerical Data'!$1:$1))-1} -> -0.13468396 | AC128: Total - According to national inventory | AD128: {=INDEX('Talnagögn | Numerical Data'!$1:$1048576, _xlfn.XMATCH($B128,'Talnagögn | Numerical Data'!$C:$C), _xlfn.XMATCH($B$4,'Talnagögn | Numerical Data'!$1:$1))-INDEX('Talnagögn | Numerical Data'!$1:$1048576, _xlfn.XMATCH($A128,'Talnagögn | Numerical Data'!$C:$C), _xlfn.XMATCH($B$2,'Talnagögn | Numerical Data'!$1:$1))} -> -766.94915 | AE128: {=INDEX('Talnagögn | Numerical Data'!$1:$1048576, _xlfn.XMATCH($B128,'Talnagögn | Numerical Data'!$C:$C), _xlfn.XMATCH($B$4,'Talnagögn | Numerical Data'!$1:$1))/INDEX('Talnagögn | Numerical Data'!$1:$1048576, _xlfn.XMATCH($A128,'Talnagögn | Numerical Data'!$C:$C), _xlfn.XMATCH($B$2,'Talnagögn | Numerical Data'!$1:$1))-1} -> -0.23754877
A129: JCD2005 | E129: Samtals* - Miðað við JCD 29/2022 | F129: — | G129: — | H129: — | I129: — | J129: {=INDEX('Talnagögn | Numerical Data'!$1:$1048576, _xlfn.XMATCH($A128,'Talnagögn | Numerical Data'!$B:$B), _xlfn.XMATCH($A$1,'Talnagögn | Numerical Data'!$1:$1))-INDEX('Talnagögn | Numerical Data'!$1:$1048576, _xlfn.XMATCH($A129,'Talnagögn | Numerical Data'!$B:$B), _xlfn.XMATCH($B$2,'Talnagögn | Numerical Data'!$1:$1))} -> -315.57258 | K129: {=INDEX('Talnagögn | Numerical Data'!$1:$1048576, _xlfn.XMATCH($A128,'Talnagögn | Numerical Data'!$B:$B), _xlfn.XMATCH($A$1,'Talnagögn | Numerical Data'!$1:$1))/INDEX('Talnagögn | Numerical Data'!$1:$1048576, _xlfn.XMATCH($A129,'Talnagögn | Numerical Data'!$B:$B), _xlfn.XMATCH($B$2,'Talnagögn | Numerical Data'!$1:$1))-1} -> -0.10149218 | M129: Samtals* - Miðað við JCD 29/2022 | N129: {=INDEX('Talnagögn | Numerical Data'!$1:$1048576, _xlfn.XMATCH($B128,'Talnagögn | Numerical Data'!$C:$C), _xlfn.XMATCH($B$4,'Talnagögn | Numerical Data'!$1:$1))-INDEX('Talnagögn | Numerical Data'!$1:$1048576, _xlfn.XMATCH($A129,'Talnagögn | Numerical Data'!$C:$C), _xlfn.XMATCH($B$2,'Talnagögn | Numerical Data'!$1:$1))} -> -647.68157 | O129: {=INDEX('Talnagögn | Numerical Data'!$1:$1048576, _xlfn.XMATCH($B128,'Talnagögn | Numerical Data'!$C:$C), _xlfn.XMATCH($B$4,'Talnagögn | Numerical Data'!$1:$1))/INDEX('Talnagögn | Numerical Data'!$1:$1048576, _xlfn.XMATCH($A129,'Talnagögn | Numerical Data'!$C:$C), _xlfn.XMATCH($B$2,'Talnagögn | Numerical Data'!$1:$1))-1} -> -0.20830268 | U129: Total* - According to JCD 29/2022 | V129: — | W129: — | X129: — | Y129: — | Z129: {=INDEX('Talnagögn | Numerical Data'!$1:$1048576, _xlfn.XMATCH($A128,'Talnagögn | Numerical Data'!$B:$B), _xlfn.XMATCH($A$1,'Talnagögn | Numerical Data'!$1:$1))-INDEX('Talnagögn | Numerical Data'!$1:$1048576, _xlfn.XMATCH($A129,'Talnagögn | Numerical Data'!$B:$B), _xlfn.XMATCH($B$2,'Talnagögn | Numerical Data'!$1:$1))} -> -315.57258 | AA129: {=INDEX('Talnagögn | Numerical Data'!$1:$1048576, _xlfn.XMATCH($A128,'Talnagögn | Numerical Data'!$B:$B), _xlfn.XMATCH($A$1,'Talnagögn | Numerical Data'!$1:$1))/INDEX('Talnagögn | Numerical Data'!$1:$1048576, _xlfn.XMATCH($A129,'Talnagögn | Numerical Data'!$B:$B), _xlfn.XMATCH($B$2,'Talnagögn | Numerical Data'!$1:$1))-1} -> -0.10149218 | AC129: Total* - According to JCD 29/2022 | AD129: {=INDEX('Talnagögn | Numerical Data'!$1:$1048576, _xlfn.XMATCH($B128,'Talnagögn | Numerical Data'!$C:$C), _xlfn.XMATCH($B$4,'Talnagögn | Numerical Data'!$1:$1))-INDEX('Talnagögn | Numerical Data'!$1:$1048576, _xlfn.XMATCH($A129,'Talnagögn | Numerical Data'!$C:$C), _xlfn.XMATCH($B$2,'Talnagögn | Numerical Data'!$1:$1))} -> -647.68157 | AE129: {=INDEX('Talnagögn | Numerical Data'!$1:$1048576, _xlfn.XMATCH($B128,'Talnagögn | Numerical Data'!$C:$C), _xlfn.XMATCH($B$4,'Talnagögn | Numerical Data'!$1:$1))/INDEX('Talnagögn | Numerical Data'!$1:$1048576, _xlfn.XMATCH($A129,'Talnagögn | Numerical Data'!$C:$C), _xlfn.XMATCH($B$2,'Talnagögn | Numerical Data'!$1:$1))-1} -> -0.20830268
A130: ="Samfélagslosun Íslands "& $A$1 -> Samfélagslosun Íslands 2025 | B130: ="Iceland's ESR Emissions "&$A$1 -> Iceland's ESR Emissions 2025 | E130: * Í ákvörðun sameiginlegu EES-nefndar nr. 29/2022 var losun undir beina ábyrgð Íslands árið 2005 metin 3.109.329 kg CO2-íg. | U130: * In the EEA's Joint Committee Decision (JCD) n. 29/2022, Iceland's ESR emissions in 2005 were assessed to amount to 3,109,329 kg CO2-eq.
E154: =UPPER('Talnagögn | Numerical Data'!$E$5) -> SÖGULEG LOSUN | U154: =UPPER('Talnagögn | Numerical Data'!$G$5) -> HISTORICAL EMISSIONS
E199: =$E$66 -> LOSUNARSPÁ: SVIÐSMYND BYGGÐ Á AÐGERÐUM STJÓRNVALDA | U199: =$U$66 -> EMISSION PROJECTIONS: GOVERNMENT POLICY-BASED SCENARIO
E244: MARKMIÐ OG SKULDBINDINGAR | U244: TARGETS AND OBLIGATIONS
E271: LOSUN GRÓÐURHÚSALOFTTEGUNDA FRÁ LANDNOTKUN | U271: LAND USE, LAND-USE CHANGE AND FORESTRY (LULUCF)
E273: ="STAÐAN ÁRIÐ "&$A$1 -> STAÐAN ÁRIÐ 2025 | M273: =$M$5 -> FRAMTÍÐARHORFUR | N273: =$N$5 -> Áætluð breyting í losun milli 2005 og 2030 | U273: =$A$1&" EMISSIONS" -> 2025 EMISSIONS | AC273: OUTLOOKS | AD273: =$AD$5 -> Estimated change in emissions between 2005 and 2030
F274: =$F$6 -> Losun 2025 | H274: =$H$6 -> Breyting frá 2024 | J274: =$J$6 -> Breyting frá 2005 | N274: =$N$6 -> Losunarspá: Sviðsmynd byggð á aðgerðum stjórnvalda | V274: =$V$6 -> Emissions in 2025 | X274: =$X$6 -> Change from 2024 | Z274: =$Z$6 -> Change from 2005 | AD274: =$AD$6 -> Emission Projections: Government Policy-Based Scenario
F275: =$F$7 -> Þús. tonn CO₂-íg. | G275: % | H275: =$F$7 -> Þús. tonn CO₂-íg. | I275: % | J275: =$F$7 -> Þús. tonn CO₂-íg. | K275: % | N275: =$F$7 -> Þús. tonn CO₂-íg. | O275: % | V275: =$V$7 -> Thousand tons CO₂e | W275: % | X275: =$V$7 -> Thousand tons CO₂e | Y275: % | Z275: =$V$7 -> Thousand tons CO₂e | AA275: % | AD275: =$V$7 -> Thousand tons CO₂e | AE275: %
A276: 4.A Forest Landkt CO2-eq | B276: 4.A Forest Landkt CO2-eq WEM | E276: ='Talnagögn | Numerical Data'!$E$210 -> Skógar | F276: {=INDEX('Talnagögn | Numerical Data'!$1:$1048576,_xlfn.XMATCH($A276,'Talnagögn | Numerical Data'!$B:$B),_xlfn.XMATCH($A$1,'Talnagögn | Numerical Data'!$1:$1))} -> -569.03314 | G276: =$F276/$F$281 -> -0.093585727 | H276: {=INDEX('Talnagögn | Numerical Data'!$1:$1048576, _xlfn.XMATCH($A276,'Talnagögn | Numerical Data'!$B:$B), _xlfn.XMATCH($A$1,'Talnagögn | Numerical Data'!$1:$1))-INDEX('Talnagögn | Numerical Data'!$1:$1048576, _xlfn.XMATCH($A276,'Talnagögn | Numerical Data'!$B:$B), _xlfn.XMATCH($B$3,'Talnagögn | Numerical Data'!$1:$1))} -> -34.866324 | I276: {=INDEX('Talnagögn | Numerical Data'!$1:$1048576, _xlfn.XMATCH($A276,'Talnagögn | Numerical Data'!$B:$B), _xlfn.XMATCH($A$1,'Talnagögn | Numerical Data'!$1:$1))/INDEX('Talnagögn | Numerical Data'!$1:$1048576, _xlfn.XMATCH($A276,'Talnagögn | Numerical Data'!$B:$B), _xlfn.XMATCH($B$3,'Talnagögn | Numerical Data'!$1:$1))-1} -> 0.065272352 | J276: {=INDEX('Talnagögn | Numerical Data'!$1:$1048576, _xlfn.XMATCH($A276,'Talnagögn | Numerical Data'!$B:$B), _xlfn.XMATCH($A$1,'Talnagögn | Numerical Data'!$1:$1))-INDEX('Talnagögn | Numerical Data'!$1:$1048576, _xlfn.XMATCH($A276,'Talnagögn | Numerical Data'!$B:$B), _xlfn.XMATCH($B$2,'Talnagögn | Numerical Data'!$1:$1))} -> -422.7978 | K276: {=INDEX('Talnagögn | Numerical Data'!$1:$1048576, _xlfn.XMATCH($A276,'Talnagögn | Numerical Data'!$B:$B), _xlfn.XMATCH($A$1,'Talnagögn | Numerical Data'!$1:$1))/INDEX('Talnagögn | Numerical Data'!$1:$1048576, _xlfn.XMATCH($A276,'Talnagögn | Numerical Data'!$B:$B), _xlfn.XMATCH($B$2,'Talnagögn | Numerical Data'!$1:$1))-1} -> 2.8912151 | M276: ='Talnagögn | Numerical Data'!$E$210 -> Skógar | N276: {=INDEX('Talnagögn | Numerical Data'!$1:$1048576, _xlfn.XMATCH($B276,'Talnagögn | Numerical Data'!$C:$C), _xlfn.XMATCH($B$4,'Talnagögn | Numerical Data'!$1:$1))-INDEX('Talnagögn | Numerical Data'!$1:$1048576, _xlfn.XMATCH($A276,'Talnagögn | Numerical Data'!$C:$C), _xlfn.XMATCH($B$2,'Talnagögn | Numerical Data'!$1:$1))} -> -605.8637 | O276: {=INDEX('Talnagögn | Numerical Data'!$1:$1048576, _xlfn.XMATCH($B276,'Talnagögn | Numerical Data'!$C:$C), _xlfn.XMATCH($B$4,'Talnagögn | Numerical Data'!$1:$1))/INDEX('Talnagögn | Numerical Data'!$1:$1048576, _xlfn.XMATCH($A276,'Talnagögn | Numerical Data'!$C:$C), _xlfn.XMATCH($B$2,'Talnagögn | Numerical Data'!$1:$1))-1} -> 4.1430732 | U276: ='Talnagögn | Numerical Data'!$G$210 -> Forest Land | V276: {=INDEX('Talnagögn | Numerical Data'!$1:$1048576,_xlfn.XMATCH($A276,'Talnagögn | Numerical Data'!$B:$B),_xlfn.XMATCH($A$1,'Talnagögn | Numerical Data'!$1:$1))} -> -569.03314 | W276: =$F276/$F$281 -> -0.093585727 | X276: {=INDEX('Talnagögn | Numerical Data'!$1:$1048576, _xlfn.XMATCH($A276,'Talnagögn | Numerical Data'!$B:$B), _xlfn.XMATCH($A$1,'Talnagögn | Numerical Data'!$1:$1))-INDEX('Talnagögn | Numerical Data'!$1:$1048576, _xlfn.XMATCH($A276,'Talnagögn | Numerical Data'!$B:$B), _xlfn.XMATCH($B$3,'Talnagögn | Numerical Data'!$1:$1))} -> -34.866324 | Y276: {=INDEX('Talnagögn | Numerical Data'!$1:$1048576, _xlfn.XMATCH($A276,'Talnagögn | Numerical Data'!$B:$B), _xlfn.XMATCH($A$1,'Talnagögn | Numerical Data'!$1:$1))/INDEX('Talnagögn | Numerical Data'!$1:$1048576, _xlfn.XMATCH($A276,'Talnagögn | Numerical Data'!$B:$B), _xlfn.XMATCH($B$3,'Talnagögn | Numerical Data'!$1:$1))-1} -> 0.065272352 | Z276: {=INDEX('Talnagögn | Numerical Data'!$1:$1048576, _xlfn.XMATCH($A276,'Talnagögn | Numerical Data'!$B:$B), _xlfn.XMATCH($A$1,'Talnagögn | Numerical Data'!$1:$1))-INDEX('Talnagögn | Numerical Data'!$1:$1048576, _xlfn.XMATCH($A276,'Talnagögn | Numerical Data'!$B:$B), _xlfn.XMATCH($B$2,'Talnagögn | Numerical Data'!$1:$1))} -> -422.7978 | AA276: {=INDEX('Talnagögn | Numerical Data'!$1:$1048576, _xlfn.XMATCH($A276,'Talnagögn | Numerical Data'!$B:$B), _xlfn.XMATCH($A$1,'Talnagögn | Numerical Data'!$1:$1))/INDEX('Talnagögn | Numerical Data'!$1:$1048576, _xlfn.XMATCH($A276,'Talnagögn | Numerical Data'!$B:$B), _xlfn.XMATCH($B$2,'Talnagögn | Numerical Data'!$1:$1))-1} -> 2.8912151 | AC276: ='Talnagögn | Numerical Data'!$G$210 -> Forest Land | AD276: {=INDEX('Talnagögn | Numerical Data'!$1:$1048576, _xlfn.XMATCH($B276,'Talnagögn | Numerical Data'!$C:$C), _xlfn.XMATCH($B$4,'Talnagögn | Numerical Data'!$1:$1))-INDEX('Talnagögn | Numerical Data'!$1:$1048576, _xlfn.XMATCH($A276,'Talnagögn | Numerical Data'!$C:$C), _xlfn.XMATCH($B$2,'Talnagögn | Numerical Data'!$1:$1))} -> -605.8637 | AE276: {=INDEX('Talnagögn | Numerical Data'!$1:$1048576, _xlfn.XMATCH($B276,'Talnagögn | Numerical Data'!$C:$C), _xlfn.XMATCH($B$4,'Talnagögn | Numerical Data'!$1:$1))/INDEX('Talnagögn | Numerical Data'!$1:$1048576, _xlfn.XMATCH($A276,'Talnagögn | Numerical Data'!$C:$C), _xlfn.XMATCH($B$2,'Talnagögn | Numerical Data'!$1:$1))-1} -> 4.1430732
A277: 4.B Croplandkt CO2-eq | B277: 4.B Croplandkt CO2-eq WEM | E277: ='Talnagögn | Numerical Data'!$E$211 -> Ræktað land | F277: {=INDEX('Talnagögn | Numerical Data'!$1:$1048576,_xlfn.XMATCH($A277,'Talnagögn | Numerical Data'!$B:$B),_xlfn.XMATCH($A$1,'Talnagögn | Numerical Data'!$1:$1))} -> 1574.5549 | G277: =$F277/$F$281 -> 0.25895833 | H277: {=INDEX('Talnagögn | Numerical Data'!$1:$1048576, _xlfn.XMATCH($A277,'Talnagögn | Numerical Data'!$B:$B), _xlfn.XMATCH($A$1,'Talnagögn | Numerical Data'!$1:$1))-INDEX('Talnagögn | Numerical Data'!$1:$1048576, _xlfn.XMATCH($A277,'Talnagögn | Numerical Data'!$B:$B), _xlfn.XMATCH($B$3,'Talnagögn | Numerical Data'!$1:$1))} -> -91.681576 | I277: {=INDEX('Talnagögn | Numerical Data'!$1:$1048576, _xlfn.XMATCH($A277,'Talnagögn | Numerical Data'!$B:$B), _xlfn.XMATCH($A$1,'Talnagögn | Numerical Data'!$1:$1))/INDEX('Talnagögn | Numerical Data'!$1:$1048576, _xlfn.XMATCH($A277,'Talnagögn | Numerical Data'!$B:$B), _xlfn.XMATCH($B$3,'Talnagögn | Numerical Data'!$1:$1))-1} -> -0.055023147 | J277: {=INDEX('Talnagögn | Numerical Data'!$1:$1048576, _xlfn.XMATCH($A277,'Talnagögn | Numerical Data'!$B:$B), _xlfn.XMATCH($A$1,'Talnagögn | Numerical Data'!$1:$1))-INDEX('Talnagögn | Numerical Data'!$1:$1048576, _xlfn.XMATCH($A277,'Talnagögn | Numerical Data'!$B:$B), _xlfn.XMATCH($B$2,'Talnagögn | Numerical Data'!$1:$1))} -> -496.59214 | K277: {=INDEX('Talnagögn | Numerical Data'!$1:$1048576, _xlfn.XMATCH($A277,'Talnagögn | Numerical Data'!$B:$B), _xlfn.XMATCH($A$1,'Talnagögn | Numerical Data'!$1:$1))/INDEX('Talnagögn | Numerical Data'!$1:$1048576, _xlfn.XMATCH($A277,'Talnagögn | Numerical Data'!$B:$B), _xlfn.XMATCH($B$2,'Talnagögn | Numerical Data'!$1:$1))-1} -> -0.23976672 | M277: ='Talnagögn | Numerical Data'!$E$211 -> Ræktað land | N277: {=INDEX('Talnagögn | Numerical Data'!$1:$1048576, _xlfn.XMATCH($B277,'Talnagögn | Numerical Data'!$C:$C), _xlfn.XMATCH($B$4,'Talnagögn | Numerical Data'!$1:$1))-INDEX('Talnagögn | Numerical Data'!$1:$1048576, _xlfn.XMATCH($A277,'Talnagögn | Numerical Data'!$C:$C), _xlfn.XMATCH($B$2,'Talnagögn | Numerical Data'!$1:$1))} -> -483.90787 | O277: {=INDEX('Talnagögn | Numerical Data'!$1:$1048576, _xlfn.XMATCH($B277,'Talnagögn | Numerical Data'!$C:$C), _xlfn.XMATCH($B$4,'Talnagögn | Numerical Data'!$1:$1))/INDEX('Talnagögn | Numerical Data'!$1:$1048576, _xlfn.XMATCH($A277,'Talnagögn | Numerical Data'!$C:$C), _xlfn.XMATCH($B$2,'Talnagögn | Numerical Data'!$1:$1))-1} -> -0.23364245 | U277: ='Talnagögn | Numerical Data'!$G$211 -> Cropland | V277: {=INDEX('Talnagögn | Numerical Data'!$1:$1048576,_xlfn.XMATCH($A277,'Talnagögn | Numerical Data'!$B:$B),_xlfn.XMATCH($A$1,'Talnagögn | Numerical Data'!$1:$1))} -> 1574.5549 | W277: =$F277/$F$281 -> 0.25895833 | X277: {=INDEX('Talnagögn | Numerical Data'!$1:$1048576, _xlfn.XMATCH($A277,'Talnagögn | Numerical Data'!$B:$B), _xlfn.XMATCH($A$1,'Talnagögn | Numerical Data'!$1:$1))-INDEX('Talnagögn | Numerical Data'!$1:$1048576, _xlfn.XMATCH($A277,'Talnagögn | Numerical Data'!$B:$B), _xlfn.XMATCH($B$3,'Talnagögn | Numerical Data'!$1:$1))} -> -91.681576 | Y277: {=INDEX('Talnagögn | Numerical Data'!$1:$1048576, _xlfn.XMATCH($A277,'Talnagögn | Numerical Data'!$B:$B), _xlfn.XMATCH($A$1,'Talnagögn | Numerical Data'!$1:$1))/INDEX('Talnagögn | Numerical Data'!$1:$1048576, _xlfn.XMATCH($A277,'Talnagögn | Numerical Data'!$B:$B), _xlfn.XMATCH($B$3,'Talnagögn | Numerical Data'!$1:$1))-1} -> -0.055023147 | Z277: {=INDEX('Talnagögn | Numerical Data'!$1:$1048576, _xlfn.XMATCH($A277,'Talnagögn | Numerical Data'!$B:$B), _xlfn.XMATCH($A$1,'Talnagögn | Numerical Data'!$1:$1))-INDEX('Talnagögn | Numerical Data'!$1:$1048576, _xlfn.XMATCH($A277,'Talnagögn | Numerical Data'!$B:$B), _xlfn.XMATCH($B$2,'Talnagögn | Numerical Data'!$1:$1))} -> -496.59214 | AA277: {=INDEX('Talnagögn | Numerical Data'!$1:$1048576, _xlfn.XMATCH($A277,'Talnagögn | Numerical Data'!$B:$B), _xlfn.XMATCH($A$1,'Talnagögn | Numerical Data'!$1:$1))/INDEX('Talnagögn | Numerical Data'!$1:$1048576, _xlfn.XMATCH($A277,'Talnagögn | Numerical Data'!$B:$B), _xlfn.XMATCH($B$2,'Talnagögn | Numerical Data'!$1:$1))-1} -> -0.23976672 | AC277: ='Talnagögn | Numerical Data'!$G$211 -> Cropland | AD277: {=INDEX('Talnagögn | Numerical Data'!$1:$1048576, _xlfn.XMATCH($B277,'Talnagögn | Numerical Data'!$C:$C), _xlfn.XMATCH($B$4,'Talnagögn | Numerical Data'!$1:$1))-INDEX('Talnagögn | Numerical Data'!$1:$1048576, _xlfn.XMATCH($A277,'Talnagögn | Numerical Data'!$C:$C), _xlfn.XMATCH($B$2,'Talnagögn | Numerical Data'!$1:$1))} -> -483.90787 | AE277: {=INDEX('Talnagögn | Numerical Data'!$1:$1048576, _xlfn.XMATCH($B277,'Talnagögn | Numerical Data'!$C:$C), _xlfn.XMATCH($B$4,'Talnagögn | Numerical Data'!$1:$1))/INDEX('Talnagögn | Numerical Data'!$1:$1048576, _xlfn.XMATCH($A277,'Talnagögn | Numerical Data'!$C:$C), _xlfn.XMATCH($B$2,'Talnagögn | Numerical Data'!$1:$1))-1} -> -0.23364245
A278: 4.C Grasslandkt CO2-eq | B278: 4.C Grasslandkt CO2-eq WEM | E278: ='Talnagögn | Numerical Data'!$E$212 -> Mólendi | F278: {=INDEX('Talnagögn | Numerical Data'!$1:$1048576,_xlfn.XMATCH($A278,'Talnagögn | Numerical Data'!$B:$B),_xlfn.XMATCH($A$1,'Talnagögn | Numerical Data'!$1:$1))} -> 5024.8635 | G278: =$F278/$F$281 -> 0.82641146 | H278: {=INDEX('Talnagögn | Numerical Data'!$1:$1048576, _xlfn.XMATCH($A278,'Talnagögn | Numerical Data'!$B:$B), _xlfn.XMATCH($A$1,'Talnagögn | Numerical Data'!$1:$1))-INDEX('Talnagögn | Numerical Data'!$1:$1048576, _xlfn.XMATCH($A278,'Talnagögn | Numerical Data'!$B:$B), _xlfn.XMATCH($B$3,'Talnagögn | Numerical Data'!$1:$1))} -> -15.271946 | I278: {=INDEX('Talnagögn | Numerical Data'!$1:$1048576, _xlfn.XMATCH($A278,'Talnagögn | Numerical Data'!$B:$B), _xlfn.XMATCH($A$1,'Talnagögn | Numerical Data'!$1:$1))/INDEX('Talnagögn | Numerical Data'!$1:$1048576, _xlfn.XMATCH($A278,'Talnagögn | Numerical Data'!$B:$B), _xlfn.XMATCH($B$3,'Talnagögn | Numerical Data'!$1:$1))-1} -> -0.0030300666 | J278: {=INDEX('Talnagögn | Numerical Data'!$1:$1048576, _xlfn.XMATCH($A278,'Talnagögn | Numerical Data'!$B:$B), _xlfn.XMATCH($A$1,'Talnagögn | Numerical Data'!$1:$1))-INDEX('Talnagögn | Numerical Data'!$1:$1048576, _xlfn.XMATCH($A278,'Talnagögn | Numerical Data'!$B:$B), _xlfn.XMATCH($B$2,'Talnagögn | Numerical Data'!$1:$1))} -> 378.18899 | K278: {=INDEX('Talnagögn | Numerical Data'!$1:$1048576, _xlfn.XMATCH($A278,'Talnagögn | Numerical Data'!$B:$B), _xlfn.XMATCH($A$1,'Talnagögn | Numerical Data'!$1:$1))/INDEX('Talnagögn | Numerical Data'!$1:$1048576, _xlfn.XMATCH($A278,'Talnagögn | Numerical Data'!$B:$B), _xlfn.XMATCH($B$2,'Talnagögn | Numerical Data'!$1:$1))-1} -> 0.081389171 | M278: ='Talnagögn | Numerical Data'!$E$212 -> Mólendi | N278: {=INDEX('Talnagögn | Numerical Data'!$1:$1048576, _xlfn.XMATCH($B278,'Talnagögn | Numerical Data'!$C:$C), _xlfn.XMATCH($B$4,'Talnagögn | Numerical Data'!$1:$1))-INDEX('Talnagögn | Numerical Data'!$1:$1048576, _xlfn.XMATCH($A278,'Talnagögn | Numerical Data'!$C:$C), _xlfn.XMATCH($B$2,'Talnagögn | Numerical Data'!$1:$1))} -> -63.413455 | O278: {=INDEX('Talnagögn | Numerical Data'!$1:$1048576, _xlfn.XMATCH($B278,'Talnagögn | Numerical Data'!$C:$C), _xlfn.XMATCH($B$4,'Talnagögn | Numerical Data'!$1:$1))/INDEX('Talnagögn | Numerical Data'!$1:$1048576, _xlfn.XMATCH($A278,'Talnagögn | Numerical Data'!$C:$C), _xlfn.XMATCH($B$2,'Talnagögn | Numerical Data'!$1:$1))-1} -> -0.013647062 | U278: ='Talnagögn | Numerical Data'!$G$212 -> Grassland | V278: {=INDEX('Talnagögn | Numerical Data'!$1:$1048576,_xlfn.XMATCH($A278,'Talnagögn | Numerical Data'!$B:$B),_xlfn.XMATCH($A$1,'Talnagögn | Numerical Data'!$1:$1))} -> 5024.8635 | W278: =$F278/$F$281 -> 0.82641146 | X278: {=INDEX('Talnagögn | Numerical Data'!$1:$1048576, _xlfn.XMATCH($A278,'Talnagögn | Numerical Data'!$B:$B), _xlfn.XMATCH($A$1,'Talnagögn | Numerical Data'!$1:$1))-INDEX('Talnagögn | Numerical Data'!$1:$1048576, _xlfn.XMATCH($A278,'Talnagögn | Numerical Data'!$B:$B), _xlfn.XMATCH($B$3,'Talnagögn | Numerical Data'!$1:$1))} -> -15.271946 | Y278: {=INDEX('Talnagögn | Numerical Data'!$1:$1048576, _xlfn.XMATCH($A278,'Talnagögn | Numerical Data'!$B:$B), _xlfn.XMATCH($A$1,'Talnagögn | Numerical Data'!$1:$1))/INDEX('Talnagögn | Numerical Data'!$1:$1048576, _xlfn.XMATCH($A278,'Talnagögn | Numerical Data'!$B:$B), _xlfn.XMATCH($B$3,'Talnagögn | Numerical Data'!$1:$1))-1} -> -0.0030300666 | Z278: {=INDEX('Talnagögn | Numerical Data'!$1:$1048576, _xlfn.XMATCH($A278,'Talnagögn | Numerical Data'!$B:$B), _xlfn.XMATCH($A$1,'Talnagögn | Numerical Data'!$1:$1))-INDEX('Talnagögn | Numerical Data'!$1:$1048576, _xlfn.XMATCH($A278,'Talnagögn | Numerical Data'!$B:$B), _xlfn.XMATCH($B$2,'Talnagögn | Numerical Data'!$1:$1))} -> 378.18899 | AA278: {=INDEX('Talnagögn | Numerical Data'!$1:$1048576, _xlfn.XMATCH($A278,'Talnagögn | Numerical Data'!$B:$B), _xlfn.XMATCH($A$1,'Talnagögn | Numerical Data'!$1:$1))/INDEX('Talnagögn | Numerical Data'!$1:$1048576, _xlfn.XMATCH($A278,'Talnagögn | Numerical Data'!$B:$B), _xlfn.XMATCH($B$2,'Talnagögn | Numerical Data'!$1:$1))-1} -> 0.081389171 | AC278: ='Talnagögn | Numerical Data'!$G$212 -> Grassland | AD278: {=INDEX('Talnagögn | Numerical Data'!$1:$1048576, _xlfn.XMATCH($B278,'Talnagögn | Numerical Data'!$C:$C), _xlfn.XMATCH($B$4,'Talnagögn | Numerical Data'!$1:$1))-INDEX('Talnagögn | Numerical Data'!$1:$1048576, _xlfn.XMATCH($A278,'Talnagögn | Numerical Data'!$C:$C), _xlfn.XMATCH($B$2,'Talnagögn | Numerical Data'!$1:$1))} -> -63.413455 | AE278: {=INDEX('Talnagögn | Numerical Data'!$1:$1048576, _xlfn.XMATCH($B278,'Talnagögn | Numerical Data'!$C:$C), _xlfn.XMATCH($B$4,'Talnagögn | Numerical Data'!$1:$1))/INDEX('Talnagögn | Numerical Data'!$1:$1048576, _xlfn.XMATCH($A278,'Talnagögn | Numerical Data'!$C:$C), _xlfn.XMATCH($B$2,'Talnagögn | Numerical Data'!$1:$1))-1} -> -0.013647062
A279: 4.D Wetlandskt CO2-eq | B279: 4.D Wetlandskt CO2-eq WEM | E279: ='Talnagögn | Numerical Data'!$E$213 -> Votlendi | F279: {=INDEX('Talnagögn | Numerical Data'!$1:$1048576,_xlfn.XMATCH($A279,'Talnagögn | Numerical Data'!$B:$B),_xlfn.XMATCH($A$1,'Talnagögn | Numerical Data'!$1:$1))} -> 17.192249 | G279: =$F279/$F$281 -> 0.0028275139 | H279: {=INDEX('Talnagögn | Numerical Data'!$1:$1048576, _xlfn.XMATCH($A279,'Talnagögn | Numerical Data'!$B:$B), _xlfn.XMATCH($A$1,'Talnagögn | Numerical Data'!$1:$1))-INDEX('Talnagögn | Numerical Data'!$1:$1048576, _xlfn.XMATCH($A279,'Talnagögn | Numerical Data'!$B:$B), _xlfn.XMATCH($B$3,'Talnagögn | Numerical Data'!$1:$1))} -> 0.042615748 | I279: {=INDEX('Talnagögn | Numerical Data'!$1:$1048576, _xlfn.XMATCH($A279,'Talnagögn | Numerical Data'!$B:$B), _xlfn.XMATCH($A$1,'Talnagögn | Numerical Data'!$1:$1))/INDEX('Talnagögn | Numerical Data'!$1:$1048576, _xlfn.XMATCH($A279,'Talnagögn | Numerical Data'!$B:$B), _xlfn.XMATCH($B$3,'Talnagögn | Numerical Data'!$1:$1))-1} -> 0.0024849365 | J279: {=INDEX('Talnagögn | Numerical Data'!$1:$1048576, _xlfn.XMATCH($A279,'Talnagögn | Numerical Data'!$B:$B), _xlfn.XMATCH($A$1,'Talnagögn | Numerical Data'!$1:$1))-INDEX('Talnagögn | Numerical Data'!$1:$1048576, _xlfn.XMATCH($A279,'Talnagögn | Numerical Data'!$B:$B), _xlfn.XMATCH($B$2,'Talnagögn | Numerical Data'!$1:$1))} -> -2.2516881 | K279: {=INDEX('Talnagögn | Numerical Data'!$1:$1048576, _xlfn.XMATCH($A279,'Talnagögn | Numerical Data'!$B:$B), _xlfn.XMATCH($A$1,'Talnagögn | Numerical Data'!$1:$1))/INDEX('Talnagögn | Numerical Data'!$1:$1048576, _xlfn.XMATCH($A279,'Talnagögn | Numerical Data'!$B:$B), _xlfn.XMATCH($B$2,'Talnagögn | Numerical Data'!$1:$1))-1} -> -0.11580413 | M279: ='Talnagögn | Numerical Data'!$E$213 -> Votlendi | N279: {=INDEX('Talnagögn | Numerical Data'!$1:$1048576, _xlfn.XMATCH($B279,'Talnagögn | Numerical Data'!$C:$C), _xlfn.XMATCH($B$4,'Talnagögn | Numerical Data'!$1:$1))-INDEX('Talnagögn | Numerical Data'!$1:$1048576, _xlfn.XMATCH($A279,'Talnagögn | Numerical Data'!$C:$C), _xlfn.XMATCH($B$2,'Talnagögn | Numerical Data'!$1:$1))} -> 48.898966 | O279: {=INDEX('Talnagögn | Numerical Data'!$1:$1048576, _xlfn.XMATCH($B279,'Talnagögn | Numerical Data'!$C:$C), _xlfn.XMATCH($B$4,'Talnagögn | Numerical Data'!$1:$1))/INDEX('Talnagögn | Numerical Data'!$1:$1048576, _xlfn.XMATCH($A279,'Talnagögn | Numerical Data'!$C:$C), _xlfn.XMATCH($B$2,'Talnagögn | Numerical Data'!$1:$1))-1} -> 2.5148696 | U279: ='Talnagögn | Numerical Data'!$G$213 -> Wetlands | V279: {=INDEX('Talnagögn | Numerical Data'!$1:$1048576,_xlfn.XMATCH($A279,'Talnagögn | Numerical Data'!$B:$B),_xlfn.XMATCH($A$1,'Talnagögn | Numerical Data'!$1:$1))} -> 17.192249 | W279: =$F279/$F$281 -> 0.0028275139 | X279: {=INDEX('Talnagögn | Numerical Data'!$1:$1048576, _xlfn.XMATCH($A279,'Talnagögn | Numerical Data'!$B:$B), _xlfn.XMATCH($A$1,'Talnagögn | Numerical Data'!$1:$1))-INDEX('Talnagögn | Numerical Data'!$1:$1048576, _xlfn.XMATCH($A279,'Talnagögn | Numerical Data'!$B:$B), _xlfn.XMATCH($B$3,'Talnagögn | Numerical Data'!$1:$1))} -> 0.042615748 | Y279: {=INDEX('Talnagögn | Numerical Data'!$1:$1048576, _xlfn.XMATCH($A279,'Talnagögn | Numerical Data'!$B:$B), _xlfn.XMATCH($A$1,'Talnagögn | Numerical Data'!$1:$1))/INDEX('Talnagögn | Numerical Data'!$1:$1048576, _xlfn.XMATCH($A279,'Talnagögn | Numerical Data'!$B:$B), _xlfn.XMATCH($B$3,'Talnagögn | Numerical Data'!$1:$1))-1} -> 0.0024849365 | Z279: {=INDEX('Talnagögn | Numerical Data'!$1:$1048576, _xlfn.XMATCH($A279,'Talnagögn | Numerical Data'!$B:$B), _xlfn.XMATCH($A$1,'Talnagögn | Numerical Data'!$1:$1))-INDEX('Talnagögn | Numerical Data'!$1:$1048576, _xlfn.XMATCH($A279,'Talnagögn | Numerical Data'!$B:$B), _xlfn.XMATCH($B$2,'Talnagögn | Numerical Data'!$1:$1))} -> -2.2516881 | AA279: {=INDEX('Talnagögn | Numerical Data'!$1:$1048576, _xlfn.XMATCH($A279,'Talnagögn | Numerical Data'!$B:$B), _xlfn.XMATCH($A$1,'Talnagögn | Numerical Data'!$1:$1))/INDEX('Talnagögn | Numerical Data'!$1:$1048576, _xlfn.XMATCH($A279,'Talnagögn | Numerical Data'!$B:$B), _xlfn.XMATCH($B$2,'Talnagögn | Numerical Data'!$1:$1))-1} -> -0.11580413 | AC279: ='Talnagögn | Numerical Data'!$G$213 -> Wetlands | AD279: {=INDEX('Talnagögn | Numerical Data'!$1:$1048576, _xlfn.XMATCH($B279,'Talnagögn | Numerical Data'!$C:$C), _xlfn.XMATCH($B$4,'Talnagögn | Numerical Data'!$1:$1))-INDEX('Talnagögn | Numerical Data'!$1:$1048576, _xlfn.XMATCH($A279,'Talnagögn | Numerical Data'!$C:$C), _xlfn.XMATCH($B$2,'Talnagögn | Numerical Data'!$1:$1))} -> 48.898966 | AE279: {=INDEX('Talnagögn | Numerical Data'!$1:$1048576, _xlfn.XMATCH($B279,'Talnagögn | Numerical Data'!$C:$C), _xlfn.XMATCH($B$4,'Talnagögn | Numerical Data'!$1:$1))/INDEX('Talnagögn | Numerical Data'!$1:$1048576, _xlfn.XMATCH($A279,'Talnagögn | Numerical Data'!$C:$C), _xlfn.XMATCH($B$2,'Talnagögn | Numerical Data'!$1:$1))-1} -> 2.5148696
A280: LULUCF Annað | B280: LULUCF Annað WEM | E280: ='Talnagögn | Numerical Data'!$E$214 -> Önnur losun | F280: {=INDEX('Talnagögn | Numerical Data'!$1:$1048576,_xlfn.XMATCH($A280,'Talnagögn | Numerical Data'!$B:$B),_xlfn.XMATCH($A$1,'Talnagögn | Numerical Data'!$1:$1))} -> 32.763451 | G280: =$F280/$F$281 -> 0.0053884232 | H280: {=INDEX('Talnagögn | Numerical Data'!$1:$1048576, _xlfn.XMATCH($A280,'Talnagögn | Numerical Data'!$B:$B), _xlfn.XMATCH($A$1,'Talnagögn | Numerical Data'!$1:$1))-INDEX('Talnagögn | Numerical Data'!$1:$1048576, _xlfn.XMATCH($A280,'Talnagögn | Numerical Data'!$B:$B), _xlfn.XMATCH($B$3,'Talnagögn | Numerical Data'!$1:$1))} -> 6.2019491 | I280: {=INDEX('Talnagögn | Numerical Data'!$1:$1048576, _xlfn.XMATCH($A280,'Talnagögn | Numerical Data'!$B:$B), _xlfn.XMATCH($A$1,'Talnagögn | Numerical Data'!$1:$1))/INDEX('Talnagögn | Numerical Data'!$1:$1048576, _xlfn.XMATCH($A280,'Talnagögn | Numerical Data'!$B:$B), _xlfn.XMATCH($B$3,'Talnagögn | Numerical Data'!$1:$1))-1} -> 0.23349392 | J280: {=INDEX('Talnagögn | Numerical Data'!$1:$1048576, _xlfn.XMATCH($A280,'Talnagögn | Numerical Data'!$B:$B), _xlfn.XMATCH($A$1,'Talnagögn | Numerical Data'!$1:$1))-INDEX('Talnagögn | Numerical Data'!$1:$1048576, _xlfn.XMATCH($A280,'Talnagögn | Numerical Data'!$B:$B), _xlfn.XMATCH($B$2,'Talnagögn | Numerical Data'!$1:$1))} -> -25.27148 | K280: {=INDEX('Talnagögn | Numerical Data'!$1:$1048576, _xlfn.XMATCH($A280,'Talnagögn | Numerical Data'!$B:$B), _xlfn.XMATCH($A$1,'Talnagögn | Numerical Data'!$1:$1))/INDEX('Talnagögn | Numerical Data'!$1:$1048576, _xlfn.XMATCH($A280,'Talnagögn | Numerical Data'!$B:$B), _xlfn.XMATCH($B$2,'Talnagögn | Numerical Data'!$1:$1))-1} -> -0.43545292 | M280: ='Talnagögn | Numerical Data'!$E$214 -> Önnur losun | N280: {=INDEX('Talnagögn | Numerical Data'!$1:$1048576, _xlfn.XMATCH($B280,'Talnagögn | Numerical Data'!$C:$C), _xlfn.XMATCH($B$4,'Talnagögn | Numerical Data'!$1:$1))-INDEX('Talnagögn | Numerical Data'!$1:$1048576, _xlfn.XMATCH($A280,'Talnagögn | Numerical Data'!$C:$C), _xlfn.XMATCH($B$2,'Talnagögn | Numerical Data'!$1:$1))} -> -25.436777 | O280: {=INDEX('Talnagögn | Numerical Data'!$1:$1048576, _xlfn.XMATCH($B280,'Talnagögn | Numerical Data'!$C:$C), _xlfn.XMATCH($B$4,'Talnagögn | Numerical Data'!$1:$1))/INDEX('Talnagögn | Numerical Data'!$1:$1048576, _xlfn.XMATCH($A280,'Talnagögn | Numerical Data'!$C:$C), _xlfn.XMATCH($B$2,'Talnagögn | Numerical Data'!$1:$1))-1} -> -0.43830115 | U280: ='Talnagögn | Numerical Data'!$G$214 -> Other Emissions | V280: {=INDEX('Talnagögn | Numerical Data'!$1:$1048576,_xlfn.XMATCH($A280,'Talnagögn | Numerical Data'!$B:$B),_xlfn.XMATCH($A$1,'Talnagögn | Numerical Data'!$1:$1))} -> 32.763451 | W280: =$F280/$F$281 -> 0.0053884232 | X280: {=INDEX('Talnagögn | Numerical Data'!$1:$1048576, _xlfn.XMATCH($A280,'Talnagögn | Numerical Data'!$B:$B), _xlfn.XMATCH($A$1,'Talnagögn | Numerical Data'!$1:$1))-INDEX('Talnagögn | Numerical Data'!$1:$1048576, _xlfn.XMATCH($A280,'Talnagögn | Numerical Data'!$B:$B), _xlfn.XMATCH($B$3,'Talnagögn | Numerical Data'!$1:$1))} -> 6.2019491 | Y280: {=INDEX('Talnagögn | Numerical Data'!$1:$1048576, _xlfn.XMATCH($A280,'Talnagögn | Numerical Data'!$B:$B), _xlfn.XMATCH($A$1,'Talnagögn | Numerical Data'!$1:$1))/INDEX('Talnagögn | Numerical Data'!$1:$1048576, _xlfn.XMATCH($A280,'Talnagögn | Numerical Data'!$B:$B), _xlfn.XMATCH($B$3,'Talnagögn | Numerical Data'!$1:$1))-1} -> 0.23349392 | Z280: {=INDEX('Talnagögn | Numerical Data'!$1:$1048576, _xlfn.XMATCH($A280,'Talnagögn | Numerical Data'!$B:$B), _xlfn.XMATCH($A$1,'Talnagögn | Numerical Data'!$1:$1))-INDEX('Talnagögn | Numerical Data'!$1:$1048576, _xlfn.XMATCH($A280,'Talnagögn | Numerical Data'!$B:$B), _xlfn.XMATCH($B$2,'Talnagögn | Numerical Data'!$1:$1))} -> -25.27148 | AA280: {=INDEX('Talnagögn | Numerical Data'!$1:$1048576, _xlfn.XMATCH($A280,'Talnagögn | Numerical Data'!$B:$B), _xlfn.XMATCH($A$1,'Talnagögn | Numerical Data'!$1:$1))/INDEX('Talnagögn | Numerical Data'!$1:$1048576, _xlfn.XMATCH($A280,'Talnagögn | Numerical Data'!$B:$B), _xlfn.XMATCH($B$2,'Talnagögn | Numerical Data'!$1:$1))-1} -> -0.43545292 | AC280: ='Talnagögn | Numerical Data'!$G$214 -> Other Emissions | AD280: {=INDEX('Talnagögn | Numerical Data'!$1:$1048576, _xlfn.XMATCH($B280,'Talnagögn | Numerical Data'!$C:$C), _xlfn.XMATCH($B$4,'Talnagögn | Numerical Data'!$1:$1))-INDEX('Talnagögn | Numerical Data'!$1:$1048576, _xlfn.XMATCH($A280,'Talnagögn | Numerical Data'!$C:$C), _xlfn.XMATCH($B$2,'Talnagögn | Numerical Data'!$1:$1))} -> -25.436777 | AE280: {=INDEX('Talnagögn | Numerical Data'!$1:$1048576, _xlfn.XMATCH($B280,'Talnagögn | Numerical Data'!$C:$C), _xlfn.XMATCH($B$4,'Talnagögn | Numerical Data'!$1:$1))/INDEX('Talnagögn | Numerical Data'!$1:$1048576, _xlfn.XMATCH($A280,'Talnagögn | Numerical Data'!$C:$C), _xlfn.XMATCH($B$2,'Talnagögn | Numerical Data'!$1:$1))-1} -> -0.43830115
A281: 4. LULUCFkt CO2-eq | B281: 4. LULUCFkt CO2-eq WEM | E281: Samtals | F281: {=INDEX('Talnagögn | Numerical Data'!$1:$1048576,_xlfn.XMATCH($A281,'Talnagögn | Numerical Data'!$B:$B),_xlfn.XMATCH($A$1,'Talnagögn | Numerical Data'!$1:$1))} -> 6080.341 | G281: =SUM(G276:G280) -> 1 | H281: {=INDEX('Talnagögn | Numerical Data'!$1:$1048576, _xlfn.XMATCH($A281,'Talnagögn | Numerical Data'!$B:$B), _xlfn.XMATCH($A$1,'Talnagögn | Numerical Data'!$1:$1))-INDEX('Talnagögn | Numerical Data'!$1:$1048576, _xlfn.XMATCH($A281,'Talnagögn | Numerical Data'!$B:$B), _xlfn.XMATCH($B$3,'Talnagögn | Numerical Data'!$1:$1))} -> -135.57528 | I281: {=INDEX('Talnagögn | Numerical Data'!$1:$1048576, _xlfn.XMATCH($A281,'Talnagögn | Numerical Data'!$B:$B), _xlfn.XMATCH($A$1,'Talnagögn | Numerical Data'!$1:$1))/INDEX('Talnagögn | Numerical Data'!$1:$1048576, _xlfn.XMATCH($A281,'Talnagögn | Numerical Data'!$B:$B), _xlfn.XMATCH($B$3,'Talnagögn | Numerical Data'!$1:$1))-1} -> -0.021810989 | J281: {=INDEX('Talnagögn | Numerical Data'!$1:$1048576, _xlfn.XMATCH($A281,'Talnagögn | Numerical Data'!$B:$B), _xlfn.XMATCH($A$1,'Talnagögn | Numerical Data'!$1:$1))-INDEX('Talnagögn | Numerical Data'!$1:$1048576, _xlfn.XMATCH($A281,'Talnagögn | Numerical Data'!$B:$B), _xlfn.XMATCH($B$2,'Talnagögn | Numerical Data'!$1:$1))} -> -568.72412 | K281: {=INDEX('Talnagögn | Numerical Data'!$1:$1048576, _xlfn.XMATCH($A281,'Talnagögn | Numerical Data'!$B:$B), _xlfn.XMATCH($A$1,'Talnagögn | Numerical Data'!$1:$1))/INDEX('Talnagögn | Numerical Data'!$1:$1048576, _xlfn.XMATCH($A281,'Talnagögn | Numerical Data'!$B:$B), _xlfn.XMATCH($B$2,'Talnagögn | Numerical Data'!$1:$1))-1} -> -0.085534449 | M281: Samtals | N281: {=INDEX('Talnagögn | Numerical Data'!$1:$1048576, _xlfn.XMATCH($B281,'Talnagögn | Numerical Data'!$C:$C), _xlfn.XMATCH($B$4,'Talnagögn | Numerical Data'!$1:$1))-INDEX('Talnagögn | Numerical Data'!$1:$1048576, _xlfn.XMATCH($A281,'Talnagögn | Numerical Data'!$C:$C), _xlfn.XMATCH($B$2,'Talnagögn | Numerical Data'!$1:$1))} -> -1129.7228 | O281: {=INDEX('Talnagögn | Numerical Data'!$1:$1048576, _xlfn.XMATCH($B281,'Talnagögn | Numerical Data'!$C:$C), _xlfn.XMATCH($B$4,'Talnagögn | Numerical Data'!$1:$1))/INDEX('Talnagögn | Numerical Data'!$1:$1048576, _xlfn.XMATCH($A281,'Talnagögn | Numerical Data'!$C:$C), _xlfn.XMATCH($B$2,'Talnagögn | Numerical Data'!$1:$1))-1} -> -0.16990702 | U281: Total | V281: {=INDEX('Talnagögn | Numerical Data'!$1:$1048576,_xlfn.XMATCH($A281,'Talnagögn | Numerical Data'!$B:$B),_xlfn.XMATCH($A$1,'Talnagögn | Numerical Data'!$1:$1))} -> 6080.341 | W281: =SUM(W276:W280) -> 1 | X281: {=INDEX('Talnagögn | Numerical Data'!$1:$1048576, _xlfn.XMATCH($A281,'Talnagögn | Numerical Data'!$B:$B), _xlfn.XMATCH($A$1,'Talnagögn | Numerical Data'!$1:$1))-INDEX('Talnagögn | Numerical Data'!$1:$1048576, _xlfn.XMATCH($A281,'Talnagögn | Numerical Data'!$B:$B), _xlfn.XMATCH($B$3,'Talnagögn | Numerical Data'!$1:$1))} -> -135.57528 | Y281: {=INDEX('Talnagögn | Numerical Data'!$1:$1048576, _xlfn.XMATCH($A281,'Talnagögn | Numerical Data'!$B:$B), _xlfn.XMATCH($A$1,'Talnagögn | Numerical Data'!$1:$1))/INDEX('Talnagögn | Numerical Data'!$1:$1048576, _xlfn.XMATCH($A281,'Talnagögn | Numerical Data'!$B:$B), _xlfn.XMATCH($B$3,'Talnagögn | Numerical Data'!$1:$1))-1} -> -0.021810989 | Z281: {=INDEX('Talnagögn | Numerical Data'!$1:$1048576, _xlfn.XMATCH($A281,'Talnagögn | Numerical Data'!$B:$B), _xlfn.XMATCH($A$1,'Talnagögn | Numerical Data'!$1:$1))-INDEX('Talnagögn | Numerical Data'!$1:$1048576, _xlfn.XMATCH($A281,'Talnagögn | Numerical Data'!$B:$B), _xlfn.XMATCH($B$2,'Talnagögn | Numerical Data'!$1:$1))} -> -568.72412 | AA281: {=INDEX('Talnagögn | Numerical Data'!$1:$1048576, _xlfn.XMATCH($A281,'Talnagögn | Numerical Data'!$B:$B), _xlfn.XMATCH($A$1,'Talnagögn | Numerical Data'!$1:$1))/INDEX('Talnagögn | Numerical Data'!$1:$1048576, _xlfn.XMATCH($A281,'Talnagögn | Numerical Data'!$B:$B), _xlfn.XMATCH($B$2,'Talnagögn | Numerical Data'!$1:$1))-1} -> -0.085534449 | AC281: Total | AD281: {=INDEX('Talnagögn | Numerical Data'!$1:$1048576, _xlfn.XMATCH($B281,'Talnagögn | Numerical Data'!$C:$C), _xlfn.XMATCH($B$4,'Talnagögn | Numerical Data'!$1:$1))-INDEX('Talnagögn | Numerical Data'!$1:$1048576, _xlfn.XMATCH($A281,'Talnagögn | Numerical Data'!$C:$C), _xlfn.XMATCH($B$2,'Talnagögn | Numerical Data'!$1:$1))} -> -1129.7228 | AE281: {=INDEX('Talnagögn | Numerical Data'!$1:$1048576, _xlfn.XMATCH($B281,'Talnagögn | Numerical Data'!$C:$C), _xlfn.XMATCH($B$4,'Talnagögn | Numerical Data'!$1:$1))/INDEX('Talnagögn | Numerical Data'!$1:$1048576, _xlfn.XMATCH($A281,'Talnagögn | Numerical Data'!$C:$C), _xlfn.XMATCH($B$2,'Talnagögn | Numerical Data'!$1:$1))-1} -> -0.16990702
E305: =UPPER('Talnagögn | Numerical Data'!$E$5) -> SÖGULEG LOSUN | U305: =UPPER('Talnagögn | Numerical Data'!$G$5) -> HISTORICAL EMISSIONS
E328: =$E$66 -> LOSUNARSPÁ: SVIÐSMYND BYGGÐ Á AÐGERÐUM STJÓRNVALDA | U328: =$U$66 -> EMISSION PROJECTIONS: GOVERNMENT POLICY-BASED SCENARIO
E354: LOSUN GRÓÐURHÚSALOFTTEGUNDA FRÁ STAÐBUNDUM IÐNAÐI UNDIR ETS KERFI | U354: GREENHOUSE GAS EMISSIONS FROM STATIONARY INDUSTRY UNDER THE ETS
E356: ="STAÐAN ÁRIÐ "&$A$1 -> STAÐAN ÁRIÐ 2025 | M356: =$M$5 -> FRAMTÍÐARHORFUR | N356: =$N$5 -> Áætluð breyting í losun milli 2005 og 2030 | U356: =$A$1&" EMISSIONS" -> 2025 EMISSIONS | AC356: OUTLOOKS | AD356: =$AD$5 -> Estimated change in emissions between 2005 and 2030
F357: =$F$6 -> Losun 2025 | H357: =$H$6 -> Breyting frá 2024 | J357: =$J$6 -> Breyting frá 2005 | N357: =$N$6 -> Losunarspá: Sviðsmynd byggð á aðgerðum stjórnvalda | V357: =$V$6 -> Emissions in 2025 | X357: =$X$6 -> Change from 2024 | Z357: =$Z$6 -> Change from 2005 | AD357: =$AD$6 -> Emission Projections: Government Policy-Based Scenario
F358: =$F$7 -> Þús. tonn CO₂-íg. | G358: % | H358: =$F$7 -> Þús. tonn CO₂-íg. | I358: % | J358: =$F$7 -> Þús. tonn CO₂-íg. | K358: % | N358: =$F$7 -> Þús. tonn CO₂-íg. | O358: % | V358: =$V$7 -> Thousand tons CO₂e | W358: % | X358: =$V$7 -> Thousand tons CO₂e | Y358: % | Z358: =$V$7 -> Thousand tons CO₂e | AA358: % | AD358: =$V$7 -> Thousand tons CO₂e | AE358: %
A359: ETS Energy EmissionsGHGskt CO2eq | B359: ETS Energy EmissionsGHGskt CO2eq WEM | E359: ='Talnagögn | Numerical Data'!$E$322 -> Eldsneytisbruni, staðbundinn iðnaður | F359: {=INDEX('Talnagögn | Numerical Data'!$1:$1048576, _xlfn.XMATCH($A359,'Talnagögn | Numerical Data'!$B:$B), _xlfn.XMATCH($A$1,'Talnagögn | Numerical Data'!$1:$1))} -> 5.2888554 | G359: =F359/$F$362 -> 0.0031545417 | H359: {=INDEX('Talnagögn | Numerical Data'!$1:$1048576, _xlfn.XMATCH($A359,'Talnagögn | Numerical Data'!$B:$B), _xlfn.XMATCH($A$1,'Talnagögn | Numerical Data'!$1:$1))-INDEX('Talnagögn | Numerical Data'!$1:$1048576, _xlfn.XMATCH($A359,'Talnagögn | Numerical Data'!$B:$B), _xlfn.XMATCH($B$3,'Talnagögn | Numerical Data'!$1:$1))} -> -0.94185905 | I359: {=IFERROR(INDEX('Talnagögn | Numerical Data'!$1:$1048576, _xlfn.XMATCH($A359,'Talnagögn | Numerical Data'!$B:$B), _xlfn.XMATCH($A$1,'Talnagögn | Numerical Data'!$1:$1))/INDEX('Talnagögn | Numerical Data'!$1:$1048576, _xlfn.XMATCH($A359,'Talnagögn | Numerical Data'!$B:$B), _xlfn.XMATCH($B$3,'Talnagögn | Numerical Data'!$1:$1))-1,"—")} -> -0.15116389 | J359: {=INDEX('Talnagögn | Numerical Data'!$1:$1048576, _xlfn.XMATCH($A359,'Talnagögn | Numerical Data'!$B:$B), _xlfn.XMATCH($A$1,'Talnagögn | Numerical Data'!$1:$1))-INDEX('Talnagögn | Numerical Data'!$1:$1048576, _xlfn.XMATCH($A359,'Talnagögn | Numerical Data'!$B:$B), _xlfn.XMATCH($B$2,'Talnagögn | Numerical Data'!$1:$1))} -> -25.94963 | K359: {=IFERROR(INDEX('Talnagögn | Numerical Data'!$1:$1048576, _xlfn.XMATCH($A359,'Talnagögn | Numerical Data'!$B:$B), _xlfn.XMATCH($A$1,'Talnagögn | Numerical Data'!$1:$1))/INDEX('Talnagögn | Numerical Data'!$1:$1048576, _xlfn.XMATCH($A359,'Talnagögn | Numerical Data'!$B:$B), _xlfn.XMATCH($B$2,'Talnagögn | Numerical Data'!$1:$1))-1,"—")} -> -0.83069424 | M359: ='Talnagögn | Numerical Data'!$E$322 -> Eldsneytisbruni, staðbundinn iðnaður | N359: {=INDEX('Talnagögn | Numerical Data'!$1:$1048576, _xlfn.XMATCH($B359,'Talnagögn | Numerical Data'!$C:$C), _xlfn.XMATCH($B$4,'Talnagögn | Numerical Data'!$1:$1))-INDEX('Talnagögn | Numerical Data'!$1:$1048576, _xlfn.XMATCH($A359,'Talnagögn | Numerical Data'!$B:$B), _xlfn.XMATCH($B$2,'Talnagögn | Numerical Data'!$1:$1))} -> -25.631026 | O359: {=INDEX('Talnagögn | Numerical Data'!$1:$1048576, _xlfn.XMATCH($B359,'Talnagögn | Numerical Data'!$C:$C), _xlfn.XMATCH($B$4,'Talnagögn | Numerical Data'!$1:$1))/INDEX('Talnagögn | Numerical Data'!$1:$1048576, _xlfn.XMATCH($A359,'Talnagögn | Numerical Data'!$B:$B), _xlfn.XMATCH($B$2,'Talnagögn | Numerical Data'!$1:$1))-1} -> -0.82049515 | U359: ='Talnagögn | Numerical Data'!$G$322 -> Fuel Combustion, Stationary Industry | V359: {=INDEX('Talnagögn | Numerical Data'!$1:$1048576, _xlfn.XMATCH($A359,'Talnagögn | Numerical Data'!$B:$B), _xlfn.XMATCH($A$1,'Talnagögn | Numerical Data'!$1:$1))} -> 5.2888554 | W359: =V359/$F$362 -> 0.0031545417 | X359: {=INDEX('Talnagögn | Numerical Data'!$1:$1048576, _xlfn.XMATCH($A359,'Talnagögn | Numerical Data'!$B:$B), _xlfn.XMATCH($A$1,'Talnagögn | Numerical Data'!$1:$1))-INDEX('Talnagögn | Numerical Data'!$1:$1048576, _xlfn.XMATCH($A359,'Talnagögn | Numerical Data'!$B:$B), _xlfn.XMATCH($B$3,'Talnagögn | Numerical Data'!$1:$1))} -> -0.94185905 | Y359: {=IFERROR(INDEX('Talnagögn | Numerical Data'!$1:$1048576, _xlfn.XMATCH($A359,'Talnagögn | Numerical Data'!$B:$B), _xlfn.XMATCH($A$1,'Talnagögn | Numerical Data'!$1:$1))/INDEX('Talnagögn | Numerical Data'!$1:$1048576, _xlfn.XMATCH($A359,'Talnagögn | Numerical Data'!$B:$B), _xlfn.XMATCH($B$3,'Talnagögn | Numerical Data'!$1:$1))-1,"—")} -> -0.15116389 | Z359: {=INDEX('Talnagögn | Numerical Data'!$1:$1048576, _xlfn.XMATCH($A359,'Talnagögn | Numerical Data'!$B:$B), _xlfn.XMATCH($A$1,'Talnagögn | Numerical Data'!$1:$1))-INDEX('Talnagögn | Numerical Data'!$1:$1048576, _xlfn.XMATCH($A359,'Talnagögn | Numerical Data'!$B:$B), _xlfn.XMATCH($B$2,'Talnagögn | Numerical Data'!$1:$1))} -> -25.94963 | AA359: {=IFERROR(INDEX('Talnagögn | Numerical Data'!$1:$1048576, _xlfn.XMATCH($A359,'Talnagögn | Numerical Data'!$B:$B), _xlfn.XMATCH($A$1,'Talnagögn | Numerical Data'!$1:$1))/INDEX('Talnagögn | Numerical Data'!$1:$1048576, _xlfn.XMATCH($A359,'Talnagögn | Numerical Data'!$B:$B), _xlfn.XMATCH($B$2,'Talnagögn | Numerical Data'!$1:$1))-1,"—")} -> -0.83069424 | AC359: ='Talnagögn | Numerical Data'!$G$322 -> Fuel Combustion, Stationary Industry | AD359: {=INDEX('Talnagögn | Numerical Data'!$1:$1048576, _xlfn.XMATCH($B359,'Talnagögn | Numerical Data'!$C:$C), _xlfn.XMATCH($B$4,'Talnagögn | Numerical Data'!$1:$1))-INDEX('Talnagögn | Numerical Data'!$1:$1048576, _xlfn.XMATCH($A359,'Talnagögn | Numerical Data'!$B:$B), _xlfn.XMATCH($B$2,'Talnagögn | Numerical Data'!$1:$1))} -> -25.631026 | AE359: {=INDEX('Talnagögn | Numerical Data'!$1:$1048576, _xlfn.XMATCH($B359,'Talnagögn | Numerical Data'!$C:$C), _xlfn.XMATCH($B$4,'Talnagögn | Numerical Data'!$1:$1))/INDEX('Talnagögn | Numerical Data'!$1:$1048576, _xlfn.XMATCH($A359,'Talnagögn | Numerical Data'!$B:$B), _xlfn.XMATCH($B$2,'Talnagögn | Numerical Data'!$1:$1))-1} -> -0.82049515
A360: 2C2Emissions (ETS)kt CO2eq | B360: 2C2Emissions (ETS)kt CO2eq WEM | E360: ='Talnagögn | Numerical Data'!$E$323 -> Kísil- og kísilmálmframleiðsla | F360: {=INDEX('Talnagögn | Numerical Data'!$1:$1048576, _xlfn.XMATCH($A360,'Talnagögn | Numerical Data'!$B:$B), _xlfn.XMATCH($A$1,'Talnagögn | Numerical Data'!$1:$1))} -> 380.97921 | G360: =F360/$F$362 -> 0.22723533 | H360: {=INDEX('Talnagögn | Numerical Data'!$1:$1048576, _xlfn.XMATCH($A360,'Talnagögn | Numerical Data'!$B:$B), _xlfn.XMATCH($A$1,'Talnagögn | Numerical Data'!$1:$1))-INDEX('Talnagögn | Numerical Data'!$1:$1048576, _xlfn.XMATCH($A360,'Talnagögn | Numerical Data'!$B:$B), _xlfn.XMATCH($B$3,'Talnagögn | Numerical Data'!$1:$1))} -> -141.53092 | I360: {=IFERROR(INDEX('Talnagögn | Numerical Data'!$1:$1048576, _xlfn.XMATCH($A360,'Talnagögn | Numerical Data'!$B:$B), _xlfn.XMATCH($A$1,'Talnagögn | Numerical Data'!$1:$1))/INDEX('Talnagögn | Numerical Data'!$1:$1048576, _xlfn.XMATCH($A360,'Talnagögn | Numerical Data'!$B:$B), _xlfn.XMATCH($B$3,'Talnagögn | Numerical Data'!$1:$1))-1,"—")} -> -0.27086732 | J360: {=INDEX('Talnagögn | Numerical Data'!$1:$1048576, _xlfn.XMATCH($A360,'Talnagögn | Numerical Data'!$B:$B), _xlfn.XMATCH($A$1,'Talnagögn | Numerical Data'!$1:$1))-INDEX('Talnagögn | Numerical Data'!$1:$1048576, _xlfn.XMATCH($A360,'Talnagögn | Numerical Data'!$B:$B), _xlfn.XMATCH($B$2,'Talnagögn | Numerical Data'!$1:$1))} -> 4.1432771 | K360: {=IFERROR(INDEX('Talnagögn | Numerical Data'!$1:$1048576, _xlfn.XMATCH($A360,'Talnagögn | Numerical Data'!$B:$B), _xlfn.XMATCH($A$1,'Talnagögn | Numerical Data'!$1:$1))/INDEX('Talnagögn | Numerical Data'!$1:$1048576, _xlfn.XMATCH($A360,'Talnagögn | Numerical Data'!$B:$B), _xlfn.XMATCH($B$2,'Talnagögn | Numerical Data'!$1:$1))-1,"—")} -> 0.01099491 | M360: ='Talnagögn | Numerical Data'!$E$323 -> Kísil- og kísilmálmframleiðsla | N360: {=INDEX('Talnagögn | Numerical Data'!$1:$1048576, _xlfn.XMATCH($B360,'Talnagögn | Numerical Data'!$C:$C), _xlfn.XMATCH($B$4,'Talnagögn | Numerical Data'!$1:$1))-INDEX('Talnagögn | Numerical Data'!$1:$1048576, _xlfn.XMATCH($A360,'Talnagögn | Numerical Data'!$B:$B), _xlfn.XMATCH($B$2,'Talnagögn | Numerical Data'!$1:$1))} -> 120.70454 | O360: {=INDEX('Talnagögn | Numerical Data'!$1:$1048576, _xlfn.XMATCH($B360,'Talnagögn | Numerical Data'!$C:$C), _xlfn.XMATCH($B$4,'Talnagögn | Numerical Data'!$1:$1))/INDEX('Talnagögn | Numerical Data'!$1:$1048576, _xlfn.XMATCH($A360,'Talnagögn | Numerical Data'!$B:$B), _xlfn.XMATCH($B$2,'Talnagögn | Numerical Data'!$1:$1))-1} -> 0.3203106 | U360: ='Talnagögn | Numerical Data'!$G$323 -> Ferrosilicon and Silicon Metal Production | V360: {=INDEX('Talnagögn | Numerical Data'!$1:$1048576, _xlfn.XMATCH($A360,'Talnagögn | Numerical Data'!$B:$B), _xlfn.XMATCH($A$1,'Talnagögn | Numerical Data'!$1:$1))} -> 380.97921 | W360: =V360/$F$362 -> 0.22723533 | X360: {=INDEX('Talnagögn | Numerical Data'!$1:$1048576, _xlfn.XMATCH($A360,'Talnagögn | Numerical Data'!$B:$B), _xlfn.XMATCH($A$1,'Talnagögn | Numerical Data'!$1:$1))-INDEX('Talnagögn | Numerical Data'!$1:$1048576, _xlfn.XMATCH($A360,'Talnagögn | Numerical Data'!$B:$B), _xlfn.XMATCH($B$3,'Talnagögn | Numerical Data'!$1:$1))} -> -141.53092 | Y360: {=IFERROR(INDEX('Talnagögn | Numerical Data'!$1:$1048576, _xlfn.XMATCH($A360,'Talnagögn | Numerical Data'!$B:$B), _xlfn.XMATCH($A$1,'Talnagögn | Numerical Data'!$1:$1))/INDEX('Talnagögn | Numerical Data'!$1:$1048576, _xlfn.XMATCH($A360,'Talnagögn | Numerical Data'!$B:$B), _xlfn.XMATCH($B$3,'Talnagögn | Numerical Data'!$1:$1))-1,"—")} -> -0.27086732 | Z360: {=INDEX('Talnagögn | Numerical Data'!$1:$1048576, _xlfn.XMATCH($A360,'Talnagögn | Numerical Data'!$B:$B), _xlfn.XMATCH($A$1,'Talnagögn | Numerical Data'!$1:$1))-INDEX('Talnagögn | Numerical Data'!$1:$1048576, _xlfn.XMATCH($A360,'Talnagögn | Numerical Data'!$B:$B), _xlfn.XMATCH($B$2,'Talnagögn | Numerical Data'!$1:$1))} -> 4.1432771 | AA360: {=IFERROR(INDEX('Talnagögn | Numerical Data'!$1:$1048576, _xlfn.XMATCH($A360,'Talnagögn | Numerical Data'!$B:$B), _xlfn.XMATCH($A$1,'Talnagögn | Numerical Data'!$1:$1))/INDEX('Talnagögn | Numerical Data'!$1:$1048576, _xlfn.XMATCH($A360,'Talnagögn | Numerical Data'!$B:$B), _xlfn.XMATCH($B$2,'Talnagögn | Numerical Data'!$1:$1))-1,"—")} -> 0.01099491 | AC360: ='Talnagögn | Numerical Data'!$G$323 -> Ferrosilicon and Silicon Metal Production | AD360: {=INDEX('Talnagögn | Numerical Data'!$1:$1048576, _xlfn.XMATCH($B360,'Talnagögn | Numerical Data'!$C:$C), _xlfn.XMATCH($B$4,'Talnagögn | Numerical Data'!$1:$1))-INDEX('Talnagögn | Numerical Data'!$1:$1048576, _xlfn.XMATCH($A360,'Talnagögn | Numerical Data'!$B:$B), _xlfn.XMATCH($B$2,'Talnagögn | Numerical Data'!$1:$1))} -> 120.70454 | AE360: {=INDEX('Talnagögn | Numerical Data'!$1:$1048576, _xlfn.XMATCH($B360,'Talnagögn | Numerical Data'!$C:$C), _xlfn.XMATCH($B$4,'Talnagögn | Numerical Data'!$1:$1))/INDEX('Talnagögn | Numerical Data'!$1:$1048576, _xlfn.XMATCH($A360,'Talnagögn | Numerical Data'!$B:$B), _xlfn.XMATCH($B$2,'Talnagögn | Numerical Data'!$1:$1))-1} -> 0.3203106
A361: 2C3Emissions (ETS)kt CO2eq | B361: 2C3Emissions (ETS)kt CO2eq WEM | E361: ='Talnagögn | Numerical Data'!$E$324 -> Álframleiðsla | F361: {=INDEX('Talnagögn | Numerical Data'!$1:$1048576, _xlfn.XMATCH($A361,'Talnagögn | Numerical Data'!$B:$B), _xlfn.XMATCH($A$1,'Talnagögn | Numerical Data'!$1:$1))} -> 1290.3163 | G361: =F361/$F$362 -> 0.76961013 | H361: {=INDEX('Talnagögn | Numerical Data'!$1:$1048576, _xlfn.XMATCH($A361,'Talnagögn | Numerical Data'!$B:$B), _xlfn.XMATCH($A$1,'Talnagögn | Numerical Data'!$1:$1))-INDEX('Talnagögn | Numerical Data'!$1:$1048576, _xlfn.XMATCH($A361,'Talnagögn | Numerical Data'!$B:$B), _xlfn.XMATCH($B$3,'Talnagögn | Numerical Data'!$1:$1))} -> -70.095351 | I361: {=IFERROR(INDEX('Talnagögn | Numerical Data'!$1:$1048576, _xlfn.XMATCH($A361,'Talnagögn | Numerical Data'!$B:$B), _xlfn.XMATCH($A$1,'Talnagögn | Numerical Data'!$1:$1))/INDEX('Talnagögn | Numerical Data'!$1:$1048576, _xlfn.XMATCH($A361,'Talnagögn | Numerical Data'!$B:$B), _xlfn.XMATCH($B$3,'Talnagögn | Numerical Data'!$1:$1))-1,"—")} -> -0.051525103 | J361: {=INDEX('Talnagögn | Numerical Data'!$1:$1048576, _xlfn.XMATCH($A361,'Talnagögn | Numerical Data'!$B:$B), _xlfn.XMATCH($A$1,'Talnagögn | Numerical Data'!$1:$1))-INDEX('Talnagögn | Numerical Data'!$1:$1048576, _xlfn.XMATCH($A361,'Talnagögn | Numerical Data'!$B:$B), _xlfn.XMATCH($B$2,'Talnagögn | Numerical Data'!$1:$1))} -> 845.50779 | K361: {=IFERROR(INDEX('Talnagögn | Numerical Data'!$1:$1048576, _xlfn.XMATCH($A361,'Talnagögn | Numerical Data'!$B:$B), _xlfn.XMATCH($A$1,'Talnagögn | Numerical Data'!$1:$1))/INDEX('Talnagögn | Numerical Data'!$1:$1048576, _xlfn.XMATCH($A361,'Talnagögn | Numerical Data'!$B:$B), _xlfn.XMATCH($B$2,'Talnagögn | Numerical Data'!$1:$1))-1,"—")} -> 1.9008354 | M361: ='Talnagögn | Numerical Data'!$E$324 -> Álframleiðsla | N361: {=INDEX('Talnagögn | Numerical Data'!$1:$1048576, _xlfn.XMATCH($B361,'Talnagögn | Numerical Data'!$C:$C), _xlfn.XMATCH($B$4,'Talnagögn | Numerical Data'!$1:$1))-INDEX('Talnagögn | Numerical Data'!$1:$1048576, _xlfn.XMATCH($A361,'Talnagögn | Numerical Data'!$B:$B), _xlfn.XMATCH($B$2,'Talnagögn | Numerical Data'!$1:$1))} -> 965.75918 | O361: {=INDEX('Talnagögn | Numerical Data'!$1:$1048576, _xlfn.XMATCH($B361,'Talnagögn | Numerical Data'!$C:$C), _xlfn.XMATCH($B$4,'Talnagögn | Numerical Data'!$1:$1))/INDEX('Talnagögn | Numerical Data'!$1:$1048576, _xlfn.XMATCH($A361,'Talnagögn | Numerical Data'!$B:$B), _xlfn.XMATCH($B$2,'Talnagögn | Numerical Data'!$1:$1))-1} -> 2.1711796 | U361: ='Talnagögn | Numerical Data'!$G$324 -> Aluminium Production | V361: {=INDEX('Talnagögn | Numerical Data'!$1:$1048576, _xlfn.XMATCH($A361,'Talnagögn | Numerical Data'!$B:$B), _xlfn.XMATCH($A$1,'Talnagögn | Numerical Data'!$1:$1))} -> 1290.3163 | W361: =V361/$F$362 -> 0.76961013 | X361: {=INDEX('Talnagögn | Numerical Data'!$1:$1048576, _xlfn.XMATCH($A361,'Talnagögn | Numerical Data'!$B:$B), _xlfn.XMATCH($A$1,'Talnagögn | Numerical Data'!$1:$1))-INDEX('Talnagögn | Numerical Data'!$1:$1048576, _xlfn.XMATCH($A361,'Talnagögn | Numerical Data'!$B:$B), _xlfn.XMATCH($B$3,'Talnagögn | Numerical Data'!$1:$1))} -> -70.095351 | Y361: {=IFERROR(INDEX('Talnagögn | Numerical Data'!$1:$1048576, _xlfn.XMATCH($A361,'Talnagögn | Numerical Data'!$B:$B), _xlfn.XMATCH($A$1,'Talnagögn | Numerical Data'!$1:$1))/INDEX('Talnagögn | Numerical Data'!$1:$1048576, _xlfn.XMATCH($A361,'Talnagögn | Numerical Data'!$B:$B), _xlfn.XMATCH($B$3,'Talnagögn | Numerical Data'!$1:$1))-1,"—")} -> -0.051525103 | Z361: {=INDEX('Talnagögn | Numerical Data'!$1:$1048576, _xlfn.XMATCH($A361,'Talnagögn | Numerical Data'!$B:$B), _xlfn.XMATCH($A$1,'Talnagögn | Numerical Data'!$1:$1))-INDEX('Talnagögn | Numerical Data'!$1:$1048576, _xlfn.XMATCH($A361,'Talnagögn | Numerical Data'!$B:$B), _xlfn.XMATCH($B$2,'Talnagögn | Numerical Data'!$1:$1))} -> 845.50779 | AA361: {=IFERROR(INDEX('Talnagögn | Numerical Data'!$1:$1048576, _xlfn.XMATCH($A361,'Talnagögn | Numerical Data'!$B:$B), _xlfn.XMATCH($A$1,'Talnagögn | Numerical Data'!$1:$1))/INDEX('Talnagögn | Numerical Data'!$1:$1048576, _xlfn.XMATCH($A361,'Talnagögn | Numerical Data'!$B:$B), _xlfn.XMATCH($B$2,'Talnagögn | Numerical Data'!$1:$1))-1,"—")} -> 1.9008354 | AC361: ='Talnagögn | Numerical Data'!$G$324 -> Aluminium Production | AD361: {=INDEX('Talnagögn | Numerical Data'!$1:$1048576, _xlfn.XMATCH($B361,'Talnagögn | Numerical Data'!$C:$C), _xlfn.XMATCH($B$4,'Talnagögn | Numerical Data'!$1:$1))-INDEX('Talnagögn | Numerical Data'!$1:$1048576, _xlfn.XMATCH($A361,'Talnagögn | Numerical Data'!$B:$B), _xlfn.XMATCH($B$2,'Talnagögn | Numerical Data'!$1:$1))} -> 965.75918 | AE361: {=INDEX('Talnagögn | Numerical Data'!$1:$1048576, _xlfn.XMATCH($B361,'Talnagögn | Numerical Data'!$C:$C), _xlfn.XMATCH($B$4,'Talnagögn | Numerical Data'!$1:$1))/INDEX('Talnagögn | Numerical Data'!$1:$1048576, _xlfn.XMATCH($A361,'Talnagögn | Numerical Data'!$B:$B), _xlfn.XMATCH($B$2,'Talnagögn | Numerical Data'!$1:$1))-1} -> 2.1711796
A362: ETS TotalGHGskt CO2eq | B362: ETS TotalGHGskt CO2eq WEM | E362: Samtals | F362: {=INDEX('Talnagögn | Numerical Data'!$1:$1048576, _xlfn.XMATCH($A362,'Talnagögn | Numerical Data'!$B:$B), _xlfn.XMATCH($A$1,'Talnagögn | Numerical Data'!$1:$1))} -> 1676.5844 | G362: =F362/$F$362 -> 1 | H362: {=INDEX('Talnagögn | Numerical Data'!$1:$1048576, _xlfn.XMATCH($A362,'Talnagögn | Numerical Data'!$B:$B), _xlfn.XMATCH($A$1,'Talnagögn | Numerical Data'!$1:$1))-INDEX('Talnagögn | Numerical Data'!$1:$1048576, _xlfn.XMATCH($A362,'Talnagögn | Numerical Data'!$B:$B), _xlfn.XMATCH($B$3,'Talnagögn | Numerical Data'!$1:$1))} -> -212.56963 | I362: {=IFERROR(INDEX('Talnagögn | Numerical Data'!$1:$1048576, _xlfn.XMATCH($A362,'Talnagögn | Numerical Data'!$B:$B), _xlfn.XMATCH($A$1,'Talnagögn | Numerical Data'!$1:$1))/INDEX('Talnagögn | Numerical Data'!$1:$1048576, _xlfn.XMATCH($A362,'Talnagögn | Numerical Data'!$B:$B), _xlfn.XMATCH($B$3,'Talnagögn | Numerical Data'!$1:$1))-1,"—")} -> -0.11252107 | J362: {=INDEX('Talnagögn | Numerical Data'!$1:$1048576, _xlfn.XMATCH($A362,'Talnagögn | Numerical Data'!$B:$B), _xlfn.XMATCH($A$1,'Talnagögn | Numerical Data'!$1:$1))-INDEX('Talnagögn | Numerical Data'!$1:$1048576, _xlfn.XMATCH($A362,'Talnagögn | Numerical Data'!$B:$B), _xlfn.XMATCH($B$2,'Talnagögn | Numerical Data'!$1:$1))} -> 823.70144 | K362: {=IFERROR(INDEX('Talnagögn | Numerical Data'!$1:$1048576, _xlfn.XMATCH($A362,'Talnagögn | Numerical Data'!$B:$B), _xlfn.XMATCH($A$1,'Talnagögn | Numerical Data'!$1:$1))/INDEX('Talnagögn | Numerical Data'!$1:$1048576, _xlfn.XMATCH($A362,'Talnagögn | Numerical Data'!$B:$B), _xlfn.XMATCH($B$2,'Talnagögn | Numerical Data'!$1:$1))-1,"—")} -> 0.96578488 | M362: Samtals | N362: {=INDEX('Talnagögn | Numerical Data'!$1:$1048576, _xlfn.XMATCH($B362,'Talnagögn | Numerical Data'!$C:$C), _xlfn.XMATCH($B$4,'Talnagögn | Numerical Data'!$1:$1))-INDEX('Talnagögn | Numerical Data'!$1:$1048576, _xlfn.XMATCH($A362,'Talnagögn | Numerical Data'!$B:$B), _xlfn.XMATCH($B$2,'Talnagögn | Numerical Data'!$1:$1))} -> 1060.8327 | O362: {=INDEX('Talnagögn | Numerical Data'!$1:$1048576, _xlfn.XMATCH($B362,'Talnagögn | Numerical Data'!$C:$C), _xlfn.XMATCH($B$4,'Talnagögn | Numerical Data'!$1:$1))/INDEX('Talnagögn | Numerical Data'!$1:$1048576, _xlfn.XMATCH($A362,'Talnagögn | Numerical Data'!$B:$B), _xlfn.XMATCH($B$2,'Talnagögn | Numerical Data'!$1:$1))-1} -> 1.2438198 | U362: Total | V362: {=INDEX('Talnagögn | Numerical Data'!$1:$1048576, _xlfn.XMATCH($A362,'Talnagögn | Numerical Data'!$B:$B), _xlfn.XMATCH($A$1,'Talnagögn | Numerical Data'!$1:$1))} -> 1676.5844 | W362: =V362/$F$362 -> 1 | X362: {=INDEX('Talnagögn | Numerical Data'!$1:$1048576, _xlfn.XMATCH($A362,'Talnagögn | Numerical Data'!$B:$B), _xlfn.XMATCH($A$1,'Talnagögn | Numerical Data'!$1:$1))-INDEX('Talnagögn | Numerical Data'!$1:$1048576, _xlfn.XMATCH($A362,'Talnagögn | Numerical Data'!$B:$B), _xlfn.XMATCH($B$3,'Talnagögn | Numerical Data'!$1:$1))} -> -212.56963 | Y362: {=IFERROR(INDEX('Talnagögn | Numerical Data'!$1:$1048576, _xlfn.XMATCH($A362,'Talnagögn | Numerical Data'!$B:$B), _xlfn.XMATCH($A$1,'Talnagögn | Numerical Data'!$1:$1))/INDEX('Talnagögn | Numerical Data'!$1:$1048576, _xlfn.XMATCH($A362,'Talnagögn | Numerical Data'!$B:$B), _xlfn.XMATCH($B$3,'Talnagögn | Numerical Data'!$1:$1))-1,"—")} -> -0.11252107 | Z362: {=INDEX('Talnagögn | Numerical Data'!$1:$1048576, _xlfn.XMATCH($A362,'Talnagögn | Numerical Data'!$B:$B), _xlfn.XMATCH($A$1,'Talnagögn | Numerical Data'!$1:$1))-INDEX('Talnagögn | Numerical Data'!$1:$1048576, _xlfn.XMATCH($A362,'Talnagögn | Numerical Data'!$B:$B), _xlfn.XMATCH($B$2,'Talnagögn | Numerical Data'!$1:$1))} -> 823.70144 | AA362: {=IFERROR(INDEX('Talnagögn | Numerical Data'!$1:$1048576, _xlfn.XMATCH($A362,'Talnagögn | Numerical Data'!$B:$B), _xlfn.XMATCH($A$1,'Talnagögn | Numerical Data'!$1:$1))/INDEX('Talnagögn | Numerical Data'!$1:$1048576, _xlfn.XMATCH($A362,'Talnagögn | Numerical Data'!$B:$B), _xlfn.XMATCH($B$2,'Talnagögn | Numerical Data'!$1:$1))-1,"—")} -> 0.96578488 | AC362: Total | AD362: {=INDEX('Talnagögn | Numerical Data'!$1:$1048576, _xlfn.XMATCH($B362,'Talnagögn | Numerical Data'!$C:$C), _xlfn.XMATCH($B$4,'Talnagögn | Numerical Data'!$1:$1))-INDEX('Talnagögn | Numerical Data'!$1:$1048576, _xlfn.XMATCH($A362,'Talnagögn | Numerical Data'!$B:$B), _xlfn.XMATCH($B$2,'Talnagögn | Numerical Data'!$1:$1))} -> 1060.8327 | AE362: {=INDEX('Talnagögn | Numerical Data'!$1:$1048576, _xlfn.XMATCH($B362,'Talnagögn | Numerical Data'!$C:$C), _xlfn.XMATCH($B$4,'Talnagögn | Numerical Data'!$1:$1))/INDEX('Talnagögn | Numerical Data'!$1:$1048576, _xlfn.XMATCH($A362,'Talnagögn | Numerical Data'!$B:$B), _xlfn.XMATCH($B$2,'Talnagögn | Numerical Data'!$1:$1))-1} -> 1.2438198
A363: ="Losun frá ETS staðbundnum iðnaði "&$A$1 -> Losun frá ETS staðbundnum iðnaði 2025 | B363: ="Emissions from ETS Stationary Industry "&$A$1 -> Emissions from ETS Stationary Industry 2025
E386: =UPPER('Talnagögn | Numerical Data'!$E$5) -> SÖGULEG LOSUN | U386: =UPPER('Talnagögn | Numerical Data'!$G$5) -> HISTORICAL EMISSIONS
E410: =$E$66 -> LOSUNARSPÁ: SVIÐSMYND BYGGÐ Á AÐGERÐUM STJÓRNVALDA | U410: =$U$66 -> EMISSION PROJECTIONS: GOVERNMENT POLICY-BASED SCENARIO

Sheet Losun | Emissions
A1: 2025 | B1: 1990 | E1: LOSUN GRÓÐURHÚSALOFTTEGUNDA Á ÍSLANDI | Y1: GREENHOUSE GAS EMISSIONS IN ICELAND
B2: 2005 | E2: SKIPT EFTIR IPCC YFIRFLOKKUM | Y2: BY IPCC SECTORS
B3: =$A$1-1 -> 2024
B4: 2030 | E4: LOSUN ÍSLANDS MEÐ LOSUN FRÁ LANDNOTKUN | O4: LOSUN ÍSLANDS MEÐ LOSUN FRÁ LANDNOTKUN | Y4: ICELAND'S EMISSIONS INCLUDING LULUCF | AI4: ICELAND'S EMISSIONS INCLUDING LULUCF
B5: 2055 | E5: ="STAÐAN ÁRIÐ "&$A$1 -> STAÐAN ÁRIÐ 2025 | O5: FRAMTÍÐARHORFUR | P5: Áætluð breyting í losun út frá sviðsmynd byggð á aðgerðum stjórvalda | Y5: =$A$1&" EMISSIONS" -> 2025 EMISSIONS | AI5: OUTLOOKS | AJ5: Estimated change in emissions based on government policy-based scenario
F6: ="Losun "&$A$1 -> Losun 2025 | H6: ="Breyting frá "&$B$3 -> Breyting frá 2024 | J6: ="Breyting frá "&$B$2 -> Breyting frá 2005 | L6: ="Breyting frá "&$B$1 -> Breyting frá 1990 | P6: Milli 2005 og 2030 | R6: Milli 1990 og 2055 | Z6: Emissions in 2025 | AB6: Change from 2024 | AD6: Change from 2005 | AF6: Change from 1990 | AJ6: 2030 compared to 2005 | AL6: 2055 compared to 1990
F7: Þús. tonn CO₂-íg. | G7: % | H7: =$F$7 -> Þús. tonn CO₂-íg. | I7: % | J7: =$F$7 -> Þús. tonn CO₂-íg. | K7: % | L7: =$F$7 -> Þús. tonn CO₂-íg. | M7: % | P7: =$F$7 -> Þús. tonn CO₂-íg. | Q7: % | R7: =$F$7 -> Þús. tonn CO₂-íg. | S7: % | Z7: Thousand tons CO₂e | AA7: % | AB7: =$Z$7 -> Thousand tons CO₂e | AC7: % | AD7: =$Z$7 -> Thousand tons CO₂e | AE7: % | AF7: =$Z$7 -> Thousand tons CO₂e | AG7: % | AJ7: =$Z$7 -> Thousand tons CO₂e | AK7: % | AL7: =$Z$7 -> Thousand tons CO₂e | AM7: %
A8: 1. Energykt CO2-eq | B8: 1. Energykt CO2-eq WEM | C8: 1. Energykt CO2-eq WAM | E8: ='Talnagögn | Numerical Data'!$E$6 -> Orka | F8: {=INDEX('Talnagögn | Numerical Data'!$1:$1048576,_xlfn.XMATCH($A8,'Talnagögn | Numerical Data'!$B:$B),_xlfn.XMATCH($A$1,'Talnagögn | Numerical Data'!$1:$1))} -> 1804.0629 | G8: =$F8/$F$13 -> 0.17068161 | H8: {=INDEX('Talnagögn | Numerical Data'!$1:$1048576,_xlfn.XMATCH($A8,'Talnagögn | Numerical Data'!$B:$B),_xlfn.XMATCH($A$1,'Talnagögn | Numerical Data'!$1:$1))-INDEX('Talnagögn | Numerical Data'!$1:$1048576,_xlfn.XMATCH($A8,'Talnagögn | Numerical Data'!$B:$B),_xlfn.XMATCH($B$3,'Talnagögn | Numerical Data'!$1:$1))} -> -62.41735 | I8: {=INDEX('Talnagögn | Numerical Data'!$1:$1048576,_xlfn.XMATCH($A8,'Talnagögn | Numerical Data'!$B:$B),_xlfn.XMATCH($A$1,'Talnagögn | Numerical Data'!$1:$1))/INDEX('Talnagögn | Numerical Data'!$1:$1048576,_xlfn.XMATCH($A8,'Talnagögn | Numerical Data'!$B:$B),_xlfn.XMATCH($B$3,'Talnagögn | Numerical Data'!$1:$1))-1} -> -0.033441205 | J8: {=INDEX('Talnagögn | Numerical Data'!$1:$1048576,_xlfn.XMATCH($A8,'Talnagögn | Numerical Data'!$B:$B),_xlfn.XMATCH($A$1,'Talnagögn | Numerical Data'!$1:$1))-INDEX('Talnagögn | Numerical Data'!$1:$1048576,_xlfn.XMATCH($A8,'Talnagögn | Numerical Data'!$B:$B),_xlfn.XMATCH($B$2,'Talnagögn | Numerical Data'!$1:$1))} -> -352.27133 | K8: {=INDEX('Talnagögn | Numerical Data'!$1:$1048576,_xlfn.XMATCH($A8,'Talnagögn | Numerical Data'!$B:$B),_xlfn.XMATCH($A$1,'Talnagögn | Numerical Data'!$1:$1))/INDEX('Talnagögn | Numerical Data'!$1:$1048576,_xlfn.XMATCH($A8,'Talnagögn | Numerical Data'!$B:$B),_xlfn.XMATCH($B$2,'Talnagögn | Numerical Data'!$1:$1))-1} -> -0.16336583 | L8: {=INDEX('Talnagögn | Numerical Data'!$1:$1048576,_xlfn.XMATCH($A8,'Talnagögn | Numerical Data'!$B:$B),_xlfn.XMATCH($A$1,'Talnagögn | Numerical Data'!$1:$1))-INDEX('Talnagögn | Numerical Data'!$1:$1048576,_xlfn.XMATCH($A8,'Talnagögn | Numerical Data'!$B:$B),_xlfn.XMATCH($B$1,'Talnagögn | Numerical Data'!$1:$1))} -> -36.50389 | M8: {=INDEX('Talnagögn | Numerical Data'!$1:$1048576,_xlfn.XMATCH($A8,'Talnagögn | Numerical Data'!$B:$B),_xlfn.XMATCH($A$1,'Talnagögn | Numerical Data'!$1:$1))/INDEX('Talnagögn | Numerical Data'!$1:$1048576,_xlfn.XMATCH($A8,'Talnagögn | Numerical Data'!$B:$B),_xlfn.XMATCH($B$1,'Talnagögn | Numerical Data'!$1:$1))-1} -> -0.019832961 | O8: ='Talnagögn | Numerical Data'!$E$6 -> Orka | P8: {=INDEX('Talnagögn | Numerical Data'!$1:$1048576,_xlfn.XMATCH($B8,'Talnagögn | Numerical Data'!$C:$C),_xlfn.XMATCH($B$4,'Talnagögn | Numerical Data'!$1:$1))-INDEX('Talnagögn | Numerical Data'!$1:$1048576,_xlfn.XMATCH($A8,'Talnagögn | Numerical Data'!$B:$B),_xlfn.XMATCH($B$2,'Talnagögn | Numerical Data'!$1:$1))} -> -540.39631 | Q8: {=INDEX('Talnagögn | Numerical Data'!$1:$1048576,_xlfn.XMATCH($B8,'Talnagögn | Numerical Data'!$C:$C),_xlfn.XMATCH($B$4,'Talnagögn | Numerical Data'!$1:$1))/INDEX('Talnagögn | Numerical Data'!$1:$1048576,_xlfn.XMATCH($A8,'Talnagögn | Numerical Data'!$B:$B),_xlfn.XMATCH($B$2,'Talnagögn | Numerical Data'!$1:$1))-1} -> -0.25060879 | R8: {=INDEX('Talnagögn | Numerical Data'!$1:$1048576,_xlfn.XMATCH($B8,'Talnagögn | Numerical Data'!$C:$C),_xlfn.XMATCH($B$5,'Talnagögn | Numerical Data'!$1:$1))-INDEX('Talnagögn | Numerical Data'!$1:$1048576,_xlfn.XMATCH($A8,'Talnagögn | Numerical Data'!$B:$B),_xlfn.XMATCH($B$1,'Talnagögn | Numerical Data'!$1:$1))} -> -1395.6457 | S8: {=INDEX('Talnagögn | Numerical Data'!$1:$1048576,_xlfn.XMATCH($B8,'Talnagögn | Numerical Data'!$C:$C),_xlfn.XMATCH($B$5,'Talnagögn | Numerical Data'!$1:$1))/INDEX('Talnagögn | Numerical Data'!$1:$1048576,_xlfn.XMATCH($A8,'Talnagögn | Numerical Data'!$B:$B),_xlfn.XMATCH($B$1,'Talnagögn | Numerical Data'!$1:$1))-1} -> -0.75826948 | Y8: ='Talnagögn | Numerical Data'!$G$6 -> Energy | Z8: {=INDEX('Talnagögn | Numerical Data'!$1:$1048576,_xlfn.XMATCH($A8,'Talnagögn | Numerical Data'!$B:$B),_xlfn.XMATCH($A$1,'Talnagögn | Numerical Data'!$1:$1))} -> 1804.0629 | AA8: =$F8/$F$13 -> 0.17068161 | AB8: {=INDEX('Talnagögn | Numerical Data'!$1:$1048576,_xlfn.XMATCH($A8,'Talnagögn | Numerical Data'!$B:$B),_xlfn.XMATCH($A$1,'Talnagögn | Numerical Data'!$1:$1))-INDEX('Talnagögn | Numerical Data'!$1:$1048576,_xlfn.XMATCH($A8,'Talnagögn | Numerical Data'!$B:$B),_xlfn.XMATCH($B$3,'Talnagögn | Numerical Data'!$1:$1))} -> -62.41735 | AC8: {=INDEX('Talnagögn | Numerical Data'!$1:$1048576,_xlfn.XMATCH($A8,'Talnagögn | Numerical Data'!$B:$B),_xlfn.XMATCH($A$1,'Talnagögn | Numerical Data'!$1:$1))/INDEX('Talnagögn | Numerical Data'!$1:$1048576,_xlfn.XMATCH($A8,'Talnagögn | Numerical Data'!$B:$B),_xlfn.XMATCH($B$3,'Talnagögn | Numerical Data'!$1:$1))-1} -> -0.033441205 | AD8: {=INDEX('Talnagögn | Numerical Data'!$1:$1048576,_xlfn.XMATCH($A8,'Talnagögn | Numerical Data'!$B:$B),_xlfn.XMATCH($A$1,'Talnagögn | Numerical Data'!$1:$1))-INDEX('Talnagögn | Numerical Data'!$1:$1048576,_xlfn.XMATCH($A8,'Talnagögn | Numerical Data'!$B:$B),_xlfn.XMATCH($B$2,'Talnagögn | Numerical Data'!$1:$1))} -> -352.27133 | AE8: {=INDEX('Talnagögn | Numerical Data'!$1:$1048576,_xlfn.XMATCH($A8,'Talnagögn | Numerical Data'!$B:$B),_xlfn.XMATCH($A$1,'Talnagögn | Numerical Data'!$1:$1))/INDEX('Talnagögn | Numerical Data'!$1:$1048576,_xlfn.XMATCH($A8,'Talnagögn | Numerical Data'!$B:$B),_xlfn.XMATCH($B$2,'Talnagögn | Numerical Data'!$1:$1))-1} -> -0.16336583 | AF8: {=INDEX('Talnagögn | Numerical Data'!$1:$1048576,_xlfn.XMATCH($A8,'Talnagögn | Numerical Data'!$B:$B),_xlfn.XMATCH($A$1,'Talnagögn | Numerical Data'!$1:$1))-INDEX('Talnagögn | Numerical Data'!$1:$1048576,_xlfn.XMATCH($A8,'Talnagögn | Numerical Data'!$B:$B),_xlfn.XMATCH($B$1,'Talnagögn | Numerical Data'!$1:$1))} -> -36.50389 | AG8: {=INDEX('Talnagögn | Numerical Data'!$1:$1048576,_xlfn.XMATCH($A8,'Talnagögn | Numerical Data'!$B:$B),_xlfn.XMATCH($A$1,'Talnagögn | Numerical Data'!$1:$1))/INDEX('Talnagögn | Numerical Data'!$1:$1048576,_xlfn.XMATCH($A8,'Talnagögn | Numerical Data'!$B:$B),_xlfn.XMATCH($B$1,'Talnagögn | Numerical Data'!$1:$1))-1} -> -0.019832961 | AI8: ='Talnagögn | Numerical Data'!$G$6 -> Energy | AJ8: {=INDEX('Talnagögn | Numerical Data'!$1:$1048576,_xlfn.XMATCH($B8,'Talnagögn | Numerical Data'!$C:$C),_xlfn.XMATCH($B$4,'Talnagögn | Numerical Data'!$1:$1))-INDEX('Talnagögn | Numerical Data'!$1:$1048576,_xlfn.XMATCH($A8,'Talnagögn | Numerical Data'!$B:$B),_xlfn.XMATCH($B$2,'Talnagögn | Numerical Data'!$1:$1))} -> -540.39631 | AK8: {=INDEX('Talnagögn | Numerical Data'!$1:$1048576,_xlfn.XMATCH($B8,'Talnagögn | Numerical Data'!$C:$C),_xlfn.XMATCH($B$4,'Talnagögn | Numerical Data'!$1:$1))/INDEX('Talnagögn | Numerical Data'!$1:$1048576,_xlfn.XMATCH($A8,'Talnagögn | Numerical Data'!$B:$B),_xlfn.XMATCH($B$2,'Talnagögn | Numerical Data'!$1:$1))-1} -> -0.25060879 | AL8: {=INDEX('Talnagögn | Numerical Data'!$1:$1048576,_xlfn.XMATCH($B8,'Talnagögn | Numerical Data'!$C:$C),_xlfn.XMATCH($B$5,'Talnagögn | Numerical Data'!$1:$1))-INDEX('Talnagögn | Numerical Data'!$1:$1048576,_xlfn.XMATCH($A8,'Talnagögn | Numerical Data'!$B:$B),_xlfn.XMATCH($B$1,'Talnagögn | Numerical Data'!$1:$1))} -> -1395.6457 | AM8: {=INDEX('Talnagögn | Numerical Data'!$1:$1048576,_xlfn.XMATCH($B8,'Talnagögn | Numerical Data'!$C:$C),_xlfn.XMATCH($B$5,'Talnagögn | Numerical Data'!$1:$1))/INDEX('Talnagögn | Numerical Data'!$1:$1048576,_xlfn.XMATCH($A8,'Talnagögn | Numerical Data'!$B:$B),_xlfn.XMATCH($B$1,'Talnagögn | Numerical Data'!$1:$1))-1} -> -0.75826948
A9: 2. Industrial processes and product usekt CO2-eq | B9: 2. Industrial processes and product usekt CO2-eq WEM | C9: 2. Industrial processes and product usekt CO2-eq WAM | E9: ='Talnagögn | Numerical Data'!$E$7 -> Iðnaður og vörunotkun | F9: {=INDEX('Talnagögn | Numerical Data'!$1:$1048576,_xlfn.XMATCH($A9,'Talnagögn | Numerical Data'!$B:$B),_xlfn.XMATCH($A$1,'Talnagögn | Numerical Data'!$1:$1))} -> 1794.4196 | G9: =$F9/$F$13 -> 0.16976926 | H9: {=INDEX('Talnagögn | Numerical Data'!$1:$1048576,_xlfn.XMATCH($A9,'Talnagögn | Numerical Data'!$B:$B),_xlfn.XMATCH($A$1,'Talnagögn | Numerical Data'!$1:$1))-INDEX('Talnagögn | Numerical Data'!$1:$1048576,_xlfn.XMATCH($A9,'Talnagögn | Numerical Data'!$B:$B),_xlfn.XMATCH($B$3,'Talnagögn | Numerical Data'!$1:$1))} -> -213.05032 | I9: {=INDEX('Talnagögn | Numerical Data'!$1:$1048576,_xlfn.XMATCH($A9,'Talnagögn | Numerical Data'!$B:$B),_xlfn.XMATCH($A$1,'Talnagögn | Numerical Data'!$1:$1))/INDEX('Talnagögn | Numerical Data'!$1:$1048576,_xlfn.XMATCH($A9,'Talnagögn | Numerical Data'!$B:$B),_xlfn.XMATCH($B$3,'Talnagögn | Numerical Data'!$1:$1))-1} -> -0.10612877 | J9: {=INDEX('Talnagögn | Numerical Data'!$1:$1048576,_xlfn.XMATCH($A9,'Talnagögn | Numerical Data'!$B:$B),_xlfn.XMATCH($A$1,'Talnagögn | Numerical Data'!$1:$1))-INDEX('Talnagögn | Numerical Data'!$1:$1048576,_xlfn.XMATCH($A9,'Talnagögn | Numerical Data'!$B:$B),_xlfn.XMATCH($B$2,'Talnagögn | Numerical Data'!$1:$1))} -> 843.51732 | K9: {=INDEX('Talnagögn | Numerical Data'!$1:$1048576,_xlfn.XMATCH($A9,'Talnagögn | Numerical Data'!$B:$B),_xlfn.XMATCH($A$1,'Talnagögn | Numerical Data'!$1:$1))/INDEX('Talnagögn | Numerical Data'!$1:$1048576,_xlfn.XMATCH($A9,'Talnagögn | Numerical Data'!$B:$B),_xlfn.XMATCH($B$2,'Talnagögn | Numerical Data'!$1:$1))-1} -> 0.88707041 | L9: {=INDEX('Talnagögn | Numerical Data'!$1:$1048576,_xlfn.XMATCH($A9,'Talnagögn | Numerical Data'!$B:$B),_xlfn.XMATCH($A$1,'Talnagögn | Numerical Data'!$1:$1))-INDEX('Talnagögn | Numerical Data'!$1:$1048576,_xlfn.XMATCH($A9,'Talnagögn | Numerical Data'!$B:$B),_xlfn.XMATCH($B$1,'Talnagögn | Numerical Data'!$1:$1))} -> 892.24506 | M9: {=INDEX('Talnagögn | Numerical Data'!$1:$1048576,_xlfn.XMATCH($A9,'Talnagögn | Numerical Data'!$B:$B),_xlfn.XMATCH($A$1,'Talnagögn | Numerical Data'!$1:$1))/INDEX('Talnagögn | Numerical Data'!$1:$1048576,_xlfn.XMATCH($A9,'Talnagögn | Numerical Data'!$B:$B),_xlfn.XMATCH($B$1,'Talnagögn | Numerical Data'!$1:$1))-1} -> 0.98899378 | O9: ='Talnagögn | Numerical Data'!$E$7 -> Iðnaður og vörunotkun | P9: {=INDEX('Talnagögn | Numerical Data'!$1:$1048576,_xlfn.XMATCH($B9,'Talnagögn | Numerical Data'!$C:$C),_xlfn.XMATCH($B$4,'Talnagögn | Numerical Data'!$1:$1))-INDEX('Talnagögn | Numerical Data'!$1:$1048576,_xlfn.XMATCH($A9,'Talnagögn | Numerical Data'!$B:$B),_xlfn.XMATCH($B$2,'Talnagögn | Numerical Data'!$1:$1))} -> 1018.8195 | Q9: {=INDEX('Talnagögn | Numerical Data'!$1:$1048576,_xlfn.XMATCH($B9,'Talnagögn | Numerical Data'!$C:$C),_xlfn.XMATCH($B$4,'Talnagögn | Numerical Data'!$1:$1))/INDEX('Talnagögn | Numerical Data'!$1:$1048576,_xlfn.XMATCH($A9,'Talnagögn | Numerical Data'!$B:$B),_xlfn.XMATCH($B$2,'Talnagögn | Numerical Data'!$1:$1))-1} -> 1.0714239 | R9: {=INDEX('Talnagögn | Numerical Data'!$1:$1048576,_xlfn.XMATCH($B9,'Talnagögn | Numerical Data'!$C:$C),_xlfn.XMATCH($B$5,'Talnagögn | Numerical Data'!$1:$1))-INDEX('Talnagögn | Numerical Data'!$1:$1048576,_xlfn.XMATCH($A9,'Talnagögn | Numerical Data'!$B:$B),_xlfn.XMATCH($B$1,'Talnagögn | Numerical Data'!$1:$1))} -> 1050.2148 | S9: {=INDEX('Talnagögn | Numerical Data'!$1:$1048576,_xlfn.XMATCH($B9,'Talnagögn | Numerical Data'!$C:$C),_xlfn.XMATCH($B$5,'Talnagögn | Numerical Data'!$1:$1))/INDEX('Talnagögn | Numerical Data'!$1:$1048576,_xlfn.XMATCH($A9,'Talnagögn | Numerical Data'!$B:$B),_xlfn.XMATCH($B$1,'Talnagögn | Numerical Data'!$1:$1))-1} -> 1.1640926 | Y9: ='Talnagögn | Numerical Data'!$G$7 -> Industrial Processes and Product Use | Z9: {=INDEX('Talnagögn | Numerical Data'!$1:$1048576,_xlfn.XMATCH($A9,'Talnagögn | Numerical Data'!$B:$B),_xlfn.XMATCH($A$1,'Talnagögn | Numerical Data'!$1:$1))} -> 1794.4196 | AA9: =$F9/$F$13 -> 0.16976926 | AB9: {=INDEX('Talnagögn | Numerical Data'!$1:$1048576,_xlfn.XMATCH($A9,'Talnagögn | Numerical Data'!$B:$B),_xlfn.XMATCH($A$1,'Talnagögn | Numerical Data'!$1:$1))-INDEX('Talnagögn | Numerical Data'!$1:$1048576,_xlfn.XMATCH($A9,'Talnagögn | Numerical Data'!$B:$B),_xlfn.XMATCH($B$3,'Talnagögn | Numerical Data'!$1:$1))} -> -213.05032 | AC9: {=INDEX('Talnagögn | Numerical Data'!$1:$1048576,_xlfn.XMATCH($A9,'Talnagögn | Numerical Data'!$B:$B),_xlfn.XMATCH($A$1,'Talnagögn | Numerical Data'!$1:$1))/INDEX('Talnagögn | Numerical Data'!$1:$1048576,_xlfn.XMATCH($A9,'Talnagögn | Numerical Data'!$B:$B),_xlfn.XMATCH($B$3,'Talnagögn | Numerical Data'!$1:$1))-1} -> -0.10612877 | AD9: {=INDEX('Talnagögn | Numerical Data'!$1:$1048576,_xlfn.XMATCH($A9,'Talnagögn | Numerical Data'!$B:$B),_xlfn.XMATCH($A$1,'Talnagögn | Numerical Data'!$1:$1))-INDEX('Talnagögn | Numerical Data'!$1:$1048576,_xlfn.XMATCH($A9,'Talnagögn | Numerical Data'!$B:$B),_xlfn.XMATCH($B$2,'Talnagögn | Numerical Data'!$1:$1))} -> 843.51732 | AE9: {=INDEX('Talnagögn | Numerical Data'!$1:$1048576,_xlfn.XMATCH($A9,'Talnagögn | Numerical Data'!$B:$B),_xlfn.XMATCH($A$1,'Talnagögn | Numerical Data'!$1:$1))/INDEX('Talnagögn | Numerical Data'!$1:$1048576,_xlfn.XMATCH($A9,'Talnagögn | Numerical Data'!$B:$B),_xlfn.XMATCH($B$2,'Talnagögn | Numerical Data'!$1:$1))-1} -> 0.88707041 | AF9: {=INDEX('Talnagögn | Numerical Data'!$1:$1048576,_xlfn.XMATCH($A9,'Talnagögn | Numerical Data'!$B:$B),_xlfn.XMATCH($A$1,'Talnagögn | Numerical Data'!$1:$1))-INDEX('Talnagögn | Numerical Data'!$1:$1048576,_xlfn.XMATCH($A9,'Talnagögn | Numerical Data'!$B:$B),_xlfn.XMATCH($B$1,'Talnagögn | Numerical Data'!$1:$1))} -> 892.24506 | AG9: {=INDEX('Talnagögn | Numerical Data'!$1:$1048576,_xlfn.XMATCH($A9,'Talnagögn | Numerical Data'!$B:$B),_xlfn.XMATCH($A$1,'Talnagögn | Numerical Data'!$1:$1))/INDEX('Talnagögn | Numerical Data'!$1:$1048576,_xlfn.XMATCH($A9,'Talnagögn | Numerical Data'!$B:$B),_xlfn.XMATCH($B$1,'Talnagögn | Numerical Data'!$1:$1))-1} -> 0.98899378 | AI9: ='Talnagögn | Numerical Data'!$G$7 -> Industrial Processes and Product Use | AJ9: {=INDEX('Talnagögn | Numerical Data'!$1:$1048576,_xlfn.XMATCH($B9,'Talnagögn | Numerical Data'!$C:$C),_xlfn.XMATCH($B$4,'Talnagögn | Numerical Data'!$1:$1))-INDEX('Talnagögn | Numerical Data'!$1:$1048576,_xlfn.XMATCH($A9,'Talnagögn | Numerical Data'!$B:$B),_xlfn.XMATCH($B$2,'Talnagögn | Numerical Data'!$1:$1))} -> 1018.8195 | AK9: {=INDEX('Talnagögn | Numerical Data'!$1:$1048576,_xlfn.XMATCH($B9,'Talnagögn | Numerical Data'!$C:$C),_xlfn.XMATCH($B$4,'Talnagögn | Numerical Data'!$1:$1))/INDEX('Talnagögn | Numerical Data'!$1:$1048576,_xlfn.XMATCH($A9,'Talnagögn | Numerical Data'!$B:$B),_xlfn.XMATCH($B$2,'Talnagögn | Numerical Data'!$1:$1))-1} -> 1.0714239 | AL9: {=INDEX('Talnagögn | Numerical Data'!$1:$1048576,_xlfn.XMATCH($B9,'Talnagögn | Numerical Data'!$C:$C),_xlfn.XMATCH($B$5,'Talnagögn | Numerical Data'!$1:$1))-INDEX('Talnagögn | Numerical Data'!$1:$1048576,_xlfn.XMATCH($A9,'Talnagögn | Numerical Data'!$B:$B),_xlfn.XMATCH($B$1,'Talnagögn | Numerical Data'!$1:$1))} -> 1050.2148 | AM9: {=INDEX('Talnagögn | Numerical Data'!$1:$1048576,_xlfn.XMATCH($B9,'Talnagögn | Numerical Data'!$C:$C),_xlfn.XMATCH($B$5,'Talnagögn | Numerical Data'!$1:$1))/INDEX('Talnagögn | Numerical Data'!$1:$1048576,_xlfn.XMATCH($A9,'Talnagögn | Numerical Data'!$B:$B),_xlfn.XMATCH($B$1,'Talnagögn | Numerical Data'!$1:$1))-1} -> 1.1640926
A10: 3. Agriculturekt CO2-eq | B10: 3. Agriculturekt CO2-eq WEM | C10: 3. Agriculturekt CO2-eq WAM | E10: ='Talnagögn | Numerical Data'!$E$8 -> Landbúnaður | F10: {=INDEX('Talnagögn | Numerical Data'!$1:$1048576,_xlfn.XMATCH($A10,'Talnagögn | Numerical Data'!$B:$B),_xlfn.XMATCH($A$1,'Talnagögn | Numerical Data'!$1:$1))} -> 668.34043 | G10: =$F10/$F$13 -> 0.063231396 | H10: {=INDEX('Talnagögn | Numerical Data'!$1:$1048576,_xlfn.XMATCH($A10,'Talnagögn | Numerical Data'!$B:$B),_xlfn.XMATCH($A$1,'Talnagögn | Numerical Data'!$1:$1))-INDEX('Talnagögn | Numerical Data'!$1:$1048576,_xlfn.XMATCH($A10,'Talnagögn | Numerical Data'!$B:$B),_xlfn.XMATCH($B$3,'Talnagögn | Numerical Data'!$1:$1))} -> -0.41798729 | I10: {=INDEX('Talnagögn | Numerical Data'!$1:$1048576,_xlfn.XMATCH($A10,'Talnagögn | Numerical Data'!$B:$B),_xlfn.XMATCH($A$1,'Talnagögn | Numerical Data'!$1:$1))/INDEX('Talnagögn | Numerical Data'!$1:$1048576,_xlfn.XMATCH($A10,'Talnagögn | Numerical Data'!$B:$B),_xlfn.XMATCH($B$3,'Talnagögn | Numerical Data'!$1:$1))-1} -> -0.00062501986 | J10: {=INDEX('Talnagögn | Numerical Data'!$1:$1048576,_xlfn.XMATCH($A10,'Talnagögn | Numerical Data'!$B:$B),_xlfn.XMATCH($A$1,'Talnagögn | Numerical Data'!$1:$1))-INDEX('Talnagögn | Numerical Data'!$1:$1048576,_xlfn.XMATCH($A10,'Talnagögn | Numerical Data'!$B:$B),_xlfn.XMATCH($B$2,'Talnagögn | Numerical Data'!$1:$1))} -> -17.944766 | K10: {=INDEX('Talnagögn | Numerical Data'!$1:$1048576,_xlfn.XMATCH($A10,'Talnagögn | Numerical Data'!$B:$B),_xlfn.XMATCH($A$1,'Talnagögn | Numerical Data'!$1:$1))/INDEX('Talnagögn | Numerical Data'!$1:$1048576,_xlfn.XMATCH($A10,'Talnagögn | Numerical Data'!$B:$B),_xlfn.XMATCH($B$2,'Talnagögn | Numerical Data'!$1:$1))-1} -> -0.026147681 | L10: {=INDEX('Talnagögn | Numerical Data'!$1:$1048576,_xlfn.XMATCH($A10,'Talnagögn | Numerical Data'!$B:$B),_xlfn.XMATCH($A$1,'Talnagögn | Numerical Data'!$1:$1))-INDEX('Talnagögn | Numerical Data'!$1:$1048576,_xlfn.XMATCH($A10,'Talnagögn | Numerical Data'!$B:$B),_xlfn.XMATCH($B$1,'Talnagögn | Numerical Data'!$1:$1))} -> -53.430401 | M10: {=INDEX('Talnagögn | Numerical Data'!$1:$1048576,_xlfn.XMATCH($A10,'Talnagögn | Numerical Data'!$B:$B),_xlfn.XMATCH($A$1,'Talnagögn | Numerical Data'!$1:$1))/INDEX('Talnagögn | Numerical Data'!$1:$1048576,_xlfn.XMATCH($A10,'Talnagögn | Numerical Data'!$B:$B),_xlfn.XMATCH($B$1,'Talnagögn | Numerical Data'!$1:$1))-1} -> -0.074026822 | O10: ='Talnagögn | Numerical Data'!$E$8 -> Landbúnaður | P10: {=INDEX('Talnagögn | Numerical Data'!$1:$1048576,_xlfn.XMATCH($B10,'Talnagögn | Numerical Data'!$C:$C),_xlfn.XMATCH($B$4,'Talnagögn | Numerical Data'!$1:$1))-INDEX('Talnagögn | Numerical Data'!$1:$1048576,_xlfn.XMATCH($A10,'Talnagögn | Numerical Data'!$B:$B),_xlfn.XMATCH($B$2,'Talnagögn | Numerical Data'!$1:$1))} -> -35.971428 | Q10: {=INDEX('Talnagögn | Numerical Data'!$1:$1048576,_xlfn.XMATCH($B10,'Talnagögn | Numerical Data'!$C:$C),_xlfn.XMATCH($B$4,'Talnagögn | Numerical Data'!$1:$1))/INDEX('Talnagögn | Numerical Data'!$1:$1048576,_xlfn.XMATCH($A10,'Talnagögn | Numerical Data'!$B:$B),_xlfn.XMATCH($B$2,'Talnagögn | Numerical Data'!$1:$1))-1} -> -0.052414693 | R10: {=INDEX('Talnagögn | Numerical Data'!$1:$1048576,_xlfn.XMATCH($B10,'Talnagögn | Numerical Data'!$C:$C),_xlfn.XMATCH($B$5,'Talnagögn | Numerical Data'!$1:$1))-INDEX('Talnagögn | Numerical Data'!$1:$1048576,_xlfn.XMATCH($A10,'Talnagögn | Numerical Data'!$B:$B),_xlfn.XMATCH($B$1,'Talnagögn | Numerical Data'!$1:$1))} -> -133.90037 | S10: {=INDEX('Talnagögn | Numerical Data'!$1:$1048576,_xlfn.XMATCH($B10,'Talnagögn | Numerical Data'!$C:$C),_xlfn.XMATCH($B$5,'Talnagögn | Numerical Data'!$1:$1))/INDEX('Talnagögn | Numerical Data'!$1:$1048576,_xlfn.XMATCH($A10,'Talnagögn | Numerical Data'!$B:$B),_xlfn.XMATCH($B$1,'Talnagögn | Numerical Data'!$1:$1))-1} -> -0.18551646 | Y10: ='Talnagögn | Numerical Data'!$G$8 -> Agriculture | Z10: {=INDEX('Talnagögn | Numerical Data'!$1:$1048576,_xlfn.XMATCH($A10,'Talnagögn | Numerical Data'!$B:$B),_xlfn.XMATCH($A$1,'Talnagögn | Numerical Data'!$1:$1))} -> 668.34043 | AA10: =$F10/$F$13 -> 0.063231396 | AB10: {=INDEX('Talnagögn | Numerical Data'!$1:$1048576,_xlfn.XMATCH($A10,'Talnagögn | Numerical Data'!$B:$B),_xlfn.XMATCH($A$1,'Talnagögn | Numerical Data'!$1:$1))-INDEX('Talnagögn | Numerical Data'!$1:$1048576,_xlfn.XMATCH($A10,'Talnagögn | Numerical Data'!$B:$B),_xlfn.XMATCH($B$3,'Talnagögn | Numerical Data'!$1:$1))} -> -0.41798729 | AC10: {=INDEX('Talnagögn | Numerical Data'!$1:$1048576,_xlfn.XMATCH($A10,'Talnagögn | Numerical Data'!$B:$B),_xlfn.XMATCH($A$1,'Talnagögn | Numerical Data'!$1:$1))/INDEX('Talnagögn | Numerical Data'!$1:$1048576,_xlfn.XMATCH($A10,'Talnagögn | Numerical Data'!$B:$B),_xlfn.XMATCH($B$3,'Talnagögn | Numerical Data'!$1:$1))-1} -> -0.00062501986 | AD10: {=INDEX('Talnagögn | Numerical Data'!$1:$1048576,_xlfn.XMATCH($A10,'Talnagögn | Numerical Data'!$B:$B),_xlfn.XMATCH($A$1,'Talnagögn | Numerical Data'!$1:$1))-INDEX('Talnagögn | Numerical Data'!$1:$1048576,_xlfn.XMATCH($A10,'Talnagögn | Numerical Data'!$B:$B),_xlfn.XMATCH($B$2,'Talnagögn | Numerical Data'!$1:$1))} -> -17.944766 | AE10: {=INDEX('Talnagögn | Numerical Data'!$1:$1048576,_xlfn.XMATCH($A10,'Talnagögn | Numerical Data'!$B:$B),_xlfn.XMATCH($A$1,'Talnagögn | Numerical Data'!$1:$1))/INDEX('Talnagögn | Numerical Data'!$1:$1048576,_xlfn.XMATCH($A10,'Talnagögn | Numerical Data'!$B:$B),_xlfn.XMATCH($B$2,'Talnagögn | Numerical Data'!$1:$1))-1} -> -0.026147681 | AF10: {=INDEX('Talnagögn | Numerical Data'!$1:$1048576,_xlfn.XMATCH($A10,'Talnagögn | Numerical Data'!$B:$B),_xlfn.XMATCH($A$1,'Talnagögn | Numerical Data'!$1:$1))-INDEX('Talnagögn | Numerical Data'!$1:$1048576,_xlfn.XMATCH($A10,'Talnagögn | Numerical Data'!$B:$B),_xlfn.XMATCH($B$1,'Talnagögn | Numerical Data'!$1:$1))} -> -53.430401 | AG10: {=INDEX('Talnagögn | Numerical Data'!$1:$1048576,_xlfn.XMATCH($A10,'Talnagögn | Numerical Data'!$B:$B),_xlfn.XMATCH($A$1,'Talnagögn | Numerical Data'!$1:$1))/INDEX('Talnagögn | Numerical Data'!$1:$1048576,_xlfn.XMATCH($A10,'Talnagögn | Numerical Data'!$B:$B),_xlfn.XMATCH($B$1,'Talnagögn | Numerical Data'!$1:$1))-1} -> -0.074026822 | AI10: ='Talnagögn | Numerical Data'!$G$8 -> Agriculture | AJ10: {=INDEX('Talnagögn | Numerical Data'!$1:$1048576,_xlfn.XMATCH($B10,'Talnagögn | Numerical Data'!$C:$C),_xlfn.XMATCH($B$4,'Talnagögn | Numerical Data'!$1:$1))-INDEX('Talnagögn | Numerical Data'!$1:$1048576,_xlfn.XMATCH($A10,'Talnagögn | Numerical Data'!$B:$B),_xlfn.XMATCH($B$2,'Talnagögn | Numerical Data'!$1:$1))} -> -35.971428 | AK10: {=INDEX('Talnagögn | Numerical Data'!$1:$1048576,_xlfn.XMATCH($B10,'Talnagögn | Numerical Data'!$C:$C),_xlfn.XMATCH($B$4,'Talnagögn | Numerical Data'!$1:$1))/INDEX('Talnagögn | Numerical Data'!$1:$1048576,_xlfn.XMATCH($A10,'Talnagögn | Numerical Data'!$B:$B),_xlfn.XMATCH($B$2,'Talnagögn | Numerical Data'!$1:$1))-1} -> -0.052414693 | AL10: {=INDEX('Talnagögn | Numerical Data'!$1:$1048576,_xlfn.XMATCH($B10,'Talnagögn | Numerical Data'!$C:$C),_xlfn.XMATCH($B$5,'Talnagögn | Numerical Data'!$1:$1))-INDEX('Talnagögn | Numerical Data'!$1:$1048576,_xlfn.XMATCH($A10,'Talnagögn | Numerical Data'!$B:$B),_xlfn.XMATCH($B$1,'Talnagögn | Numerical Data'!$1:$1))} -> -133.90037 | AM10: {=INDEX('Talnagögn | Numerical Data'!$1:$1048576,_xlfn.XMATCH($B10,'Talnagögn | Numerical Data'!$C:$C),_xlfn.XMATCH($B$5,'Talnagögn | Numerical Data'!$1:$1))/INDEX('Talnagögn | Numerical Data'!$1:$1048576,_xlfn.XMATCH($A10,'Talnagögn | Numerical Data'!$B:$B),_xlfn.XMATCH($B$1,'Talnagögn | Numerical Data'!$1:$1))-1} -> -0.18551646
A11: 4. LULUCFkt CO2-eq | B11: 4. LULUCFkt CO2-eq WEM | C11: 4. LULUCFkt CO2-eq WAM | E11: ='Talnagögn | Numerical Data'!$E$9 -> Landnotkun | F11: {=INDEX('Talnagögn | Numerical Data'!$1:$1048576,_xlfn.XMATCH($A11,'Talnagögn | Numerical Data'!$B:$B),_xlfn.XMATCH($A$1,'Talnagögn | Numerical Data'!$1:$1))} -> 6080.341 | G11: =$F11/$F$13 -> 0.57525841 | H11: {=INDEX('Talnagögn | Numerical Data'!$1:$1048576,_xlfn.XMATCH($A11,'Talnagögn | Numerical Data'!$B:$B),_xlfn.XMATCH($A$1,'Talnagögn | Numerical Data'!$1:$1))-INDEX('Talnagögn | Numerical Data'!$1:$1048576,_xlfn.XMATCH($A11,'Talnagögn | Numerical Data'!$B:$B),_xlfn.XMATCH($B$3,'Talnagögn | Numerical Data'!$1:$1))} -> -135.57528 | I11: {=INDEX('Talnagögn | Numerical Data'!$1:$1048576,_xlfn.XMATCH($A11,'Talnagögn | Numerical Data'!$B:$B),_xlfn.XMATCH($A$1,'Talnagögn | Numerical Data'!$1:$1))/INDEX('Talnagögn | Numerical Data'!$1:$1048576,_xlfn.XMATCH($A11,'Talnagögn | Numerical Data'!$B:$B),_xlfn.XMATCH($B$3,'Talnagögn | Numerical Data'!$1:$1))-1} -> -0.021810989 | J11: {=INDEX('Talnagögn | Numerical Data'!$1:$1048576,_xlfn.XMATCH($A11,'Talnagögn | Numerical Data'!$B:$B),_xlfn.XMATCH($A$1,'Talnagögn | Numerical Data'!$1:$1))-INDEX('Talnagögn | Numerical Data'!$1:$1048576,_xlfn.XMATCH($A11,'Talnagögn | Numerical Data'!$B:$B),_xlfn.XMATCH($B$2,'Talnagögn | Numerical Data'!$1:$1))} -> -568.72412 | K11: {=INDEX('Talnagögn | Numerical Data'!$1:$1048576,_xlfn.XMATCH($A11,'Talnagögn | Numerical Data'!$B:$B),_xlfn.XMATCH($A$1,'Talnagögn | Numerical Data'!$1:$1))/INDEX('Talnagögn | Numerical Data'!$1:$1048576,_xlfn.XMATCH($A11,'Talnagögn | Numerical Data'!$B:$B),_xlfn.XMATCH($B$2,'Talnagögn | Numerical Data'!$1:$1))-1} -> -0.085534449 | L11: {=INDEX('Talnagögn | Numerical Data'!$1:$1048576,_xlfn.XMATCH($A11,'Talnagögn | Numerical Data'!$B:$B),_xlfn.XMATCH($A$1,'Talnagögn | Numerical Data'!$1:$1))-INDEX('Talnagögn | Numerical Data'!$1:$1048576,_xlfn.XMATCH($A11,'Talnagögn | Numerical Data'!$B:$B),_xlfn.XMATCH($B$1,'Talnagögn | Numerical Data'!$1:$1))} -> -606.11328 | M11: {=INDEX('Talnagögn | Numerical Data'!$1:$1048576,_xlfn.XMATCH($A11,'Talnagögn | Numerical Data'!$B:$B),_xlfn.XMATCH($A$1,'Talnagögn | Numerical Data'!$1:$1))/INDEX('Talnagögn | Numerical Data'!$1:$1048576,_xlfn.XMATCH($A11,'Talnagögn | Numerical Data'!$B:$B),_xlfn.XMATCH($B$1,'Talnagögn | Numerical Data'!$1:$1))-1} -> -0.090647935 | O11: ='Talnagögn | Numerical Data'!$E$9 -> Landnotkun | P11: {=INDEX('Talnagögn | Numerical Data'!$1:$1048576,_xlfn.XMATCH($B11,'Talnagögn | Numerical Data'!$C:$C),_xlfn.XMATCH($B$4,'Talnagögn | Numerical Data'!$1:$1))-INDEX('Talnagögn | Numerical Data'!$1:$1048576,_xlfn.XMATCH($A11,'Talnagögn | Numerical Data'!$B:$B),_xlfn.XMATCH($B$2,'Talnagögn | Numerical Data'!$1:$1))} -> -1129.7228 | Q11: {=INDEX('Talnagögn | Numerical Data'!$1:$1048576,_xlfn.XMATCH($B11,'Talnagögn | Numerical Data'!$C:$C),_xlfn.XMATCH($B$4,'Talnagögn | Numerical Data'!$1:$1))/INDEX('Talnagögn | Numerical Data'!$1:$1048576,_xlfn.XMATCH($A11,'Talnagögn | Numerical Data'!$B:$B),_xlfn.XMATCH($B$2,'Talnagögn | Numerical Data'!$1:$1))-1} -> -0.16990702 | R11: {=INDEX('Talnagögn | Numerical Data'!$1:$1048576,_xlfn.XMATCH($B11,'Talnagögn | Numerical Data'!$C:$C),_xlfn.XMATCH($B$5,'Talnagögn | Numerical Data'!$1:$1))-INDEX('Talnagögn | Numerical Data'!$1:$1048576,_xlfn.XMATCH($A11,'Talnagögn | Numerical Data'!$B:$B),_xlfn.XMATCH($B$1,'Talnagögn | Numerical Data'!$1:$1))} -> -2902.0594 | S11: {=INDEX('Talnagögn | Numerical Data'!$1:$1048576,_xlfn.XMATCH($B11,'Talnagögn | Numerical Data'!$C:$C),_xlfn.XMATCH($B$5,'Talnagögn | Numerical Data'!$1:$1))/INDEX('Talnagögn | Numerical Data'!$1:$1048576,_xlfn.XMATCH($A11,'Talnagögn | Numerical Data'!$B:$B),_xlfn.XMATCH($B$1,'Talnagögn | Numerical Data'!$1:$1))-1} -> -0.43402068 | Y11: ='Talnagögn | Numerical Data'!$G$9 -> Land use, Land-Use Change and Forestry (LULUCF) | Z11: {=INDEX('Talnagögn | Numerical Data'!$1:$1048576,_xlfn.XMATCH($A11,'Talnagögn | Numerical Data'!$B:$B),_xlfn.XMATCH($A$1,'Talnagögn | Numerical Data'!$1:$1))} -> 6080.341 | AA11: =$F11/$F$13 -> 0.57525841 | AB11: {=INDEX('Talnagögn | Numerical Data'!$1:$1048576,_xlfn.XMATCH($A11,'Talnagögn | Numerical Data'!$B:$B),_xlfn.XMATCH($A$1,'Talnagögn | Numerical Data'!$1:$1))-INDEX('Talnagögn | Numerical Data'!$1:$1048576,_xlfn.XMATCH($A11,'Talnagögn | Numerical Data'!$B:$B),_xlfn.XMATCH($B$3,'Talnagögn | Numerical Data'!$1:$1))} -> -135.57528 | AC11: {=INDEX('Talnagögn | Numerical Data'!$1:$1048576,_xlfn.XMATCH($A11,'Talnagögn | Numerical Data'!$B:$B),_xlfn.XMATCH($A$1,'Talnagögn | Numerical Data'!$1:$1))/INDEX('Talnagögn | Numerical Data'!$1:$1048576,_xlfn.XMATCH($A11,'Talnagögn | Numerical Data'!$B:$B),_xlfn.XMATCH($B$3,'Talnagögn | Numerical Data'!$1:$1))-1} -> -0.021810989 | AD11: {=INDEX('Talnagögn | Numerical Data'!$1:$1048576,_xlfn.XMATCH($A11,'Talnagögn | Numerical Data'!$B:$B),_xlfn.XMATCH($A$1,'Talnagögn | Numerical Data'!$1:$1))-INDEX('Talnagögn | Numerical Data'!$1:$1048576,_xlfn.XMATCH($A11,'Talnagögn | Numerical Data'!$B:$B),_xlfn.XMATCH($B$2,'Talnagögn | Numerical Data'!$1:$1))} -> -568.72412 | AE11: {=INDEX('Talnagögn | Numerical Data'!$1:$1048576,_xlfn.XMATCH($A11,'Talnagögn | Numerical Data'!$B:$B),_xlfn.XMATCH($A$1,'Talnagögn | Numerical Data'!$1:$1))/INDEX('Talnagögn | Numerical Data'!$1:$1048576,_xlfn.XMATCH($A11,'Talnagögn | Numerical Data'!$B:$B),_xlfn.XMATCH($B$2,'Talnagögn | Numerical Data'!$1:$1))-1} -> -0.085534449 | AF11: {=INDEX('Talnagögn | Numerical Data'!$1:$1048576,_xlfn.XMATCH($A11,'Talnagögn | Numerical Data'!$B:$B),_xlfn.XMATCH($A$1,'Talnagögn | Numerical Data'!$1:$1))-INDEX('Talnagögn | Numerical Data'!$1:$1048576,_xlfn.XMATCH($A11,'Talnagögn | Numerical Data'!$B:$B),_xlfn.XMATCH($B$1,'Talnagögn | Numerical Data'!$1:$1))} -> -606.11328 | AG11: {=INDEX('Talnagögn | Numerical Data'!$1:$1048576,_xlfn.XMATCH($A11,'Talnagögn | Numerical Data'!$B:$B),_xlfn.XMATCH($A$1,'Talnagögn | Numerical Data'!$1:$1))/INDEX('Talnagögn | Numerical Data'!$1:$1048576,_xlfn.XMATCH($A11,'Talnagögn | Numerical Data'!$B:$B),_xlfn.XMATCH($B$1,'Talnagögn | Numerical Data'!$1:$1))-1} -> -0.090647935 | AI11: ='Talnagögn | Numerical Data'!$G$9 -> Land use, Land-Use Change and Forestry (LULUCF) | AJ11: {=INDEX('Talnagögn | Numerical Data'!$1:$1048576,_xlfn.XMATCH($B11,'Talnagögn | Numerical Data'!$C:$C),_xlfn.XMATCH($B$4,'Talnagögn | Numerical Data'!$1:$1))-INDEX('Talnagögn | Numerical Data'!$1:$1048576,_xlfn.XMATCH($A11,'Talnagögn | Numerical Data'!$B:$B),_xlfn.XMATCH($B$2,'Talnagögn | Numerical Data'!$1:$1))} -> -1129.7228 | AK11: {=INDEX('Talnagögn | Numerical Data'!$1:$1048576,_xlfn.XMATCH($B11,'Talnagögn | Numerical Data'!$C:$C),_xlfn.XMATCH($B$4,'Talnagögn | Numerical Data'!$1:$1))/INDEX('Talnagögn | Numerical Data'!$1:$1048576,_xlfn.XMATCH($A11,'Talnagögn | Numerical Data'!$B:$B),_xlfn.XMATCH($B$2,'Talnagögn | Numerical Data'!$1:$1))-1} -> -0.16990702 | AL11: {=INDEX('Talnagögn | Numerical Data'!$1:$1048576,_xlfn.XMATCH($B11,'Talnagögn | Numerical Data'!$C:$C),_xlfn.XMATCH($B$5,'Talnagögn | Numerical Data'!$1:$1))-INDEX('Talnagögn | Numerical Data'!$1:$1048576,_xlfn.XMATCH($A11,'Talnagögn | Numerical Data'!$B:$B),_xlfn.XMATCH($B$1,'Talnagögn | Numerical Data'!$1:$1))} -> -2902.0594 | AM11: {=INDEX('Talnagögn | Numerical Data'!$1:$1048576,_xlfn.XMATCH($B11,'Talnagögn | Numerical Data'!$C:$C),_xlfn.XMATCH($B$5,'Talnagögn | Numerical Data'!$1:$1))/INDEX('Talnagögn | Numerical Data'!$1:$1048576,_xlfn.XMATCH($A11,'Talnagögn | Numerical Data'!$B:$B),_xlfn.XMATCH($B$1,'Talnagögn | Numerical Data'!$1:$1))-1} -> -0.43402068
A12: 5. Wastekt CO2-eq | B12: 5. Wastekt CO2-eq WEM | C12: 5. Wastekt CO2-eq WAM | E12: ='Talnagögn | Numerical Data'!$E$10 -> Úrgangur | F12: {=INDEX('Talnagögn | Numerical Data'!$1:$1048576,_xlfn.XMATCH($A12,'Talnagögn | Numerical Data'!$B:$B),_xlfn.XMATCH($A$1,'Talnagögn | Numerical Data'!$1:$1))} -> 222.5919 | G12: =$F12/$F$13 -> 0.021059323 | H12: {=INDEX('Talnagögn | Numerical Data'!$1:$1048576,_xlfn.XMATCH($A12,'Talnagögn | Numerical Data'!$B:$B),_xlfn.XMATCH($A$1,'Talnagögn | Numerical Data'!$1:$1))-INDEX('Talnagögn | Numerical Data'!$1:$1048576,_xlfn.XMATCH($A12,'Talnagögn | Numerical Data'!$B:$B),_xlfn.XMATCH($B$3,'Talnagögn | Numerical Data'!$1:$1))} -> -16.793903 | I12: {=INDEX('Talnagögn | Numerical Data'!$1:$1048576,_xlfn.XMATCH($A12,'Talnagögn | Numerical Data'!$B:$B),_xlfn.XMATCH($A$1,'Talnagögn | Numerical Data'!$1:$1))/INDEX('Talnagögn | Numerical Data'!$1:$1048576,_xlfn.XMATCH($A12,'Talnagögn | Numerical Data'!$B:$B),_xlfn.XMATCH($B$3,'Talnagögn | Numerical Data'!$1:$1))-1} -> -0.070154129 | J12: {=INDEX('Talnagögn | Numerical Data'!$1:$1048576,_xlfn.XMATCH($A12,'Talnagögn | Numerical Data'!$B:$B),_xlfn.XMATCH($A$1,'Talnagögn | Numerical Data'!$1:$1))-INDEX('Talnagögn | Numerical Data'!$1:$1048576,_xlfn.XMATCH($A12,'Talnagögn | Numerical Data'!$B:$B),_xlfn.XMATCH($B$2,'Talnagögn | Numerical Data'!$1:$1))} -> -91.372949 | K12: {=INDEX('Talnagögn | Numerical Data'!$1:$1048576,_xlfn.XMATCH($A12,'Talnagögn | Numerical Data'!$B:$B),_xlfn.XMATCH($A$1,'Talnagögn | Numerical Data'!$1:$1))/INDEX('Talnagögn | Numerical Data'!$1:$1048576,_xlfn.XMATCH($A12,'Talnagögn | Numerical Data'!$B:$B),_xlfn.XMATCH($B$2,'Talnagögn | Numerical Data'!$1:$1))-1} -> -0.29102923 | L12: {=INDEX('Talnagögn | Numerical Data'!$1:$1048576,_xlfn.XMATCH($A12,'Talnagögn | Numerical Data'!$B:$B),_xlfn.XMATCH($A$1,'Talnagögn | Numerical Data'!$1:$1))-INDEX('Talnagögn | Numerical Data'!$1:$1048576,_xlfn.XMATCH($A12,'Talnagögn | Numerical Data'!$B:$B),_xlfn.XMATCH($B$1,'Talnagögn | Numerical Data'!$1:$1))} -> 8.0408556 | M12: {=INDEX('Talnagögn | Numerical Data'!$1:$1048576,_xlfn.XMATCH($A12,'Talnagögn | Numerical Data'!$B:$B),_xlfn.XMATCH($A$1,'Talnagögn | Numerical Data'!$1:$1))/INDEX('Talnagögn | Numerical Data'!$1:$1048576,_xlfn.XMATCH($A12,'Talnagögn | Numerical Data'!$B:$B),_xlfn.XMATCH($B$1,'Talnagögn | Numerical Data'!$1:$1))-1} -> 0.037477587 | O12: ='Talnagögn | Numerical Data'!$E$10 -> Úrgangur | P12: {=INDEX('Talnagögn | Numerical Data'!$1:$1048576,_xlfn.XMATCH($B12,'Talnagögn | Numerical Data'!$C:$C),_xlfn.XMATCH($B$4,'Talnagögn | Numerical Data'!$1:$1))-INDEX('Talnagögn | Numerical Data'!$1:$1048576,_xlfn.XMATCH($A12,'Talnagögn | Numerical Data'!$B:$B),_xlfn.XMATCH($B$2,'Talnagögn | Numerical Data'!$1:$1))} -> -155.17698 | Q12: {=INDEX('Talnagögn | Numerical Data'!$1:$1048576,_xlfn.XMATCH($B12,'Talnagögn | Numerical Data'!$C:$C),_xlfn.XMATCH($B$4,'Talnagögn | Numerical Data'!$1:$1))/INDEX('Talnagögn | Numerical Data'!$1:$1048576,_xlfn.XMATCH($A12,'Talnagögn | Numerical Data'!$B:$B),_xlfn.XMATCH($B$2,'Talnagögn | Numerical Data'!$1:$1))-1} -> -0.49424952 | R12: {=INDEX('Talnagögn | Numerical Data'!$1:$1048576,_xlfn.XMATCH($B12,'Talnagögn | Numerical Data'!$C:$C),_xlfn.XMATCH($B$5,'Talnagögn | Numerical Data'!$1:$1))-INDEX('Talnagögn | Numerical Data'!$1:$1048576,_xlfn.XMATCH($A12,'Talnagögn | Numerical Data'!$B:$B),_xlfn.XMATCH($B$1,'Talnagögn | Numerical Data'!$1:$1))} -> -138.78264 | S12: {=INDEX('Talnagögn | Numerical Data'!$1:$1048576,_xlfn.XMATCH($B12,'Talnagögn | Numerical Data'!$C:$C),_xlfn.XMATCH($B$5,'Talnagögn | Numerical Data'!$1:$1))/INDEX('Talnagögn | Numerical Data'!$1:$1048576,_xlfn.XMATCH($A12,'Talnagögn | Numerical Data'!$B:$B),_xlfn.XMATCH($B$1,'Talnagögn | Numerical Data'!$1:$1))-1} -> -0.64685137 | Y12: ='Talnagögn | Numerical Data'!$G$10 -> Waste | Z12: {=INDEX('Talnagögn | Numerical Data'!$1:$1048576,_xlfn.XMATCH($A12,'Talnagögn | Numerical Data'!$B:$B),_xlfn.XMATCH($A$1,'Talnagögn | Numerical Data'!$1:$1))} -> 222.5919 | AA12: =$F12/$F$13 -> 0.021059323 | AB12: {=INDEX('Talnagögn | Numerical Data'!$1:$1048576,_xlfn.XMATCH($A12,'Talnagögn | Numerical Data'!$B:$B),_xlfn.XMATCH($A$1,'Talnagögn | Numerical Data'!$1:$1))-INDEX('Talnagögn | Numerical Data'!$1:$1048576,_xlfn.XMATCH($A12,'Talnagögn | Numerical Data'!$B:$B),_xlfn.XMATCH($B$3,'Talnagögn | Numerical Data'!$1:$1))} -> -16.793903 | AC12: {=INDEX('Talnagögn | Numerical Data'!$1:$1048576,_xlfn.XMATCH($A12,'Talnagögn | Numerical Data'!$B:$B),_xlfn.XMATCH($A$1,'Talnagögn | Numerical Data'!$1:$1))/INDEX('Talnagögn | Numerical Data'!$1:$1048576,_xlfn.XMATCH($A12,'Talnagögn | Numerical Data'!$B:$B),_xlfn.XMATCH($B$3,'Talnagögn | Numerical Data'!$1:$1))-1} -> -0.070154129 | AD12: {=INDEX('Talnagögn | Numerical Data'!$1:$1048576,_xlfn.XMATCH($A12,'Talnagögn | Numerical Data'!$B:$B),_xlfn.XMATCH($A$1,'Talnagögn | Numerical Data'!$1:$1))-INDEX('Talnagögn | Numerical Data'!$1:$1048576,_xlfn.XMATCH($A12,'Talnagögn | Numerical Data'!$B:$B),_xlfn.XMATCH($B$2,'Talnagögn | Numerical Data'!$1:$1))} -> -91.372949 | AE12: {=INDEX('Talnagögn | Numerical Data'!$1:$1048576,_xlfn.XMATCH($A12,'Talnagögn | Numerical Data'!$B:$B),_xlfn.XMATCH($A$1,'Talnagögn | Numerical Data'!$1:$1))/INDEX('Talnagögn | Numerical Data'!$1:$1048576,_xlfn.XMATCH($A12,'Talnagögn | Numerical Data'!$B:$B),_xlfn.XMATCH($B$2,'Talnagögn | Numerical Data'!$1:$1))-1} -> -0.29102923 | AF12: {=INDEX('Talnagögn | Numerical Data'!$1:$1048576,_xlfn.XMATCH($A12,'Talnagögn | Numerical Data'!$B:$B),_xlfn.XMATCH($A$1,'Talnagögn | Numerical Data'!$1:$1))-INDEX('Talnagögn | Numerical Data'!$1:$1048576,_xlfn.XMATCH($A12,'Talnagögn | Numerical Data'!$B:$B),_xlfn.XMATCH($B$1,'Talnagögn | Numerical Data'!$1:$1))} -> 8.0408556 | AG12: {=INDEX('Talnagögn | Numerical Data'!$1:$1048576,_xlfn.XMATCH($A12,'Talnagögn | Numerical Data'!$B:$B),_xlfn.XMATCH($A$1,'Talnagögn | Numerical Data'!$1:$1))/INDEX('Talnagögn | Numerical Data'!$1:$1048576,_xlfn.XMATCH($A12,'Talnagögn | Numerical Data'!$B:$B),_xlfn.XMATCH($B$1,'Talnagögn | Numerical Data'!$1:$1))-1} -> 0.037477587 | AI12: ='Talnagögn | Numerical Data'!$G$10 -> Waste | AJ12: {=INDEX('Talnagögn | Numerical Data'!$1:$1048576,_xlfn.XMATCH($B12,'Talnagögn | Numerical Data'!$C:$C),_xlfn.XMATCH($B$4,'Talnagögn | Numerical Data'!$1:$1))-INDEX('Talnagögn | Numerical Data'!$1:$1048576,_xlfn.XMATCH($A12,'Talnagögn | Numerical Data'!$B:$B),_xlfn.XMATCH($B$2,'Talnagögn | Numerical Data'!$1:$1))} -> -155.17698 | AK12: {=INDEX('Talnagögn | Numerical Data'!$1:$1048576,_xlfn.XMATCH($B12,'Talnagögn | Numerical Data'!$C:$C),_xlfn.XMATCH($B$4,'Talnagögn | Numerical Data'!$1:$1))/INDEX('Talnagögn | Numerical Data'!$1:$1048576,_xlfn.XMATCH($A12,'Talnagögn | Numerical Data'!$B:$B),_xlfn.XMATCH($B$2,'Talnagögn | Numerical Data'!$1:$1))-1} -> -0.49424952 | AL12: {=INDEX('Talnagögn | Numerical Data'!$1:$1048576,_xlfn.XMATCH($B12,'Talnagögn | Numerical Data'!$C:$C),_xlfn.XMATCH($B$5,'Talnagögn | Numerical Data'!$1:$1))-INDEX('Talnagögn | Numerical Data'!$1:$1048576,_xlfn.XMATCH($A12,'Talnagögn | Numerical Data'!$B:$B),_xlfn.XMATCH($B$1,'Talnagögn | Numerical Data'!$1:$1))} -> -138.78264 | AM12: {=INDEX('Talnagögn | Numerical Data'!$1:$1048576,_xlfn.XMATCH($B12,'Talnagögn | Numerical Data'!$C:$C),_xlfn.XMATCH($B$5,'Talnagögn | Numerical Data'!$1:$1))/INDEX('Talnagögn | Numerical Data'!$1:$1048576,_xlfn.XMATCH($A12,'Talnagögn | Numerical Data'!$B:$B),_xlfn.XMATCH($B$1,'Talnagögn | Numerical Data'!$1:$1))-1} -> -0.64685137
A13: National Total, with LULUCFkt CO2-eq | B13: National Total, with LULUCFkt CO2-eq WEM | C13: National Total, with LULUCFkt CO2-eq WAM | E13: Samtals, með landnotkun | F13: {=INDEX('Talnagögn | Numerical Data'!$1:$1048576,_xlfn.XMATCH($A13,'Talnagögn | Numerical Data'!$B:$B),_xlfn.XMATCH($A$1,'Talnagögn | Numerical Data'!$1:$1))} -> 10569.756 | G13: =SUM($G$8:$G$12) -> 1 | H13: {=INDEX('Talnagögn | Numerical Data'!$1:$1048576,_xlfn.XMATCH($A13,'Talnagögn | Numerical Data'!$B:$B),_xlfn.XMATCH($A$1,'Talnagögn | Numerical Data'!$1:$1))-INDEX('Talnagögn | Numerical Data'!$1:$1048576,_xlfn.XMATCH($A13,'Talnagögn | Numerical Data'!$B:$B),_xlfn.XMATCH($B$3,'Talnagögn | Numerical Data'!$1:$1))} -> -428.25484 | I13: {=INDEX('Talnagögn | Numerical Data'!$1:$1048576,_xlfn.XMATCH($A13,'Talnagögn | Numerical Data'!$B:$B),_xlfn.XMATCH($A$1,'Talnagögn | Numerical Data'!$1:$1))/INDEX('Talnagögn | Numerical Data'!$1:$1048576,_xlfn.XMATCH($A13,'Talnagögn | Numerical Data'!$B:$B),_xlfn.XMATCH($B$3,'Talnagögn | Numerical Data'!$1:$1))-1} -> -0.0389393 | J13: {=INDEX('Talnagögn | Numerical Data'!$1:$1048576,_xlfn.XMATCH($A13,'Talnagögn | Numerical Data'!$B:$B),_xlfn.XMATCH($A$1,'Talnagögn | Numerical Data'!$1:$1))-INDEX('Talnagögn | Numerical Data'!$1:$1048576,_xlfn.XMATCH($A13,'Talnagögn | Numerical Data'!$B:$B),_xlfn.XMATCH($B$2,'Talnagögn | Numerical Data'!$1:$1))} -> -186.79585 | K13: {=INDEX('Talnagögn | Numerical Data'!$1:$1048576,_xlfn.XMATCH($A13,'Talnagögn | Numerical Data'!$B:$B),_xlfn.XMATCH($A$1,'Talnagögn | Numerical Data'!$1:$1))/INDEX('Talnagögn | Numerical Data'!$1:$1048576,_xlfn.XMATCH($A13,'Talnagögn | Numerical Data'!$B:$B),_xlfn.XMATCH($B$2,'Talnagögn | Numerical Data'!$1:$1))-1} -> -0.017365774 | L13: {=INDEX('Talnagögn | Numerical Data'!$1:$1048576,_xlfn.XMATCH($A13,'Talnagögn | Numerical Data'!$B:$B),_xlfn.XMATCH($A$1,'Talnagögn | Numerical Data'!$1:$1))-INDEX('Talnagögn | Numerical Data'!$1:$1048576,_xlfn.XMATCH($A13,'Talnagögn | Numerical Data'!$B:$B),_xlfn.XMATCH($B$1,'Talnagögn | Numerical Data'!$1:$1))} -> 204.23835 | M13: {=INDEX('Talnagögn | Numerical Data'!$1:$1048576,_xlfn.XMATCH($A13,'Talnagögn | Numerical Data'!$B:$B),_xlfn.XMATCH($A$1,'Talnagögn | Numerical Data'!$1:$1))/INDEX('Talnagögn | Numerical Data'!$1:$1048576,_xlfn.XMATCH($A13,'Talnagögn | Numerical Data'!$B:$B),_xlfn.XMATCH($B$1,'Talnagögn | Numerical Data'!$1:$1))-1} -> 0.019703632 | O13: Samtals, með landnotkun | P13: {=INDEX('Talnagögn | Numerical Data'!$1:$1048576,_xlfn.XMATCH($B13,'Talnagögn | Numerical Data'!$C:$C),_xlfn.XMATCH($B$4,'Talnagögn | Numerical Data'!$1:$1))-INDEX('Talnagögn | Numerical Data'!$1:$1048576,_xlfn.XMATCH($A13,'Talnagögn | Numerical Data'!$B:$B),_xlfn.XMATCH($B$2,'Talnagögn | Numerical Data'!$1:$1))} -> -842.44804 | Q13: {=INDEX('Talnagögn | Numerical Data'!$1:$1048576,_xlfn.XMATCH($B13,'Talnagögn | Numerical Data'!$C:$C),_xlfn.XMATCH($B$4,'Talnagögn | Numerical Data'!$1:$1))/INDEX('Talnagögn | Numerical Data'!$1:$1048576,_xlfn.XMATCH($A13,'Talnagögn | Numerical Data'!$B:$B),_xlfn.XMATCH($B$2,'Talnagögn | Numerical Data'!$1:$1))-1} -> -0.078319526 | R13: {=INDEX('Talnagögn | Numerical Data'!$1:$1048576,_xlfn.XMATCH($B13,'Talnagögn | Numerical Data'!$C:$C),_xlfn.XMATCH($B$5,'Talnagögn | Numerical Data'!$1:$1))-INDEX('Talnagögn | Numerical Data'!$1:$1048576,_xlfn.XMATCH($A13,'Talnagögn | Numerical Data'!$B:$B),_xlfn.XMATCH($B$1,'Talnagögn | Numerical Data'!$1:$1))} -> -3520.1733 | S13: {=INDEX('Talnagögn | Numerical Data'!$1:$1048576,_xlfn.XMATCH($B13,'Talnagögn | Numerical Data'!$C:$C),_xlfn.XMATCH($B$5,'Talnagögn | Numerical Data'!$1:$1))/INDEX('Talnagögn | Numerical Data'!$1:$1048576,_xlfn.XMATCH($A13,'Talnagögn | Numerical Data'!$B:$B),_xlfn.XMATCH($B$1,'Talnagögn | Numerical Data'!$1:$1))-1} -> -0.3396042 | Y13: Total, incl. LULUCF | Z13: {=INDEX('Talnagögn | Numerical Data'!$1:$1048576,_xlfn.XMATCH($A13,'Talnagögn | Numerical Data'!$B:$B),_xlfn.XMATCH($A$1,'Talnagögn | Numerical Data'!$1:$1))} -> 10569.756 | AA13: =SUM($G$8:$G$12) -> 1 | AB13: {=INDEX('Talnagögn | Numerical Data'!$1:$1048576,_xlfn.XMATCH($A13,'Talnagögn | Numerical Data'!$B:$B),_xlfn.XMATCH($A$1,'Talnagögn | Numerical Data'!$1:$1))-INDEX('Talnagögn | Numerical Data'!$1:$1048576,_xlfn.XMATCH($A13,'Talnagögn | Numerical Data'!$B:$B),_xlfn.XMATCH($B$3,'Talnagögn | Numerical Data'!$1:$1))} -> -428.25484 | AC13: {=INDEX('Talnagögn | Numerical Data'!$1:$1048576,_xlfn.XMATCH($A13,'Talnagögn | Numerical Data'!$B:$B),_xlfn.XMATCH($A$1,'Talnagögn | Numerical Data'!$1:$1))/INDEX('Talnagögn | Numerical Data'!$1:$1048576,_xlfn.XMATCH($A13,'Talnagögn | Numerical Data'!$B:$B),_xlfn.XMATCH($B$3,'Talnagögn | Numerical Data'!$1:$1))-1} -> -0.0389393 | AD13: {=INDEX('Talnagögn | Numerical Data'!$1:$1048576,_xlfn.XMATCH($A13,'Talnagögn | Numerical Data'!$B:$B),_xlfn.XMATCH($A$1,'Talnagögn | Numerical Data'!$1:$1))-INDEX('Talnagögn | Numerical Data'!$1:$1048576,_xlfn.XMATCH($A13,'Talnagögn | Numerical Data'!$B:$B),_xlfn.XMATCH($B$2,'Talnagögn | Numerical Data'!$1:$1))} -> -186.79585 | AE13: {=INDEX('Talnagögn | Numerical Data'!$1:$1048576,_xlfn.XMATCH($A13,'Talnagögn | Numerical Data'!$B:$B),_xlfn.XMATCH($A$1,'Talnagögn | Numerical Data'!$1:$1))/INDEX('Talnagögn | Numerical Data'!$1:$1048576,_xlfn.XMATCH($A13,'Talnagögn | Numerical Data'!$B:$B),_xlfn.XMATCH($B$2,'Talnagögn | Numerical Data'!$1:$1))-1} -> -0.017365774 | AF13: {=INDEX('Talnagögn | Numerical Data'!$1:$1048576,_xlfn.XMATCH($A13,'Talnagögn | Numerical Data'!$B:$B),_xlfn.XMATCH($A$1,'Talnagögn | Numerical Data'!$1:$1))-INDEX('Talnagögn | Numerical Data'!$1:$1048576,_xlfn.XMATCH($A13,'Talnagögn | Numerical Data'!$B:$B),_xlfn.XMATCH($B$1,'Talnagögn | Numerical Data'!$1:$1))} -> 204.23835 | AG13: {=INDEX('Talnagögn | Numerical Data'!$1:$1048576,_xlfn.XMATCH($A13,'Talnagögn | Numerical Data'!$B:$B),_xlfn.XMATCH($A$1,'Talnagögn | Numerical Data'!$1:$1))/INDEX('Talnagögn | Numerical Data'!$1:$1048576,_xlfn.XMATCH($A13,'Talnagögn | Numerical Data'!$B:$B),_xlfn.XMATCH($B$1,'Talnagögn | Numerical Data'!$1:$1))-1} -> 0.019703632 | AI13: Total, incl. LULUCF | AJ13: {=INDEX('Talnagögn | Numerical Data'!$1:$1048576,_xlfn.XMATCH($B13,'Talnagögn | Numerical Data'!$C:$C),_xlfn.XMATCH($B$4,'Talnagögn | Numerical Data'!$1:$1))-INDEX('Talnagögn | Numerical Data'!$1:$1048576,_xlfn.XMATCH($A13,'Talnagögn | Numerical Data'!$B:$B),_xlfn.XMATCH($B$2,'Talnagögn | Numerical Data'!$1:$1))} -> -842.44804 | AK13: {=INDEX('Talnagögn | Numerical Data'!$1:$1048576,_xlfn.XMATCH($B13,'Talnagögn | Numerical Data'!$C:$C),_xlfn.XMATCH($B$4,'Talnagögn | Numerical Data'!$1:$1))/INDEX('Talnagögn | Numerical Data'!$1:$1048576,_xlfn.XMATCH($A13,'Talnagögn | Numerical Data'!$B:$B),_xlfn.XMATCH($B$2,'Talnagögn | Numerical Data'!$1:$1))-1} -> -0.078319526 | AL13: {=INDEX('Talnagögn | Numerical Data'!$1:$1048576,_xlfn.XMATCH($B13,'Talnagögn | Numerical Data'!$C:$C),_xlfn.XMATCH($B$5,'Talnagögn | Numerical Data'!$1:$1))-INDEX('Talnagögn | Numerical Data'!$1:$1048576,_xlfn.XMATCH($A13,'Talnagögn | Numerical Data'!$B:$B),_xlfn.XMATCH($B$1,'Talnagögn | Numerical Data'!$1:$1))} -> -3520.1733 | AM13: {=INDEX('Talnagögn | Numerical Data'!$1:$1048576,_xlfn.XMATCH($B13,'Talnagögn | Numerical Data'!$C:$C),_xlfn.XMATCH($B$5,'Talnagögn | Numerical Data'!$1:$1))/INDEX('Talnagögn | Numerical Data'!$1:$1048576,_xlfn.XMATCH($A13,'Talnagögn | Numerical Data'!$B:$B),_xlfn.XMATCH($B$1,'Talnagögn | Numerical Data'!$1:$1))-1} -> -0.3396042
E16: LOSUN ÍSLANDS ÁN LOSUNAR FRÁ LANDNOTKUN | O16: LOSUN ÍSLANDS ÁN LOSUNAR FRÁ LANDNOTKUN | Y16: ICELAND'S EMISSIONS EXCLUDING LULUCF | AI16: ICELAND'S EMISSIONS EXCLUDING LULUCF
E17: =$E$5 -> STAÐAN ÁRIÐ 2025 | O17: =$O$5 -> FRAMTÍÐARHORFUR | P17: =$P$5 -> Áætluð breyting í losun út frá sviðsmynd byggð á aðgerðum stjórvalda | Y17: =$Y$5 -> 2025 EMISSIONS | AI17: =$AI$5 -> OUTLOOKS | AJ17: =$AJ$5 -> Estimated change in emissions based on government policy-based scenario
F18: ="Losun "&$A$1 -> Losun 2025 | H18: ="Breyting frá "&$B$3 -> Breyting frá 2024 | J18: ="Breyting frá "&$B$2 -> Breyting frá 2005 | L18: ="Breyting frá "&$B$1 -> Breyting frá 1990 | P18: Milli 2005 og 2030 | R18: Milli 1990 og 2055 | Z18: =$Z$6 -> Emissions in 2025 | AB18: =$AB$6 -> Change from 2024 | AD18: =$AD$6 -> Change from 2005 | AF18: =$AF$6 -> Change from 1990 | AJ18: =$AJ$6 -> 2030 compared to 2005 | AL18: =$AL$6 -> 2055 compared to 1990
F19: Þús. tonn CO₂-íg. | G19: % | H19: =$F$7 -> Þús. tonn CO₂-íg. | I19: % | J19: =$F$7 -> Þús. tonn CO₂-íg. | K19: % | L19: =$F$7 -> Þús. tonn CO₂-íg. | M19: % | P19: =$F$7 -> Þús. tonn CO₂-íg. | Q19: % | R19: =$F$7 -> Þús. tonn CO₂-íg. | S19: % | Z19: =$Z$7 -> Thousand tons CO₂e | AA19: % | AB19: =$Z$7 -> Thousand tons CO₂e | AC19: % | AD19: =$F$7 -> Þús. tonn CO₂-íg. | AE19: % | AF19: =$Z$7 -> Thousand tons CO₂e | AG19: % | AJ19: =$Z$7 -> Thousand tons CO₂e | AK19: % | AL19: =$Z$7 -> Thousand tons CO₂e | AM19: %
A20: 1. Energykt CO2-eq | B20: 1. Energykt CO2-eq WEM | C20: 1. Energykt CO2-eq WAM | E20: Orka | F20: {=INDEX('Talnagögn | Numerical Data'!$1:$1048576,_xlfn.XMATCH($A20,'Talnagögn | Numerical Data'!$B:$B),_xlfn.XMATCH($A$1,'Talnagögn | Numerical Data'!$1:$1))} -> 1804.0629 | G20: =$F20/$F$24 -> 0.40184812 | H20: {=INDEX('Talnagögn | Numerical Data'!$1:$1048576,_xlfn.XMATCH($A20,'Talnagögn | Numerical Data'!$B:$B),_xlfn.XMATCH($A$1,'Talnagögn | Numerical Data'!$1:$1))-INDEX('Talnagögn | Numerical Data'!$1:$1048576,_xlfn.XMATCH($A20,'Talnagögn | Numerical Data'!$B:$B),_xlfn.XMATCH($B$3,'Talnagögn | Numerical Data'!$1:$1))} -> -62.41735 | I20: {=INDEX('Talnagögn | Numerical Data'!$1:$1048576,_xlfn.XMATCH($A20,'Talnagögn | Numerical Data'!$B:$B),_xlfn.XMATCH($A$1,'Talnagögn | Numerical Data'!$1:$1))/INDEX('Talnagögn | Numerical Data'!$1:$1048576,_xlfn.XMATCH($A20,'Talnagögn | Numerical Data'!$B:$B),_xlfn.XMATCH($B$3,'Talnagögn | Numerical Data'!$1:$1))-1} -> -0.033441205 | J20: {=INDEX('Talnagögn | Numerical Data'!$1:$1048576,_xlfn.XMATCH($A20,'Talnagögn | Numerical Data'!$B:$B),_xlfn.XMATCH($A$1,'Talnagögn | Numerical Data'!$1:$1))-INDEX('Talnagögn | Numerical Data'!$1:$1048576,_xlfn.XMATCH($A20,'Talnagögn | Numerical Data'!$B:$B),_xlfn.XMATCH($B$2,'Talnagögn | Numerical Data'!$1:$1))} -> -352.27133 | K20: {=INDEX('Talnagögn | Numerical Data'!$1:$1048576,_xlfn.XMATCH($A20,'Talnagögn | Numerical Data'!$B:$B),_xlfn.XMATCH($A$1,'Talnagögn | Numerical Data'!$1:$1))/INDEX('Talnagögn | Numerical Data'!$1:$1048576,_xlfn.XMATCH($A20,'Talnagögn | Numerical Data'!$B:$B),_xlfn.XMATCH($B$2,'Talnagögn | Numerical Data'!$1:$1))-1} -> -0.16336583 | L20: {=INDEX('Talnagögn | Numerical Data'!$1:$1048576,_xlfn.XMATCH($A20,'Talnagögn | Numerical Data'!$B:$B),_xlfn.XMATCH($A$1,'Talnagögn | Numerical Data'!$1:$1))-INDEX('Talnagögn | Numerical Data'!$1:$1048576,_xlfn.XMATCH($A20,'Talnagögn | Numerical Data'!$B:$B),_xlfn.XMATCH($B$1,'Talnagögn | Numerical Data'!$1:$1))} -> -36.50389 | M20: {=INDEX('Talnagögn | Numerical Data'!$1:$1048576,_xlfn.XMATCH($A20,'Talnagögn | Numerical Data'!$B:$B),_xlfn.XMATCH($A$1,'Talnagögn | Numerical Data'!$1:$1))/INDEX('Talnagögn | Numerical Data'!$1:$1048576,_xlfn.XMATCH($A20,'Talnagögn | Numerical Data'!$B:$B),_xlfn.XMATCH($B$1,'Talnagögn | Numerical Data'!$1:$1))-1} -> -0.019832961 | O20: Orka | P20: {=INDEX('Talnagögn | Numerical Data'!$1:$1048576,_xlfn.XMATCH($B20,'Talnagögn | Numerical Data'!$C:$C),_xlfn.XMATCH($B$4,'Talnagögn | Numerical Data'!$1:$1))-INDEX('Talnagögn | Numerical Data'!$1:$1048576,_xlfn.XMATCH($A20,'Talnagögn | Numerical Data'!$B:$B),_xlfn.XMATCH($B$2,'Talnagögn | Numerical Data'!$1:$1))} -> -540.39631 | Q20: {=INDEX('Talnagögn | Numerical Data'!$1:$1048576,_xlfn.XMATCH($B20,'Talnagögn | Numerical Data'!$C:$C),_xlfn.XMATCH($B$4,'Talnagögn | Numerical Data'!$1:$1))/INDEX('Talnagögn | Numerical Data'!$1:$1048576,_xlfn.XMATCH($A20,'Talnagögn | Numerical Data'!$B:$B),_xlfn.XMATCH($B$2,'Talnagögn | Numerical Data'!$1:$1))-1} -> -0.25060879 | R20: {=INDEX('Talnagögn | Numerical Data'!$1:$1048576,_xlfn.XMATCH($B20,'Talnagögn | Numerical Data'!$C:$C),_xlfn.XMATCH($B$5,'Talnagögn | Numerical Data'!$1:$1))-INDEX('Talnagögn | Numerical Data'!$1:$1048576,_xlfn.XMATCH($A20,'Talnagögn | Numerical Data'!$B:$B),_xlfn.XMATCH($B$1,'Talnagögn | Numerical Data'!$1:$1))} -> -1395.6457 | S20: {=INDEX('Talnagögn | Numerical Data'!$1:$1048576,_xlfn.XMATCH($B20,'Talnagögn | Numerical Data'!$C:$C),_xlfn.XMATCH($B$5,'Talnagögn | Numerical Data'!$1:$1))/INDEX('Talnagögn | Numerical Data'!$1:$1048576,_xlfn.XMATCH($A20,'Talnagögn | Numerical Data'!$B:$B),_xlfn.XMATCH($B$1,'Talnagögn | Numerical Data'!$1:$1))-1} -> -0.75826948 | Y20: ='Talnagögn | Numerical Data'!$G$6 -> Energy | Z20: {=INDEX('Talnagögn | Numerical Data'!$1:$1048576,_xlfn.XMATCH($A20,'Talnagögn | Numerical Data'!$B:$B),_xlfn.XMATCH($A$1,'Talnagögn | Numerical Data'!$1:$1))} -> 1804.0629 | AA20: =$F20/$F$24 -> 0.40184812 | AB20: {=INDEX('Talnagögn | Numerical Data'!$1:$1048576,_xlfn.XMATCH($A20,'Talnagögn | Numerical Data'!$B:$B),_xlfn.XMATCH($A$1,'Talnagögn | Numerical Data'!$1:$1))-INDEX('Talnagögn | Numerical Data'!$1:$1048576,_xlfn.XMATCH($A20,'Talnagögn | Numerical Data'!$B:$B),_xlfn.XMATCH($B$3,'Talnagögn | Numerical Data'!$1:$1))} -> -62.41735 | AC20: {=INDEX('Talnagögn | Numerical Data'!$1:$1048576,_xlfn.XMATCH($A20,'Talnagögn | Numerical Data'!$B:$B),_xlfn.XMATCH($A$1,'Talnagögn | Numerical Data'!$1:$1))/INDEX('Talnagögn | Numerical Data'!$1:$1048576,_xlfn.XMATCH($A20,'Talnagögn | Numerical Data'!$B:$B),_xlfn.XMATCH($B$3,'Talnagögn | Numerical Data'!$1:$1))-1} -> -0.033441205 | AD20: {=INDEX('Talnagögn | Numerical Data'!$1:$1048576,_xlfn.XMATCH($A20,'Talnagögn | Numerical Data'!$B:$B),_xlfn.XMATCH($A$1,'Talnagögn | Numerical Data'!$1:$1))-INDEX('Talnagögn | Numerical Data'!$1:$1048576,_xlfn.XMATCH($A20,'Talnagögn | Numerical Data'!$B:$B),_xlfn.XMATCH($B$2,'Talnagögn | Numerical Data'!$1:$1))} -> -352.27133 | AE20: {=INDEX('Talnagögn | Numerical Data'!$1:$1048576,_xlfn.XMATCH($A20,'Talnagögn | Numerical Data'!$B:$B),_xlfn.XMATCH($A$1,'Talnagögn | Numerical Data'!$1:$1))/INDEX('Talnagögn | Numerical Data'!$1:$1048576,_xlfn.XMATCH($A20,'Talnagögn | Numerical Data'!$B:$B),_xlfn.XMATCH($B$2,'Talnagögn | Numerical Data'!$1:$1))-1} -> -0.16336583 | AF20: {=INDEX('Talnagögn | Numerical Data'!$1:$1048576,_xlfn.XMATCH($A20,'Talnagögn | Numerical Data'!$B:$B),_xlfn.XMATCH($A$1,'Talnagögn | Numerical Data'!$1:$1))-INDEX('Talnagögn | Numerical Data'!$1:$1048576,_xlfn.XMATCH($A20,'Talnagögn | Numerical Data'!$B:$B),_xlfn.XMATCH($B$1,'Talnagögn | Numerical Data'!$1:$1))} -> -36.50389 | AG20: {=INDEX('Talnagögn | Numerical Data'!$1:$1048576,_xlfn.XMATCH($A20,'Talnagögn | Numerical Data'!$B:$B),_xlfn.XMATCH($A$1,'Talnagögn | Numerical Data'!$1:$1))/INDEX('Talnagögn | Numerical Data'!$1:$1048576,_xlfn.XMATCH($A20,'Talnagögn | Numerical Data'!$B:$B),_xlfn.XMATCH($B$1,'Talnagögn | Numerical Data'!$1:$1))-1} -> -0.019832961 | AI20: ='Talnagögn | Numerical Data'!$G$6 -> Energy | AJ20: {=INDEX('Talnagögn | Numerical Data'!$1:$1048576,_xlfn.XMATCH($B20,'Talnagögn | Numerical Data'!$C:$C),_xlfn.XMATCH($B$4,'Talnagögn | Numerical Data'!$1:$1))-INDEX('Talnagögn | Numerical Data'!$1:$1048576,_xlfn.XMATCH($A20,'Talnagögn | Numerical Data'!$B:$B),_xlfn.XMATCH($B$2,'Talnagögn | Numerical Data'!$1:$1))} -> -540.39631 | AK20: {=INDEX('Talnagögn | Numerical Data'!$1:$1048576,_xlfn.XMATCH($B20,'Talnagögn | Numerical Data'!$C:$C),_xlfn.XMATCH($B$4,'Talnagögn | Numerical Data'!$1:$1))/INDEX('Talnagögn | Numerical Data'!$1:$1048576,_xlfn.XMATCH($A20,'Talnagögn | Numerical Data'!$B:$B),_xlfn.XMATCH($B$2,'Talnagögn | Numerical Data'!$1:$1))-1} -> -0.25060879 | AL20: {=INDEX('Talnagögn | Numerical Data'!$1:$1048576,_xlfn.XMATCH($B20,'Talnagögn | Numerical Data'!$C:$C),_xlfn.XMATCH($B$5,'Talnagögn | Numerical Data'!$1:$1))-INDEX('Talnagögn | Numerical Data'!$1:$1048576,_xlfn.XMATCH($A20,'Talnagögn | Numerical Data'!$B:$B),_xlfn.XMATCH($B$1,'Talnagögn | Numerical Data'!$1:$1))} -> -1395.6457 | AM20: {=INDEX('Talnagögn | Numerical Data'!$1:$1048576,_xlfn.XMATCH($B20,'Talnagögn | Numerical Data'!$C:$C),_xlfn.XMATCH($B$5,'Talnagögn | Numerical Data'!$1:$1))/INDEX('Talnagögn | Numerical Data'!$1:$1048576,_xlfn.XMATCH($A20,'Talnagögn | Numerical Data'!$B:$B),_xlfn.XMATCH($B$1,'Talnagögn | Numerical Data'!$1:$1))-1} -> -0.75826948
A21: 2. Industrial processes and product usekt CO2-eq | B21: 2. Industrial processes and product usekt CO2-eq WEM | C21: 2. Industrial processes and product usekt CO2-eq WAM | E21: Iðnaður og vörunotkun | F21: {=INDEX('Talnagögn | Numerical Data'!$1:$1048576,_xlfn.XMATCH($A21,'Talnagögn | Numerical Data'!$B:$B),_xlfn.XMATCH($A$1,'Talnagögn | Numerical Data'!$1:$1))} -> 1794.4196 | G21: =$F21/$F$24 -> 0.39970011 | H21: {=INDEX('Talnagögn | Numerical Data'!$1:$1048576,_xlfn.XMATCH($A21,'Talnagögn | Numerical Data'!$B:$B),_xlfn.XMATCH($A$1,'Talnagögn | Numerical Data'!$1:$1))-INDEX('Talnagögn | Numerical Data'!$1:$1048576,_xlfn.XMATCH($A21,'Talnagögn | Numerical Data'!$B:$B),_xlfn.XMATCH($B$3,'Talnagögn | Numerical Data'!$1:$1))} -> -213.05032 | I21: {=INDEX('Talnagögn | Numerical Data'!$1:$1048576,_xlfn.XMATCH($A21,'Talnagögn | Numerical Data'!$B:$B),_xlfn.XMATCH($A$1,'Talnagögn | Numerical Data'!$1:$1))/INDEX('Talnagögn | Numerical Data'!$1:$1048576,_xlfn.XMATCH($A21,'Talnagögn | Numerical Data'!$B:$B),_xlfn.XMATCH($B$3,'Talnagögn | Numerical Data'!$1:$1))-1} -> -0.10612877 | J21: {=INDEX('Talnagögn | Numerical Data'!$1:$1048576,_xlfn.XMATCH($A21,'Talnagögn | Numerical Data'!$B:$B),_xlfn.XMATCH($A$1,'Talnagögn | Numerical Data'!$1:$1))-INDEX('Talnagögn | Numerical Data'!$1:$1048576,_xlfn.XMATCH($A21,'Talnagögn | Numerical Data'!$B:$B),_xlfn.XMATCH($B$2,'Talnagögn | Numerical Data'!$1:$1))} -> 843.51732 | K21: {=INDEX('Talnagögn | Numerical Data'!$1:$1048576,_xlfn.XMATCH($A21,'Talnagögn | Numerical Data'!$B:$B),_xlfn.XMATCH($A$1,'Talnagögn | Numerical Data'!$1:$1))/INDEX('Talnagögn | Numerical Data'!$1:$1048576,_xlfn.XMATCH($A21,'Talnagögn | Numerical Data'!$B:$B),_xlfn.XMATCH($B$2,'Talnagögn | Numerical Data'!$1:$1))-1} -> 0.88707041 | L21: {=INDEX('Talnagögn | Numerical Data'!$1:$1048576,_xlfn.XMATCH($A21,'Talnagögn | Numerical Data'!$B:$B),_xlfn.XMATCH($A$1,'Talnagögn | Numerical Data'!$1:$1))-INDEX('Talnagögn | Numerical Data'!$1:$1048576,_xlfn.XMATCH($A21,'Talnagögn | Numerical Data'!$B:$B),_xlfn.XMATCH($B$1,'Talnagögn | Numerical Data'!$1:$1))} -> 892.24506 | M21: {=INDEX('Talnagögn | Numerical Data'!$1:$1048576,_xlfn.XMATCH($A21,'Talnagögn | Numerical Data'!$B:$B),_xlfn.XMATCH($A$1,'Talnagögn | Numerical Data'!$1:$1))/INDEX('Talnagögn | Numerical Data'!$1:$1048576,_xlfn.XMATCH($A21,'Talnagögn | Numerical Data'!$B:$B),_xlfn.XMATCH($B$1,'Talnagögn | Numerical Data'!$1:$1))-1} -> 0.98899378 | O21: Iðnaður og vörunotkun | P21: {=INDEX('Talnagögn | Numerical Data'!$1:$1048576,_xlfn.XMATCH($B21,'Talnagögn | Numerical Data'!$C:$C),_xlfn.XMATCH($B$4,'Talnagögn | Numerical Data'!$1:$1))-INDEX('Talnagögn | Numerical Data'!$1:$1048576,_xlfn.XMATCH($A21,'Talnagögn | Numerical Data'!$B:$B),_xlfn.XMATCH($B$2,'Talnagögn | Numerical Data'!$1:$1))} -> 1018.8195 | Q21: {=INDEX('Talnagögn | Numerical Data'!$1:$1048576,_xlfn.XMATCH($B21,'Talnagögn | Numerical Data'!$C:$C),_xlfn.XMATCH($B$4,'Talnagögn | Numerical Data'!$1:$1))/INDEX('Talnagögn | Numerical Data'!$1:$1048576,_xlfn.XMATCH($A21,'Talnagögn | Numerical Data'!$B:$B),_xlfn.XMATCH($B$2,'Talnagögn | Numerical Data'!$1:$1))-1} -> 1.0714239 | R21: {=INDEX('Talnagögn | Numerical Data'!$1:$1048576,_xlfn.XMATCH($B21,'Talnagögn | Numerical Data'!$C:$C),_xlfn.XMATCH($B$5,'Talnagögn | Numerical Data'!$1:$1))-INDEX('Talnagögn | Numerical Data'!$1:$1048576,_xlfn.XMATCH($A21,'Talnagögn | Numerical Data'!$B:$B),_xlfn.XMATCH($B$1,'Talnagögn | Numerical Data'!$1:$1))} -> 1050.2148 | S21: {=INDEX('Talnagögn | Numerical Data'!$1:$1048576,_xlfn.XMATCH($B21,'Talnagögn | Numerical Data'!$C:$C),_xlfn.XMATCH($B$5,'Talnagögn | Numerical Data'!$1:$1))/INDEX('Talnagögn | Numerical Data'!$1:$1048576,_xlfn.XMATCH($A21,'Talnagögn | Numerical Data'!$B:$B),_xlfn.XMATCH($B$1,'Talnagögn | Numerical Data'!$1:$1))-1} -> 1.1640926 | Y21: ='Talnagögn | Numerical Data'!$G$7 -> Industrial Processes and Product Use | Z21: {=INDEX('Talnagögn | Numerical Data'!$1:$1048576,_xlfn.XMATCH($A21,'Talnagögn | Numerical Data'!$B:$B),_xlfn.XMATCH($A$1,'Talnagögn | Numerical Data'!$1:$1))} -> 1794.4196 | AA21: =$F21/$F$24 -> 0.39970011 | AB21: {=INDEX('Talnagögn | Numerical Data'!$1:$1048576,_xlfn.XMATCH($A21,'Talnagögn | Numerical Data'!$B:$B),_xlfn.XMATCH($A$1,'Talnagögn | Numerical Data'!$1:$1))-INDEX('Talnagögn | Numerical Data'!$1:$1048576,_xlfn.XMATCH($A21,'Talnagögn | Numerical Data'!$B:$B),_xlfn.XMATCH($B$3,'Talnagögn | Numerical Data'!$1:$1))} -> -213.05032 | AC21: {=INDEX('Talnagögn | Numerical Data'!$1:$1048576,_xlfn.XMATCH($A21,'Talnagögn | Numerical Data'!$B:$B),_xlfn.XMATCH($A$1,'Talnagögn | Numerical Data'!$1:$1))/INDEX('Talnagögn | Numerical Data'!$1:$1048576,_xlfn.XMATCH($A21,'Talnagögn | Numerical Data'!$B:$B),_xlfn.XMATCH($B$3,'Talnagögn | Numerical Data'!$1:$1))-1} -> -0.10612877 | AD21: {=INDEX('Talnagögn | Numerical Data'!$1:$1048576,_xlfn.XMATCH($A21,'Talnagögn | Numerical Data'!$B:$B),_xlfn.XMATCH($A$1,'Talnagögn | Numerical Data'!$1:$1))-INDEX('Talnagögn | Numerical Data'!$1:$1048576,_xlfn.XMATCH($A21,'Talnagögn | Numerical Data'!$B:$B),_xlfn.XMATCH($B$2,'Talnagögn | Numerical Data'!$1:$1))} -> 843.51732 | AE21: {=INDEX('Talnagögn | Numerical Data'!$1:$1048576,_xlfn.XMATCH($A21,'Talnagögn | Numerical Data'!$B:$B),_xlfn.XMATCH($A$1,'Talnagögn | Numerical Data'!$1:$1))/INDEX('Talnagögn | Numerical Data'!$1:$1048576,_xlfn.XMATCH($A21,'Talnagögn | Numerical Data'!$B:$B),_xlfn.XMATCH($B$2,'Talnagögn | Numerical Data'!$1:$1))-1} -> 0.88707041 | AF21: {=INDEX('Talnagögn | Numerical Data'!$1:$1048576,_xlfn.XMATCH($A21,'Talnagögn | Numerical Data'!$B:$B),_xlfn.XMATCH($A$1,'Talnagögn | Numerical Data'!$1:$1))-INDEX('Talnagögn | Numerical Data'!$1:$1048576,_xlfn.XMATCH($A21,'Talnagögn | Numerical Data'!$B:$B),_xlfn.XMATCH($B$1,'Talnagögn | Numerical Data'!$1:$1))} -> 892.24506 | AG21: {=INDEX('Talnagögn | Numerical Data'!$1:$1048576,_xlfn.XMATCH($A21,'Talnagögn | Numerical Data'!$B:$B),_xlfn.XMATCH($A$1,'Talnagögn | Numerical Data'!$1:$1))/INDEX('Talnagögn | Numerical Data'!$1:$1048576,_xlfn.XMATCH($A21,'Talnagögn | Numerical Data'!$B:$B),_xlfn.XMATCH($B$1,'Talnagögn | Numerical Data'!$1:$1))-1} -> 0.98899378 | AI21: ='Talnagögn | Numerical Data'!$G$7 -> Industrial Processes and Product Use | AJ21: {=INDEX('Talnagögn | Numerical Data'!$1:$1048576,_xlfn.XMATCH($B21,'Talnagögn | Numerical Data'!$C:$C),_xlfn.XMATCH($B$4,'Talnagögn | Numerical Data'!$1:$1))-INDEX('Talnagögn | Numerical Data'!$1:$1048576,_xlfn.XMATCH($A21,'Talnagögn | Numerical Data'!$B:$B),_xlfn.XMATCH($B$2,'Talnagögn | Numerical Data'!$1:$1))} -> 1018.8195 | AK21: {=INDEX('Talnagögn | Numerical Data'!$1:$1048576,_xlfn.XMATCH($B21,'Talnagögn | Numerical Data'!$C:$C),_xlfn.XMATCH($B$4,'Talnagögn | Numerical Data'!$1:$1))/INDEX('Talnagögn | Numerical Data'!$1:$1048576,_xlfn.XMATCH($A21,'Talnagögn | Numerical Data'!$B:$B),_xlfn.XMATCH($B$2,'Talnagögn | Numerical Data'!$1:$1))-1} -> 1.0714239 | AL21: {=INDEX('Talnagögn | Numerical Data'!$1:$1048576,_xlfn.XMATCH($B21,'Talnagögn | Numerical Data'!$C:$C),_xlfn.XMATCH($B$5,'Talnagögn | Numerical Data'!$1:$1))-INDEX('Talnagögn | Numerical Data'!$1:$1048576,_xlfn.XMATCH($A21,'Talnagögn | Numerical Data'!$B:$B),_xlfn.XMATCH($B$1,'Talnagögn | Numerical Data'!$1:$1))} -> 1050.2148 | AM21: {=INDEX('Talnagögn | Numerical Data'!$1:$1048576,_xlfn.XMATCH($B21,'Talnagögn | Numerical Data'!$C:$C),_xlfn.XMATCH($B$5,'Talnagögn | Numerical Data'!$1:$1))/INDEX('Talnagögn | Numerical Data'!$1:$1048576,_xlfn.XMATCH($A21,'Talnagögn | Numerical Data'!$B:$B),_xlfn.XMATCH($B$1,'Talnagögn | Numerical Data'!$1:$1))-1} -> 1.1640926
